BEGIN:VCALENDAR
VERSION:2.0
PRODID:-//Golden Sierra Job Training Agency - ECPv6.15.20//NONSGML v1.0//EN
CALSCALE:GREGORIAN
METHOD:PUBLISH
X-WR-CALNAME:Golden Sierra Job Training Agency
X-ORIGINAL-URL:https://goldensierra.com
X-WR-CALDESC:Events for Golden Sierra Job Training Agency
REFRESH-INTERVAL;VALUE=DURATION:PT1H
X-Robots-Tag:noindex
X-PUBLISHED-TTL:PT1H
BEGIN:VTIMEZONE
TZID:America/Los_Angeles
BEGIN:DAYLIGHT
TZOFFSETFROM:-0800
TZOFFSETTO:-0700
TZNAME:PDT
DTSTART:20240310T100000
END:DAYLIGHT
BEGIN:STANDARD
TZOFFSETFROM:-0700
TZOFFSETTO:-0800
TZNAME:PST
DTSTART:20241103T090000
END:STANDARD
BEGIN:DAYLIGHT
TZOFFSETFROM:-0800
TZOFFSETTO:-0700
TZNAME:PDT
DTSTART:20250309T100000
END:DAYLIGHT
BEGIN:STANDARD
TZOFFSETFROM:-0700
TZOFFSETTO:-0800
TZNAME:PST
DTSTART:20251102T090000
END:STANDARD
BEGIN:DAYLIGHT
TZOFFSETFROM:-0800
TZOFFSETTO:-0700
TZNAME:PDT
DTSTART:20260308T100000
END:DAYLIGHT
BEGIN:STANDARD
TZOFFSETFROM:-0700
TZOFFSETTO:-0800
TZNAME:PST
DTSTART:20261101T090000
END:STANDARD
END:VTIMEZONE
BEGIN:VEVENT
DTSTART;TZID=America/Los_Angeles:20251007T100000
DTEND;TZID=America/Los_Angeles:20251007T160000
DTSTAMP:20260423T123529
CREATED:20251002T205006Z
LAST-MODIFIED:20251002T205405Z
UID:10004209-1759831200-1759852800@goldensierra.com
SUMMARY:Workforce Development Board-Retreat
DESCRIPTION:WDB “Special” Meeting – Strategic Planning Retreat\nLynn MacDonald Professional Development Center\n@ Placer School for Adults\n3775 Richardson Blvd.\nAuburn\, CA 95602 \nDownload Agenda
URL:https://goldensierra.com/event/workforce-development-board-retreat
LOCATION:Placer School for Adults\, 3775 Richardson Drive\, Auburn\, CA\, 95602\, United States
CATEGORIES:Public Meeting,Workforce Board
GEO:38.9522687;-121.1078849
X-APPLE-STRUCTURED-LOCATION;VALUE=URI;X-ADDRESS=Placer School for Adults 3775 Richardson Drive Auburn CA 95602 United States;X-APPLE-RADIUS=500;X-TITLE=3775 Richardson Drive:geo:-121.1078849,38.9522687
END:VEVENT
BEGIN:VEVENT
DTSTART;TZID=America/Los_Angeles:20251030T140000
DTEND;TZID=America/Los_Angeles:20251030T150000
DTSTAMP:20260423T123529
CREATED:20251023T195655Z
LAST-MODIFIED:20251029T211142Z
UID:10004496-1761832800-1761836400@goldensierra.com
SUMMARY:Executive Committee-Special Meeting
DESCRIPTION:“Special” Meeting – WDB Membership \nAgenda Packet \nThe Executive Committee of the Workforce Development Board conducts public meetings and makes recommendations to the full board. Meeting agendas\, minutes\, reports\, and historical materials are available for review. \nMore Information – link text to https://goldensierra.com/workforce-board
URL:https://goldensierra.com/event/executive-committee-special-meeting-2
CATEGORIES:Executive Committee,Public Meeting
END:VEVENT
END:VCALENDAR