BEGIN:VCALENDAR
VERSION:2.0
PRODID:-//Golden Sierra Job Training Agency - ECPv6.15.20//NONSGML v1.0//EN
CALSCALE:GREGORIAN
METHOD:PUBLISH
X-WR-CALNAME:Golden Sierra Job Training Agency
X-ORIGINAL-URL:https://goldensierra.com
X-WR-CALDESC:Events for Golden Sierra Job Training Agency
REFRESH-INTERVAL;VALUE=DURATION:PT1H
X-Robots-Tag:noindex
X-PUBLISHED-TTL:PT1H
BEGIN:VTIMEZONE
TZID:America/Los_Angeles
BEGIN:DAYLIGHT
TZOFFSETFROM:-0800
TZOFFSETTO:-0700
TZNAME:PDT
DTSTART:20230312T100000
END:DAYLIGHT
BEGIN:STANDARD
TZOFFSETFROM:-0700
TZOFFSETTO:-0800
TZNAME:PST
DTSTART:20231105T090000
END:STANDARD
BEGIN:DAYLIGHT
TZOFFSETFROM:-0800
TZOFFSETTO:-0700
TZNAME:PDT
DTSTART:20240310T100000
END:DAYLIGHT
BEGIN:STANDARD
TZOFFSETFROM:-0700
TZOFFSETTO:-0800
TZNAME:PST
DTSTART:20241103T090000
END:STANDARD
BEGIN:DAYLIGHT
TZOFFSETFROM:-0800
TZOFFSETTO:-0700
TZNAME:PDT
DTSTART:20250309T100000
END:DAYLIGHT
BEGIN:STANDARD
TZOFFSETFROM:-0700
TZOFFSETTO:-0800
TZNAME:PST
DTSTART:20251102T090000
END:STANDARD
BEGIN:DAYLIGHT
TZOFFSETFROM:-0800
TZOFFSETTO:-0700
TZNAME:PDT
DTSTART:20260308T100000
END:DAYLIGHT
BEGIN:STANDARD
TZOFFSETFROM:-0700
TZOFFSETTO:-0800
TZNAME:PST
DTSTART:20261101T090000
END:STANDARD
END:VTIMEZONE
BEGIN:VEVENT
DTSTART;TZID=America/Los_Angeles:20250124T100000
DTEND;TZID=America/Los_Angeles:20250124T120000
DTSTAMP:20260421T070854
CREATED:20241128T003954Z
LAST-MODIFIED:20250122T002500Z
UID:10003653-1737712800-1737720000@goldensierra.com
SUMMARY:Governing Body Meeting
DESCRIPTION:
URL:https://goldensierra.com/event/governing-body-meeting
LOCATION:America’s Job Center of California – Roseville\, 115 Ascot Drive Ste. 100\, Roseville\, CA\, 95661\, United States
CATEGORIES:Governing Body,Public Meeting
GEO:38.742436;-121.26857
X-APPLE-STRUCTURED-LOCATION;VALUE=URI;X-ADDRESS=America’s Job Center of California – Roseville 115 Ascot Drive Ste. 100 Roseville CA 95661 United States;X-APPLE-RADIUS=500;X-TITLE=115 Ascot Drive Ste. 100:geo:-121.26857,38.742436
END:VEVENT
BEGIN:VEVENT
DTSTART;TZID=America/Los_Angeles:20250123T130000
DTEND;TZID=America/Los_Angeles:20250123T150000
DTSTAMP:20260421T070854
CREATED:20241128T003911Z
LAST-MODIFIED:20250122T002528Z
UID:10003652-1737637200-1737644400@goldensierra.com
SUMMARY:Workforce Board Meeting
DESCRIPTION:
URL:https://goldensierra.com/event/workforce-board-meeting-2
LOCATION:Roseville Chamber of Commerce\, 650 Douglas Blvd.\, Roseville\, CA\, 95678\, United States
CATEGORIES:Public Meeting,Workforce Board
GEO:38.743532;-121.284286
X-APPLE-STRUCTURED-LOCATION;VALUE=URI;X-ADDRESS=Roseville Chamber of Commerce 650 Douglas Blvd. Roseville CA 95678 United States;X-APPLE-RADIUS=500;X-TITLE=650 Douglas Blvd.:geo:-121.284286,38.743532
END:VEVENT
BEGIN:VEVENT
DTSTART;TZID=America/Los_Angeles:20250123T120000
DTEND;TZID=America/Los_Angeles:20250123T130000
DTSTAMP:20260421T070854
CREATED:20241128T003817Z
LAST-MODIFIED:20250122T002918Z
UID:10003651-1737633600-1737637200@goldensierra.com
SUMMARY:Executive Committee Meeting
DESCRIPTION:
URL:https://goldensierra.com/event/executive-committee-meeting-2
LOCATION:Roseville Chamber of Commerce\, 650 Douglas Blvd.\, Roseville\, CA\, 95678\, United States
CATEGORIES:Executive Committee,Public Meeting
GEO:38.743532;-121.284286
X-APPLE-STRUCTURED-LOCATION;VALUE=URI;X-ADDRESS=Roseville Chamber of Commerce 650 Douglas Blvd. Roseville CA 95678 United States;X-APPLE-RADIUS=500;X-TITLE=650 Douglas Blvd.:geo:-121.284286,38.743532
END:VEVENT
BEGIN:VEVENT
DTSTART;TZID=America/Los_Angeles:20241211T163000
DTEND;TZID=America/Los_Angeles:20241211T183000
DTSTAMP:20260421T070854
CREATED:20241115T004203Z
LAST-MODIFIED:20241115T004203Z
UID:10003645-1733934600-1733941800@goldensierra.com
SUMMARY:Regional Plan: Community Input Session
DESCRIPTION:The Capital Region Workforce Boards invite you to join the discussion. Your participation and input is critical to developing a regional plan that is responsive to the needs of our communities. \nFlyer – Capital Region Public Input Sessions
URL:https://goldensierra.com/event/regional-plan-community-input-session-2
LOCATION:YoloWorks!\, North Cottonwood Street 25\, Woodland\, California\, 95695\, United States
CATEGORIES:Community Event,Public Meeting
GEO:38.6860897;-121.7942023
X-APPLE-STRUCTURED-LOCATION;VALUE=URI;X-ADDRESS=YoloWorks! North Cottonwood Street 25 Woodland California 95695 United States;X-APPLE-RADIUS=500;X-TITLE=North Cottonwood Street 25:geo:-121.7942023,38.6860897
END:VEVENT
BEGIN:VEVENT
DTSTART;TZID=America/Los_Angeles:20241205T100000
DTEND;TZID=America/Los_Angeles:20241205T120000
DTSTAMP:20260421T070854
CREATED:20241128T002815Z
LAST-MODIFIED:20241128T002949Z
UID:10003650-1733392800-1733400000@goldensierra.com
SUMMARY:Governing Body Meeting
DESCRIPTION:Agenda Packet
URL:https://goldensierra.com/event/governing-body
LOCATION:America’s Job Center of California – Roseville\, 115 Ascot Drive Ste. 100\, Roseville\, CA\, 95661\, United States
CATEGORIES:Governing Body
GEO:38.742436;-121.26857
X-APPLE-STRUCTURED-LOCATION;VALUE=URI;X-ADDRESS=America’s Job Center of California – Roseville 115 Ascot Drive Ste. 100 Roseville CA 95661 United States;X-APPLE-RADIUS=500;X-TITLE=115 Ascot Drive Ste. 100:geo:-121.26857,38.742436
END:VEVENT
BEGIN:VEVENT
DTSTART;TZID=America/Los_Angeles:20241204T170000
DTEND;TZID=America/Los_Angeles:20241204T190000
DTSTAMP:20260421T070854
CREATED:20241115T004027Z
LAST-MODIFIED:20241115T004027Z
UID:10003644-1733331600-1733338800@goldensierra.com
SUMMARY:Regional Plan: Community Input Session
DESCRIPTION:The Capital Region Workforce Boards invite you to join the discussion. Your participation and input is critical to developing a regional plan that is responsive to the needs of our communities. \nFlyer – Capital Region Public Input Sessions
URL:https://goldensierra.com/event/regional-plan-community-input-session
LOCATION:Sacramento Employment and Training Agency\, 925 Del Paso Boulevard\, Sacramento\, CA\, 95815\, United States
CATEGORIES:Community Event,Public Meeting
GEO:38.6029735;-121.4669969
X-APPLE-STRUCTURED-LOCATION;VALUE=URI;X-ADDRESS=Sacramento Employment and Training Agency 925 Del Paso Boulevard Sacramento CA 95815 United States;X-APPLE-RADIUS=500;X-TITLE=925 Del Paso Boulevard:geo:-121.4669969,38.6029735
END:VEVENT
BEGIN:VEVENT
DTSTART;TZID=America/Los_Angeles:20241121T130000
DTEND;TZID=America/Los_Angeles:20241121T150000
DTSTAMP:20260421T070854
CREATED:20240924T205632Z
LAST-MODIFIED:20240924T205632Z
UID:10003468-1732194000-1732201200@goldensierra.com
SUMMARY:Workforce Board Meeting
DESCRIPTION:
URL:https://goldensierra.com/event/workforce-board-meeting
LOCATION:CA
CATEGORIES:Workforce Board
END:VEVENT
BEGIN:VEVENT
DTSTART;TZID=America/Los_Angeles:20241121T120000
DTEND;TZID=America/Los_Angeles:20241121T130000
DTSTAMP:20260421T070854
CREATED:20240924T205532Z
LAST-MODIFIED:20241112T214713Z
UID:10003467-1732190400-1732194000@goldensierra.com
SUMMARY:Executive Committee Meeting [CANCELLED]
DESCRIPTION:
URL:https://goldensierra.com/event/executive-committee-meeting
LOCATION:CA
CATEGORIES:Executive Committee,Workforce Board
END:VEVENT
BEGIN:VEVENT
DTSTART;TZID=America/Los_Angeles:20241024T130000
DTEND;TZID=America/Los_Angeles:20241024T140000
DTSTAMP:20260421T070854
CREATED:20241007T185855Z
LAST-MODIFIED:20241021T184647Z
UID:10003470-1729774800-1729778400@goldensierra.com
SUMMARY:Executive Committee-Special Meeting
DESCRIPTION:Agenda Packet: https://goldensierra.com/c/uploads/a49e/EC-Agenda-Packet-2024-10-24-Special.pdf \n  \n 
URL:https://goldensierra.com/event/executive-committee-special-meeting
LOCATION:CA
CATEGORIES:Executive Committee,Workforce Board
END:VEVENT
END:VCALENDAR