BEGIN:VCALENDAR
VERSION:2.0
PRODID:-//Golden Sierra Job Training Agency - ECPv6.15.20//NONSGML v1.0//EN
CALSCALE:GREGORIAN
METHOD:PUBLISH
X-WR-CALNAME:Golden Sierra Job Training Agency
X-ORIGINAL-URL:https://goldensierra.com
X-WR-CALDESC:Events for Golden Sierra Job Training Agency
REFRESH-INTERVAL;VALUE=DURATION:PT1H
X-Robots-Tag:noindex
X-PUBLISHED-TTL:PT1H
BEGIN:VTIMEZONE
TZID:America/Los_Angeles
BEGIN:DAYLIGHT
TZOFFSETFROM:-0800
TZOFFSETTO:-0700
TZNAME:PDT
DTSTART:20250309T100000
END:DAYLIGHT
BEGIN:STANDARD
TZOFFSETFROM:-0700
TZOFFSETTO:-0800
TZNAME:PST
DTSTART:20251102T090000
END:STANDARD
BEGIN:DAYLIGHT
TZOFFSETFROM:-0800
TZOFFSETTO:-0700
TZNAME:PDT
DTSTART:20260308T100000
END:DAYLIGHT
BEGIN:STANDARD
TZOFFSETFROM:-0700
TZOFFSETTO:-0800
TZNAME:PST
DTSTART:20261101T090000
END:STANDARD
BEGIN:DAYLIGHT
TZOFFSETFROM:-0800
TZOFFSETTO:-0700
TZNAME:PDT
DTSTART:20270314T100000
END:DAYLIGHT
BEGIN:STANDARD
TZOFFSETFROM:-0700
TZOFFSETTO:-0800
TZNAME:PST
DTSTART:20271107T090000
END:STANDARD
END:VTIMEZONE
BEGIN:VEVENT
DTSTART;TZID=America/Los_Angeles:20260528T100000
DTEND;TZID=America/Los_Angeles:20260528T120000
DTSTAMP:20260421T040057
CREATED:20250522T213807Z
LAST-MODIFIED:20250522T213807Z
UID:10003772-1779962400-1779969600@goldensierra.com
SUMMARY:Governing Body Meeting
DESCRIPTION:The Governing Body conducts public meetings to review and approve agency business. Meeting agendas\, minutes\, reports\, and historical materials are available for review. \nMore Information
URL:https://goldensierra.com/event/governing-body-meeting-8
LOCATION:Golden Sierra Job Training Agency\, 115 Ascot Drive\, Suite 100\, Roseville\, CA\, CA\, 95661\, United States
CATEGORIES:Governing Body,Public Meeting
GEO:38.9296249;-121.0900168
X-APPLE-STRUCTURED-LOCATION;VALUE=URI;X-ADDRESS=Golden Sierra Job Training Agency 115 Ascot Drive Suite 100 Roseville CA CA 95661 United States;X-APPLE-RADIUS=500;X-TITLE=115 Ascot Drive\, Suite 100:geo:-121.0900168,38.9296249
END:VEVENT
END:VCALENDAR