BEGIN:VCALENDAR
VERSION:2.0
PRODID:-//Golden Sierra Job Training Agency - ECPv6.15.20//NONSGML v1.0//EN
CALSCALE:GREGORIAN
METHOD:PUBLISH
X-ORIGINAL-URL:https://goldensierra.com
X-WR-CALDESC:Events for Golden Sierra Job Training Agency
REFRESH-INTERVAL;VALUE=DURATION:PT1H
X-Robots-Tag:noindex
X-PUBLISHED-TTL:PT1H
BEGIN:VTIMEZONE
TZID:America/Los_Angeles
BEGIN:DAYLIGHT
TZOFFSETFROM:-0800
TZOFFSETTO:-0700
TZNAME:PDT
DTSTART:20250309T100000
END:DAYLIGHT
BEGIN:STANDARD
TZOFFSETFROM:-0700
TZOFFSETTO:-0800
TZNAME:PST
DTSTART:20251102T090000
END:STANDARD
BEGIN:DAYLIGHT
TZOFFSETFROM:-0800
TZOFFSETTO:-0700
TZNAME:PDT
DTSTART:20260308T100000
END:DAYLIGHT
BEGIN:STANDARD
TZOFFSETFROM:-0700
TZOFFSETTO:-0800
TZNAME:PST
DTSTART:20261101T090000
END:STANDARD
BEGIN:DAYLIGHT
TZOFFSETFROM:-0800
TZOFFSETTO:-0700
TZNAME:PDT
DTSTART:20270314T100000
END:DAYLIGHT
BEGIN:STANDARD
TZOFFSETFROM:-0700
TZOFFSETTO:-0800
TZNAME:PST
DTSTART:20271107T090000
END:STANDARD
END:VTIMEZONE
BEGIN:VEVENT
DTSTART;TZID=America/Los_Angeles:20260420T090000
DTEND;TZID=America/Los_Angeles:20260420T113000
DTSTAMP:20260419T213348
CREATED:20260113T234902Z
LAST-MODIFIED:20260129T235947Z
UID:10004656-1776675600-1776684600@goldensierra.com
SUMMARY:Create Your Elevator Speech
DESCRIPTION:The experienced coaches at Job One provide a rotating schedule of virtual job search workshops at no-cost. They cover topics such as self-marketing\, using LinkedIn\, networking\, resumes\, cover letters\, and more. Their goal is to help you conduct an effective job search and increase your confidence. One-on-one sessions are available for resume critiques and mock interviews. \nJob One (hosted by Bayside Church) meets on Mondays via Zoom (Meeting ID: 910-283-386). \nMore Information \n  \n 
URL:https://goldensierra.com/event/job-one-elevator-pitch-speech
CATEGORIES:Job Seeker,Workshop
LOCATION:
END:VEVENT
BEGIN:VEVENT
DTSTART;TZID=America/Los_Angeles:20260421T103000
DTEND;TZID=America/Los_Angeles:20260421T113000
DTSTAMP:20260419T213348
CREATED:20260331T155217Z
LAST-MODIFIED:20260401T223119Z
UID:10004712-1776767400-1776771000@goldensierra.com
SUMMARY:Job Talk - UC Davis and HCD
DESCRIPTION:Join the Sacramento County DHA for this in-person event to learn how to search for open positions\, get guidance on applications\, and explore tips to make your application stand out with UC Davis Temporary Employment Services and Housing and Community Development. \nFor questions\, please contact DHA-JobTalk@saccounty.gov or call 916-875-3323. \nPlease arrive 10 minutes early. \nJob Talk is open to the public\, however children are not allowed due to space limitations \nIf you are a person with a disability or in need of an accommodation to attend\, please call or email Sacramento DHA \nJOB-TALK_HILLSDALE_042126-1
URL:https://goldensierra.com/event/sacramento-county-dha-job-talk-uc-davis-and-hcd
LOCATION:Hillsdale Career Center\, 5655 Hillsdale Boulevard #8\, Sacramento\, CA\, 95842\, United States
CATEGORIES:Digest,Job Seeker,Workshop
GEO:38.6711796;-121.3602824
X-APPLE-STRUCTURED-LOCATION;VALUE=URI;X-ADDRESS=Hillsdale Career Center 5655 Hillsdale Boulevard #8 Sacramento CA 95842 United States;X-APPLE-RADIUS=500;X-TITLE=5655 Hillsdale Boulevard #8:geo:-121.3602824,38.6711796
END:VEVENT
BEGIN:VEVENT
DTSTART;TZID=America/Los_Angeles:20260421T160000
DTEND;TZID=America/Los_Angeles:20260421T170000
DTSTAMP:20260419T213348
CREATED:20250721T182122Z
LAST-MODIFIED:20250721T182122Z
UID:10003869-1776787200-1776790800@goldensierra.com
SUMMARY:Metrix: Tip Tuesday
DESCRIPTION:Metrix’s eLearning portal is designed to improve your job prospects. Request your free account from Golden Sierra and begin taking online courses right away. If you need help navigating the portal or troubleshooting technical issues\, join the Tip Tuesday webinar for expert advice. \nJoin Now via Teams
URL:https://goldensierra.com/event/metrix-learning-tip-tuesday-2/2026-04-21
CATEGORIES:Job Seeker,Workshop
END:VEVENT
BEGIN:VEVENT
DTSTART;TZID=America/Los_Angeles:20260422T130000
DTEND;TZID=America/Los_Angeles:20260422T160000
DTSTAMP:20260419T213348
CREATED:20250725T231157Z
LAST-MODIFIED:20251121T171016Z
UID:10004167-1776862800-1776873600@goldensierra.com
SUMMARY:Career Coaching
DESCRIPTION:One-on-one career coaching sessions are a great way to get personalized help with resume development\, interview preparation\, and job search assistance. Call the front desk or email info@goldensierra.com to request an appointment.
URL:https://goldensierra.com/event/career-coaching-2/2026-04-22
LOCATION:America’s Job Center of California – Roseville\, 115 Ascot Drive Ste. 100\, Roseville\, CA\, 95661\, United States
CATEGORIES:Job Seeker,Workshop
GEO:38.742436;-121.26857
X-APPLE-STRUCTURED-LOCATION;VALUE=URI;X-ADDRESS=America’s Job Center of California – Roseville 115 Ascot Drive Ste. 100 Roseville CA 95661 United States;X-APPLE-RADIUS=500;X-TITLE=115 Ascot Drive Ste. 100:geo:-121.26857,38.742436
END:VEVENT
BEGIN:VEVENT
DTSTART;TZID=America/Los_Angeles:20260422T163000
DTEND;TZID=America/Los_Angeles:20260422T173000
DTSTAMP:20260419T213348
CREATED:20260330T163309Z
LAST-MODIFIED:20260401T223101Z
UID:10004710-1776875400-1776879000@goldensierra.com
SUMMARY:The Path to County Service
DESCRIPTION:Attend a free virtual workshop to learn about the application process\, how to apply for employment opportunities\, and additional job seeker resources with the County of Sacramento. \nRegister to attend a session with the following link below: \nRegister Here \nTopics Covered: \nApplication Process & Tips \nWhat to Expect \nExam & Eligible Lists \nJob Posting Examples \nResources Available \nCurrent & Upcoming Job Postings \nCounty Benefits \nFor more information\, contact DPS-RECRUITMENT@SACCOUNTY.GOV
URL:https://goldensierra.com/event/sacramento-county-workshop-the-path-to-county-service-6
CATEGORIES:Digest,Job Seeker,Workshop
LOCATION:
END:VEVENT
BEGIN:VEVENT
DTSTART;TZID=America/Los_Angeles:20260423T110000
DTEND;TZID=America/Los_Angeles:20260423T120000
DTSTAMP:20260419T213348
CREATED:20250721T182234Z
LAST-MODIFIED:20250721T182404Z
UID:10003922-1776942000-1776945600@goldensierra.com
SUMMARY:Metrix: Tip Thursday
DESCRIPTION:Metrix’s eLearning portal is designed to improve your job prospects. Request your free account from Golden Sierra and begin taking online courses right away. If you need help navigating the portal or troubleshooting technical issues\, join the Tip Thursday webinar for expert advice. \nJoin Now via Teams
URL:https://goldensierra.com/event/metrix-learning-tip-thursday-2/2026-04-23
CATEGORIES:Job Seeker,Workshop
END:VEVENT
BEGIN:VEVENT
DTSTART;TZID=America/Los_Angeles:20260423T120000
DTEND;TZID=America/Los_Angeles:20260423T130000
DTSTAMP:20260419T213348
CREATED:20260414T153348Z
LAST-MODIFIED:20260414T153348Z
UID:10004723-1776945600-1776949200@goldensierra.com
SUMMARY:DGS Webinar: How to Get a State Job
DESCRIPTION:Ready to Break Into a California State Career? 🚀\nIf you’ve been curious about how to land a State job but aren’t sure where to start… this is your moment! \n💼 DGS is hosting a “How To Get a State Job” Virtual Workshop!\nLearn how to apply for job vacancies with the State of California with insider tips\, practical guidance\, and real talk from HR professionals will provide insights and practical guidance for a successful state job application \nFor additional information\, contact DGSRecruitment@dgs.ca.gov. \n \nScan the QR code to Register
URL:https://goldensierra.com/event/dgs-webinar-how-to-get-a-state-job-3
CATEGORIES:Digest,Job Seeker,Workshop
LOCATION:
END:VEVENT
BEGIN:VEVENT
DTSTART;TZID=America/Los_Angeles:20260427T090000
DTEND;TZID=America/Los_Angeles:20260427T113000
DTSTAMP:20260419T213348
CREATED:20260113T234948Z
LAST-MODIFIED:20260129T235927Z
UID:10004657-1777280400-1777289400@goldensierra.com
SUMMARY:LinkedIn Basics
DESCRIPTION:The experienced coaches at Job One provide a rotating schedule of virtual job search workshops at no-cost. They cover topics such as self-marketing\, using LinkedIn\, networking\, resumes\, cover letters\, and more. Their goal is to help you conduct an effective job search and increase your confidence. One-on-one sessions are available for resume critiques and mock interviews. \nJob One (hosted by Bayside Church) meets on Mondays via Zoom (Meeting ID: 910-283-386). \nMore Information \n  \n 
URL:https://goldensierra.com/event/job-one-basic-linkedin-4
CATEGORIES:Job Seeker,Workshop
LOCATION:
END:VEVENT
BEGIN:VEVENT
DTSTART;TZID=America/Los_Angeles:20260427T100000
DTEND;TZID=America/Los_Angeles:20260427T110000
DTSTAMP:20260419T213348
CREATED:20260401T230817Z
LAST-MODIFIED:20260401T230817Z
UID:10004718-1777284000-1777287600@goldensierra.com
SUMMARY:SETA - Resume Basics Workshop
DESCRIPTION:WHAT YOU’LL LEARN: \nHow to build a clean\, professional Resume \nWays to highlight your strongest skills \nHow to make your resume stand out \nWHO SHOULD ATTEND: \nFirst-time resume writers \nJob seekers updating old resumes \nAnyone wanting a stronger\, more effective resume \nQuestions and to Register: email: \nZachary.Stevenson@seta.net \nResume-Basics-Workshop
URL:https://goldensierra.com/event/seta-resume-basics-workshop
LOCATION:Mark Sanders AJCC\, 2901 50th Street\, Sacramento\, 95817\, United States
CATEGORIES:Job Seeker,Workshop
GEO:38.547361;-121.4457494
X-APPLE-STRUCTURED-LOCATION;VALUE=URI;X-ADDRESS=Mark Sanders AJCC 2901 50th Street Sacramento 95817 United States;X-APPLE-RADIUS=500;X-TITLE=2901 50th Street:geo:-121.4457494,38.547361
END:VEVENT
BEGIN:VEVENT
DTSTART;TZID=America/Los_Angeles:20260428T160000
DTEND;TZID=America/Los_Angeles:20260428T170000
DTSTAMP:20260419T213348
CREATED:20250721T182122Z
LAST-MODIFIED:20250721T182122Z
UID:10003870-1777392000-1777395600@goldensierra.com
SUMMARY:Metrix: Tip Tuesday
DESCRIPTION:Metrix’s eLearning portal is designed to improve your job prospects. Request your free account from Golden Sierra and begin taking online courses right away. If you need help navigating the portal or troubleshooting technical issues\, join the Tip Tuesday webinar for expert advice. \nJoin Now via Teams
URL:https://goldensierra.com/event/metrix-learning-tip-tuesday-2/2026-04-28
CATEGORIES:Job Seeker,Workshop
END:VEVENT
BEGIN:VEVENT
DTSTART;TZID=America/Los_Angeles:20260429T130000
DTEND;TZID=America/Los_Angeles:20260429T160000
DTSTAMP:20260419T213348
CREATED:20250725T231157Z
LAST-MODIFIED:20251121T171016Z
UID:10004168-1777467600-1777478400@goldensierra.com
SUMMARY:Career Coaching
DESCRIPTION:One-on-one career coaching sessions are a great way to get personalized help with resume development\, interview preparation\, and job search assistance. Call the front desk or email info@goldensierra.com to request an appointment.
URL:https://goldensierra.com/event/career-coaching-2/2026-04-29
LOCATION:America’s Job Center of California – Roseville\, 115 Ascot Drive Ste. 100\, Roseville\, CA\, 95661\, United States
CATEGORIES:Job Seeker,Workshop
GEO:38.742436;-121.26857
X-APPLE-STRUCTURED-LOCATION;VALUE=URI;X-ADDRESS=America’s Job Center of California – Roseville 115 Ascot Drive Ste. 100 Roseville CA 95661 United States;X-APPLE-RADIUS=500;X-TITLE=115 Ascot Drive Ste. 100:geo:-121.26857,38.742436
END:VEVENT
BEGIN:VEVENT
DTSTART;TZID=America/Los_Angeles:20260430T110000
DTEND;TZID=America/Los_Angeles:20260430T120000
DTSTAMP:20260419T213348
CREATED:20250721T182234Z
LAST-MODIFIED:20250721T182404Z
UID:10003923-1777546800-1777550400@goldensierra.com
SUMMARY:Metrix: Tip Thursday
DESCRIPTION:Metrix’s eLearning portal is designed to improve your job prospects. Request your free account from Golden Sierra and begin taking online courses right away. If you need help navigating the portal or troubleshooting technical issues\, join the Tip Thursday webinar for expert advice. \nJoin Now via Teams
URL:https://goldensierra.com/event/metrix-learning-tip-thursday-2/2026-04-30
CATEGORIES:Job Seeker,Workshop
END:VEVENT
END:VCALENDAR