BEGIN:VCALENDAR
VERSION:2.0
PRODID:-//Golden Sierra Job Training Agency - ECPv6.15.20//NONSGML v1.0//EN
CALSCALE:GREGORIAN
METHOD:PUBLISH
X-WR-CALNAME:Golden Sierra Job Training Agency
X-ORIGINAL-URL:https://goldensierra.com
X-WR-CALDESC:Events for Golden Sierra Job Training Agency
REFRESH-INTERVAL;VALUE=DURATION:PT1H
X-Robots-Tag:noindex
X-PUBLISHED-TTL:PT1H
BEGIN:VTIMEZONE
TZID:America/Los_Angeles
BEGIN:DAYLIGHT
TZOFFSETFROM:-0800
TZOFFSETTO:-0700
TZNAME:PDT
DTSTART:20240310T100000
END:DAYLIGHT
BEGIN:STANDARD
TZOFFSETFROM:-0700
TZOFFSETTO:-0800
TZNAME:PST
DTSTART:20241103T090000
END:STANDARD
BEGIN:DAYLIGHT
TZOFFSETFROM:-0800
TZOFFSETTO:-0700
TZNAME:PDT
DTSTART:20250309T100000
END:DAYLIGHT
BEGIN:STANDARD
TZOFFSETFROM:-0700
TZOFFSETTO:-0800
TZNAME:PST
DTSTART:20251102T090000
END:STANDARD
BEGIN:DAYLIGHT
TZOFFSETFROM:-0800
TZOFFSETTO:-0700
TZNAME:PDT
DTSTART:20260308T100000
END:DAYLIGHT
BEGIN:STANDARD
TZOFFSETFROM:-0700
TZOFFSETTO:-0800
TZNAME:PST
DTSTART:20261101T090000
END:STANDARD
END:VTIMEZONE
BEGIN:VEVENT
DTSTART;TZID=America/Los_Angeles:20250305T080000
DTEND;TZID=America/Los_Angeles:20250305T170000
DTSTAMP:20260421T022256
CREATED:20250124T175016Z
LAST-MODIFIED:20250124T175016Z
UID:10003683-1741161600-1741194000@goldensierra.com
SUMMARY:Clean Slate Clinic (Rocklin)
DESCRIPTION:Would you like a fresh start and clean criminal record? Placer County’s Business Advantage Network in association with Legal Services of Northern California offers a Clean Slate Clinic to assist participants in removing or dismissing convictions from their records. Pre-registration is required and certain eligibility criteria will apply. To reserve your seat please email auburn-office@lsnc.net or call 530-823-7560. \nMarch Event Flyer
URL:https://goldensierra.com/event/clean-slate-clinic-rocklin
CATEGORIES:Job Seeker,Workshop
END:VEVENT
BEGIN:VEVENT
DTSTART;TZID=America/Los_Angeles:20250305T110000
DTEND;TZID=America/Los_Angeles:20250305T120000
DTSTAMP:20260421T022256
CREATED:20241011T160952Z
LAST-MODIFIED:20241115T002729Z
UID:10003604-1741172400-1741176000@goldensierra.com
SUMMARY:Virtual Orientation
DESCRIPTION:If you are a resident of Placer\, El Dorado\, or Alpine counties you have access to free programs that can help you in your job search or career transition. Join us for more information and see what we can do for you. \nGolden Sierra offers the following services to eligible individuals: \n\nTraining Scholarships\nCareer Counseling\nFinancial Assistance\n\nWe also have specialized programs for young adults\, veterans\, justice involved individuals\, and people with disabilities. \nRegister Here
URL:https://goldensierra.com/event/virtual-orientation-3/2025-03-05
CATEGORIES:Job Seeker,Orientation
END:VEVENT
BEGIN:VEVENT
DTSTART;TZID=America/Los_Angeles:20250306T110000
DTEND;TZID=America/Los_Angeles:20250306T120000
DTSTAMP:20260421T022256
CREATED:20241010T170233Z
LAST-MODIFIED:20241115T002953Z
UID:10003529-1741258800-1741262400@goldensierra.com
SUMMARY:Metrix: Tip Thursday
DESCRIPTION:Metrix’s eLearning portal is designed to improve your job prospects. Request your free account from Golden Sierra and begin taking online courses right away. If you need help navigating the portal or troubleshooting technical issues\, join the Tip Thursday webinar for expert advice. \nJoin Now via Teams
URL:https://goldensierra.com/event/metrix-learning-tip-thursday/2025-03-06
CATEGORIES:Job Seeker,Workshop
END:VEVENT
BEGIN:VEVENT
DTSTART;TZID=America/Los_Angeles:20250306T110000
DTEND;TZID=America/Los_Angeles:20250306T130000
DTSTAMP:20260421T022256
CREATED:20250227T185911Z
LAST-MODIFIED:20250227T192512Z
UID:10003721-1741258800-1741266000@goldensierra.com
SUMMARY:Job Connections: Public Sector
DESCRIPTION:Recruiters from Nevada County\, Placer County\, and the Franchise Tax Board (State of California) will be in Auburn to share their job openings and provide application assistance. This is a hybrid event with the option to attend in-person (Jeff Brown Conference Room) or by Zoom. \n\nRegister Here \nTo learn more\, please contact the Business Advantage Network – ban@placer.ca.gov
URL:https://goldensierra.com/event/job-connections-public-sector
LOCATION:Placer County Human Services (Auburn)\, 11542 B Avenue\, Auburn\, CA\, 95603\, United States
CATEGORIES:Hiring Event,Job Seeker,Workshop
GEO:38.9383689;-121.1066595
X-APPLE-STRUCTURED-LOCATION;VALUE=URI;X-ADDRESS=Placer County Human Services (Auburn) 11542 B Avenue Auburn CA 95603 United States;X-APPLE-RADIUS=500;X-TITLE=11542 B Avenue:geo:-121.1066595,38.9383689
END:VEVENT
BEGIN:VEVENT
DTSTART;TZID=America/Los_Angeles:20250310T090000
DTEND;TZID=America/Los_Angeles:20250310T113000
DTSTAMP:20260421T022256
CREATED:20250129T175553Z
LAST-MODIFIED:20250129T181331Z
UID:10003692-1741597200-1741606200@goldensierra.com
SUMMARY:Job One: STAR Story
DESCRIPTION:The experienced coaches at Job One provide a rotating schedule of virtual job search workshops at no-cost. They cover topics such as self-marketing\, using LinkedIn\, networking\, resumes\, cover letters\, and more. Their goal is to help you conduct an effective job search and increase your confidence. One-on-one sessions are available for resume critiques and mock interviews. \nJob One meets on Mondays via Zoom (Meeting ID: 910-283-386) \nMore Information
URL:https://goldensierra.com/event/job-one-personal-inventory-2
CATEGORIES:Job Seeker,Workshop
END:VEVENT
BEGIN:VEVENT
DTSTART;TZID=America/Los_Angeles:20250311T100000
DTEND;TZID=America/Los_Angeles:20250311T110000
DTSTAMP:20260421T022256
CREATED:20250121T181046Z
LAST-MODIFIED:20250124T170655Z
UID:10003678-1741687200-1741690800@goldensierra.com
SUMMARY:Interview Coaching
DESCRIPTION:Join us for Part 2 of our Career Development Workshop Series. You’ll learn how to respond to frequently asked questions\, highlight your strengths\, and leave a lasting impression on potential employers. You’ll receive customized feedback and pointers to help you perform your best and increase your self-confidence. \nPlease email intern@goldensierra.com to register. Include your contact information and indicate which workshop (title/date) you wish to attend. \nFlyer
URL:https://goldensierra.com/event/interview-workshop/2025-03-11
LOCATION:America’s Job Center of California – Roseville\, 115 Ascot Drive Ste. 100\, Roseville\, CA\, 95661\, United States
CATEGORIES:Job Seeker,Workshop
GEO:38.742436;-121.26857
X-APPLE-STRUCTURED-LOCATION;VALUE=URI;X-ADDRESS=America’s Job Center of California – Roseville 115 Ascot Drive Ste. 100 Roseville CA 95661 United States;X-APPLE-RADIUS=500;X-TITLE=115 Ascot Drive Ste. 100:geo:-121.26857,38.742436
END:VEVENT
BEGIN:VEVENT
DTSTART;TZID=America/Los_Angeles:20250311T160000
DTEND;TZID=America/Los_Angeles:20250311T170000
DTSTAMP:20260421T022256
CREATED:20241010T165348Z
LAST-MODIFIED:20241011T155612Z
UID:10003493-1741708800-1741712400@goldensierra.com
SUMMARY:Metrix: Tip Tuesday
DESCRIPTION:Metrix’s eLearning portal is designed to improve your job prospects. Request your free account from Golden Sierra and begin taking online courses right away. If you need help navigating the portal or troubleshooting technical issues\, join the Tip Tuesday webinar for expert advice. \nJoin Now via Teams
URL:https://goldensierra.com/event/metrix-learning-tip-tuesday/2025-03-11
CATEGORIES:Job Seeker,Workshop
END:VEVENT
BEGIN:VEVENT
DTSTART;TZID=America/Los_Angeles:20250312T100000
DTEND;TZID=America/Los_Angeles:20250312T140000
DTSTAMP:20260421T022256
CREATED:20250220T215022Z
LAST-MODIFIED:20250226T143318Z
UID:10003714-1741773600-1741788000@goldensierra.com
SUMMARY:Government Jobs: Virtual Networking Event
DESCRIPTION:The application process for government jobs can be confusing and highly competitive. We’re hosting a 2-hour workshop to demystify the process. Recruiters from multiple state and federal agencies will provide step-by-step instructions to help you find open positions and submit online applications. After the workshop\, stick around to network with the recruiting teams and stand out from the competition. \nRegister for Event
URL:https://goldensierra.com/event/government-jobs-virtual-networking-event
CATEGORIES:Hiring Event,Job Seeker,Workshop
END:VEVENT
BEGIN:VEVENT
DTSTART;TZID=America/Los_Angeles:20250313T110000
DTEND;TZID=America/Los_Angeles:20250313T120000
DTSTAMP:20260421T022256
CREATED:20241010T170233Z
LAST-MODIFIED:20241115T002953Z
UID:10003530-1741863600-1741867200@goldensierra.com
SUMMARY:Metrix: Tip Thursday
DESCRIPTION:Metrix’s eLearning portal is designed to improve your job prospects. Request your free account from Golden Sierra and begin taking online courses right away. If you need help navigating the portal or troubleshooting technical issues\, join the Tip Thursday webinar for expert advice. \nJoin Now via Teams
URL:https://goldensierra.com/event/metrix-learning-tip-thursday/2025-03-13
CATEGORIES:Job Seeker,Workshop
END:VEVENT
BEGIN:VEVENT
DTSTART;TZID=America/Los_Angeles:20250317T090000
DTEND;TZID=America/Los_Angeles:20250317T113000
DTSTAMP:20260421T022256
CREATED:20250129T181354Z
LAST-MODIFIED:20250129T181354Z
UID:10003693-1742202000-1742211000@goldensierra.com
SUMMARY:Job One: Elevator Pitch
DESCRIPTION:The experienced coaches at Job One provide a rotating schedule of virtual job search workshops at no-cost. They cover topics such as self-marketing\, using LinkedIn\, networking\, resumes\, cover letters\, and more. Their goal is to help you conduct an effective job search and increase your confidence. One-on-one sessions are available for resume critiques and mock interviews. \nJob One meets on Mondays via Zoom (Meeting ID: 910-283-386) \nMore Information
URL:https://goldensierra.com/event/job-one-elevator-pitch
CATEGORIES:Job Seeker,Workshop
END:VEVENT
BEGIN:VEVENT
DTSTART;TZID=America/Los_Angeles:20250318T100000
DTEND;TZID=America/Los_Angeles:20250318T110000
DTSTAMP:20260421T022256
CREATED:20250121T183913Z
LAST-MODIFIED:20250124T170207Z
UID:10003679-1742292000-1742295600@goldensierra.com
SUMMARY:Career Assessments
DESCRIPTION:Join us for Part 3 of our Career Development Workshop Series. Together\, we’ll explore your strengths and interests using the 16 Personality Traits and RIASEC career assessments. These tools will help you identify potential career paths aligned with your personality and preferences. \nPlease email intern@goldensierra.com to register. Include your contact information and indicate which workshop (title/date) you wish to attend. \nFlyer
URL:https://goldensierra.com/event/career-assessment-workshop/2025-03-18
LOCATION:America’s Job Center of California – Roseville\, 115 Ascot Drive Ste. 100\, Roseville\, CA\, 95661\, United States
CATEGORIES:Job Seeker,Workshop
GEO:38.742436;-121.26857
X-APPLE-STRUCTURED-LOCATION;VALUE=URI;X-ADDRESS=America’s Job Center of California – Roseville 115 Ascot Drive Ste. 100 Roseville CA 95661 United States;X-APPLE-RADIUS=500;X-TITLE=115 Ascot Drive Ste. 100:geo:-121.26857,38.742436
END:VEVENT
BEGIN:VEVENT
DTSTART;TZID=America/Los_Angeles:20250318T160000
DTEND;TZID=America/Los_Angeles:20250318T170000
DTSTAMP:20260421T022256
CREATED:20241010T165348Z
LAST-MODIFIED:20241011T155612Z
UID:10003494-1742313600-1742317200@goldensierra.com
SUMMARY:Metrix: Tip Tuesday
DESCRIPTION:Metrix’s eLearning portal is designed to improve your job prospects. Request your free account from Golden Sierra and begin taking online courses right away. If you need help navigating the portal or troubleshooting technical issues\, join the Tip Tuesday webinar for expert advice. \nJoin Now via Teams
URL:https://goldensierra.com/event/metrix-learning-tip-tuesday/2025-03-18
CATEGORIES:Job Seeker,Workshop
END:VEVENT
BEGIN:VEVENT
DTSTART;TZID=America/Los_Angeles:20250319T110000
DTEND;TZID=America/Los_Angeles:20250319T120000
DTSTAMP:20260421T022256
CREATED:20241011T160734Z
LAST-MODIFIED:20250603T221847Z
UID:10003579-1742382000-1742385600@goldensierra.com
SUMMARY:Virtual Orientation
DESCRIPTION:If you are a resident of Placer\, El Dorado\, or Alpine counties you have access to free programs that can help you in your job search or career transition. Join us for more information and see what we can do for you. \nGolden Sierra offers the following services to eligible individuals: \n\nTraining Scholarships\nCareer Counseling\nFinancial Assistance\n\nWe also have specialized programs for young adults\, veterans\, justice involved individuals\, and people with disabilities. \nRegister Here \n 
URL:https://goldensierra.com/event/virtual-orientation/2025-03-19
CATEGORIES:Digest,Job Seeker,Orientation
END:VEVENT
BEGIN:VEVENT
DTSTART;TZID=America/Los_Angeles:20250319T110000
DTEND;TZID=America/Los_Angeles:20250319T120000
DTSTAMP:20260421T022256
CREATED:20250204T205640Z
LAST-MODIFIED:20250204T205640Z
UID:10003706-1742382000-1742385600@goldensierra.com
SUMMARY:CVS Health: Online Application Workshop
DESCRIPTION:Attend this virtual workshop to learn more about CVS Health\, how to search for jobs\, how to apply for open positions\, and tips for passing the Virtual Job Tryout. \nRegister Now
URL:https://goldensierra.com/event/cvs-health-online-application-workshop-4
CATEGORIES:Job Seeker,Workshop
END:VEVENT
BEGIN:VEVENT
DTSTART;TZID=America/Los_Angeles:20250320T110000
DTEND;TZID=America/Los_Angeles:20250320T120000
DTSTAMP:20260421T022256
CREATED:20241010T170233Z
LAST-MODIFIED:20241115T002953Z
UID:10003531-1742468400-1742472000@goldensierra.com
SUMMARY:Metrix: Tip Thursday
DESCRIPTION:Metrix’s eLearning portal is designed to improve your job prospects. Request your free account from Golden Sierra and begin taking online courses right away. If you need help navigating the portal or troubleshooting technical issues\, join the Tip Thursday webinar for expert advice. \nJoin Now via Teams
URL:https://goldensierra.com/event/metrix-learning-tip-thursday/2025-03-20
CATEGORIES:Job Seeker,Workshop
END:VEVENT
BEGIN:VEVENT
DTSTART;TZID=America/Los_Angeles:20250324T090000
DTEND;TZID=America/Los_Angeles:20250324T113000
DTSTAMP:20260421T022256
CREATED:20250129T181411Z
LAST-MODIFIED:20250129T181419Z
UID:10003694-1742806800-1742815800@goldensierra.com
SUMMARY:Job One: Basic LinkedIn
DESCRIPTION:The experienced coaches at Job One provide a rotating schedule of virtual job search workshops at no-cost. They cover topics such as self-marketing\, using LinkedIn\, networking\, resumes\, cover letters\, and more. Their goal is to help you conduct an effective job search and increase your confidence. One-on-one sessions are available for resume critiques and mock interviews. \nJob One meets on Mondays via Zoom (Meeting ID: 910-283-386) \nMore Information
URL:https://goldensierra.com/event/job-one-basic-linkedin-2
CATEGORIES:Job Seeker,Workshop
END:VEVENT
BEGIN:VEVENT
DTSTART;TZID=America/Los_Angeles:20250324T150000
DTEND;TZID=America/Los_Angeles:20250324T160000
DTSTAMP:20260421T022256
CREATED:20250227T184153Z
LAST-MODIFIED:20250227T184153Z
UID:10003719-1742828400-1742832000@goldensierra.com
SUMMARY:CVS Health: Online Application Workshop
DESCRIPTION:Attend this virtual workshop to learn more about CVS Health\, how to search for jobs\, how to apply for open positions\, and tips for passing the Virtual Job Tryout. \nRegister Now
URL:https://goldensierra.com/event/cvs-health-online-application-workshop-5
CATEGORIES:Job Seeker,Workshop
END:VEVENT
BEGIN:VEVENT
DTSTART;TZID=America/Los_Angeles:20250325T100000
DTEND;TZID=America/Los_Angeles:20250325T110000
DTSTAMP:20260421T022256
CREATED:20250121T184154Z
LAST-MODIFIED:20250124T170503Z
UID:10003680-1742896800-1742900400@goldensierra.com
SUMMARY:The Best Way to Job Search
DESCRIPTION:Join us for Part 4 of our Career Development Workshop Series. You’ll learn effective strategies for finding job opportunities\, networking\, and optimizing your applications. You’ll receive expert tips on how to navigate job boards\, leverage LinkedIn\, and stand out to potential employers. \nPlease email intern@goldensierra.com to register. Include your contact information and indicate which workshop (title/date) you wish to attend. \nFlyer
URL:https://goldensierra.com/event/job-search-workshop/2025-03-25
LOCATION:America’s Job Center of California – Roseville\, 115 Ascot Drive Ste. 100\, Roseville\, CA\, 95661\, United States
CATEGORIES:Job Seeker,Workshop
GEO:38.742436;-121.26857
X-APPLE-STRUCTURED-LOCATION;VALUE=URI;X-ADDRESS=America’s Job Center of California – Roseville 115 Ascot Drive Ste. 100 Roseville CA 95661 United States;X-APPLE-RADIUS=500;X-TITLE=115 Ascot Drive Ste. 100:geo:-121.26857,38.742436
END:VEVENT
BEGIN:VEVENT
DTSTART;TZID=America/Los_Angeles:20250325T160000
DTEND;TZID=America/Los_Angeles:20250325T170000
DTSTAMP:20260421T022256
CREATED:20241010T165348Z
LAST-MODIFIED:20241011T155612Z
UID:10003495-1742918400-1742922000@goldensierra.com
SUMMARY:Metrix: Tip Tuesday
DESCRIPTION:Metrix’s eLearning portal is designed to improve your job prospects. Request your free account from Golden Sierra and begin taking online courses right away. If you need help navigating the portal or troubleshooting technical issues\, join the Tip Tuesday webinar for expert advice. \nJoin Now via Teams
URL:https://goldensierra.com/event/metrix-learning-tip-tuesday/2025-03-25
CATEGORIES:Job Seeker,Workshop
END:VEVENT
BEGIN:VEVENT
DTSTART;TZID=America/Los_Angeles:20250327T110000
DTEND;TZID=America/Los_Angeles:20250327T120000
DTSTAMP:20260421T022256
CREATED:20241010T170233Z
LAST-MODIFIED:20241115T002953Z
UID:10003532-1743073200-1743076800@goldensierra.com
SUMMARY:Metrix: Tip Thursday
DESCRIPTION:Metrix’s eLearning portal is designed to improve your job prospects. Request your free account from Golden Sierra and begin taking online courses right away. If you need help navigating the portal or troubleshooting technical issues\, join the Tip Thursday webinar for expert advice. \nJoin Now via Teams
URL:https://goldensierra.com/event/metrix-learning-tip-thursday/2025-03-27
CATEGORIES:Job Seeker,Workshop
END:VEVENT
BEGIN:VEVENT
DTSTART;TZID=America/Los_Angeles:20250331T090000
DTEND;TZID=America/Los_Angeles:20250331T113000
DTSTAMP:20260421T022256
CREATED:20250129T181457Z
LAST-MODIFIED:20250326T225931Z
UID:10003695-1743411600-1743420600@goldensierra.com
SUMMARY:Job One: How to Get a State Job
DESCRIPTION:The experienced coaches at Job One provide a rotating schedule of virtual job search workshops at no-cost. They cover topics such as self-marketing\, using LinkedIn\, networking\, resumes\, cover letters\, and more. Their goal is to help you conduct an effective job search and increase your confidence. One-on-one sessions are available for resume critiques and mock interviews. \nJob One meets on Mondays via Zoom (Meeting ID: 910-283-386) \nMore Information
URL:https://goldensierra.com/event/job-one-how-to-get-a-state-job
CATEGORIES:Job Seeker,Workshop
END:VEVENT
BEGIN:VEVENT
DTSTART;TZID=America/Los_Angeles:20250401T160000
DTEND;TZID=America/Los_Angeles:20250401T170000
DTSTAMP:20260421T022256
CREATED:20241010T165348Z
LAST-MODIFIED:20241011T155612Z
UID:10003496-1743523200-1743526800@goldensierra.com
SUMMARY:Metrix: Tip Tuesday
DESCRIPTION:Metrix’s eLearning portal is designed to improve your job prospects. Request your free account from Golden Sierra and begin taking online courses right away. If you need help navigating the portal or troubleshooting technical issues\, join the Tip Tuesday webinar for expert advice. \nJoin Now via Teams
URL:https://goldensierra.com/event/metrix-learning-tip-tuesday/2025-04-01
CATEGORIES:Job Seeker,Workshop
END:VEVENT
BEGIN:VEVENT
DTSTART;TZID=America/Los_Angeles:20250402T080000
DTEND;TZID=America/Los_Angeles:20250402T170000
DTSTAMP:20260421T022256
CREATED:20250312T002355Z
LAST-MODIFIED:20250324T223207Z
UID:10003725-1743580800-1743613200@goldensierra.com
SUMMARY:Clean Slate Clinic (Rocklin)
DESCRIPTION:Would you like a fresh start and clean criminal record? Placer County’s Business Advantage Network in association with Legal Services of Northern California offers a Clean Slate Clinic to assist participants in removing or dismissing convictions from their records. Pre-registration is required and certain eligibility criteria will apply. To reserve your seat please email auburn-office@lsnc.net or call 530-823-7560. \nEvent Flyer
URL:https://goldensierra.com/event/clean-slate-clinic-rocklin-2
CATEGORIES:Digest,Job Seeker,Workshop
END:VEVENT
BEGIN:VEVENT
DTSTART;TZID=America/Los_Angeles:20250402T103000
DTEND;TZID=America/Los_Angeles:20250402T130000
DTSTAMP:20260421T022256
CREATED:20241219T164228Z
LAST-MODIFIED:20250324T223243Z
UID:10003654-1743589800-1743598800@goldensierra.com
SUMMARY:Jessup University Career & Internship Expo
DESCRIPTION:Jessup University warmly invites you to attend their annual Career & Internship EXPO! This event is open to the public and free for all job seekers. There is no need to pre-register. Dress professionally and bring plenty of resumes to share with participating employers. \nMaking the Most of the Event \nFor more information: 916-577-1815
URL:https://goldensierra.com/event/jessup-university-career-internship-expo
LOCATION:Jessup University\, 2121 University Avenue\, Rocklin\, CA\, 95765\, United States
CATEGORIES:Digest,Hiring Event,Job Seeker
GEO:38.8205884;-121.291831
X-APPLE-STRUCTURED-LOCATION;VALUE=URI;X-ADDRESS=Jessup University 2121 University Avenue Rocklin CA 95765 United States;X-APPLE-RADIUS=500;X-TITLE=2121 University Avenue:geo:-121.291831,38.8205884
END:VEVENT
BEGIN:VEVENT
DTSTART;TZID=America/Los_Angeles:20250402T110000
DTEND;TZID=America/Los_Angeles:20250402T120000
DTSTAMP:20260421T022256
CREATED:20241011T160952Z
LAST-MODIFIED:20241115T002729Z
UID:10003605-1743591600-1743595200@goldensierra.com
SUMMARY:Virtual Orientation
DESCRIPTION:If you are a resident of Placer\, El Dorado\, or Alpine counties you have access to free programs that can help you in your job search or career transition. Join us for more information and see what we can do for you. \nGolden Sierra offers the following services to eligible individuals: \n\nTraining Scholarships\nCareer Counseling\nFinancial Assistance\n\nWe also have specialized programs for young adults\, veterans\, justice involved individuals\, and people with disabilities. \nRegister Here
URL:https://goldensierra.com/event/virtual-orientation-3/2025-04-02
CATEGORIES:Job Seeker,Orientation
END:VEVENT
BEGIN:VEVENT
DTSTART;TZID=America/Los_Angeles:20250402T120000
DTEND;TZID=America/Los_Angeles:20250402T150000
DTSTAMP:20260421T022256
CREATED:20250224T152755Z
LAST-MODIFIED:20250226T143534Z
UID:10003717-1743595200-1743606000@goldensierra.com
SUMMARY:Strong Workforce Advisory: Public Sector Pathways
DESCRIPTION:Explore the future of Public Sector Analyst careers at our upcoming Strong Workforce Advisory. This hybrid event will address workforce needs and skills gaps in state analyst positions. Join regional stakeholders including employers\, training providers\, industry groups\, and workforce development organizations to discuss career pathways and opportunities in this growing sector. \nRegister Here
URL:https://goldensierra.com/event/cross-sector-advisory-public-sector-pathways-information-communications-technologies
CATEGORIES:Community Event,Employer,Job Seeker
END:VEVENT
BEGIN:VEVENT
DTSTART;TZID=America/Los_Angeles:20250403T110000
DTEND;TZID=America/Los_Angeles:20250403T120000
DTSTAMP:20260421T022256
CREATED:20241010T170233Z
LAST-MODIFIED:20241115T002953Z
UID:10003533-1743678000-1743681600@goldensierra.com
SUMMARY:Metrix: Tip Thursday
DESCRIPTION:Metrix’s eLearning portal is designed to improve your job prospects. Request your free account from Golden Sierra and begin taking online courses right away. If you need help navigating the portal or troubleshooting technical issues\, join the Tip Thursday webinar for expert advice. \nJoin Now via Teams
URL:https://goldensierra.com/event/metrix-learning-tip-thursday/2025-04-03
CATEGORIES:Job Seeker,Workshop
END:VEVENT
BEGIN:VEVENT
DTSTART;TZID=America/Los_Angeles:20250407T090000
DTEND;TZID=America/Los_Angeles:20250407T113000
DTSTAMP:20260421T022256
CREATED:20250131T145020Z
LAST-MODIFIED:20250131T145020Z
UID:10003697-1744016400-1744025400@goldensierra.com
SUMMARY:Job One: Networking
DESCRIPTION:The experienced coaches at Job One provide a rotating schedule of virtual job search workshops at no-cost. They cover topics such as self-marketing\, using LinkedIn\, networking\, resumes\, cover letters\, and more. Their goal is to help you conduct an effective job search and increase your confidence. One-on-one sessions are available for resume critiques and mock interviews. \nJob One meets on Mondays via Zoom (Meeting ID: 910-283-386) \nMore Information
URL:https://goldensierra.com/event/job-one-networking-2
CATEGORIES:Job Seeker,Workshop
END:VEVENT
BEGIN:VEVENT
DTSTART;TZID=America/Los_Angeles:20250407T100000
DTEND;TZID=America/Los_Angeles:20250407T110000
DTSTAMP:20260421T022256
CREATED:20250312T003221Z
LAST-MODIFIED:20250324T223354Z
UID:10003726-1744020000-1744023600@goldensierra.com
SUMMARY:Job Talk: City of Sacramento & PeachTree Health
DESCRIPTION:Job Talk is a great way to get information about current job openings with local employers. This in-person event is hosted by Sacramento County Department of Human Assistance and will include a presentation from City of Sacramento and PeachTree Health. The participating employers are often ready to hire. We suggest you arrive early\, dress for an interview\, and bring copies of your resume. For additional information\, please contact the host: DHA-AE00-VJT@SACCOUNTY.GOV / 916-875-3323. \n3960 Research Drive\, Sacramento\, CA 95838
URL:https://goldensierra.com/event/job-talk
CATEGORIES:Digest,Job Seeker,Workshop
END:VEVENT
BEGIN:VEVENT
DTSTART;TZID=America/Los_Angeles:20250407T100000
DTEND;TZID=America/Los_Angeles:20250407T110000
DTSTAMP:20260421T022256
CREATED:20250320T203320Z
LAST-MODIFIED:20250324T223516Z
UID:10003731-1744020000-1744023600@goldensierra.com
SUMMARY:Job Talk: CA Department of Water Resources
DESCRIPTION:Job Talk is a great way to get information about current job openings with local employers. This in-person event is hosted by Sacramento County Department of Human Assistance and will include a presentation from California Department of Water Resources. The participating employers are often ready to hire. We suggest you arrive early\, dress for an interview\, and bring copies of your resume. For additional information\, please contact the host: DHA-AE00-VJT@SACCOUNTY.GOV / 916-875-3323. \n2450 Florin Road\, Sacramento\, CA 95822
URL:https://goldensierra.com/event/job-talk-ca-department-of-water-resources
CATEGORIES:Digest,Job Seeker,Workshop
END:VEVENT
END:VCALENDAR