BEGIN:VCALENDAR
VERSION:2.0
PRODID:-//Golden Sierra Job Training Agency - ECPv6.15.20//NONSGML v1.0//EN
CALSCALE:GREGORIAN
METHOD:PUBLISH
X-WR-CALNAME:Golden Sierra Job Training Agency
X-ORIGINAL-URL:https://goldensierra.com
X-WR-CALDESC:Events for Golden Sierra Job Training Agency
REFRESH-INTERVAL;VALUE=DURATION:PT1H
X-Robots-Tag:noindex
X-PUBLISHED-TTL:PT1H
BEGIN:VTIMEZONE
TZID:America/Los_Angeles
BEGIN:DAYLIGHT
TZOFFSETFROM:-0800
TZOFFSETTO:-0700
TZNAME:PDT
DTSTART:20230312T100000
END:DAYLIGHT
BEGIN:STANDARD
TZOFFSETFROM:-0700
TZOFFSETTO:-0800
TZNAME:PST
DTSTART:20231105T090000
END:STANDARD
BEGIN:DAYLIGHT
TZOFFSETFROM:-0800
TZOFFSETTO:-0700
TZNAME:PDT
DTSTART:20240310T100000
END:DAYLIGHT
BEGIN:STANDARD
TZOFFSETFROM:-0700
TZOFFSETTO:-0800
TZNAME:PST
DTSTART:20241103T090000
END:STANDARD
BEGIN:DAYLIGHT
TZOFFSETFROM:-0800
TZOFFSETTO:-0700
TZNAME:PDT
DTSTART:20250309T100000
END:DAYLIGHT
BEGIN:STANDARD
TZOFFSETFROM:-0700
TZOFFSETTO:-0800
TZNAME:PST
DTSTART:20251102T090000
END:STANDARD
BEGIN:DAYLIGHT
TZOFFSETFROM:-0800
TZOFFSETTO:-0700
TZNAME:PDT
DTSTART:20260308T100000
END:DAYLIGHT
BEGIN:STANDARD
TZOFFSETFROM:-0700
TZOFFSETTO:-0800
TZNAME:PST
DTSTART:20261101T090000
END:STANDARD
END:VTIMEZONE
BEGIN:VEVENT
DTSTART;TZID=America/Los_Angeles:20250306T110000
DTEND;TZID=America/Los_Angeles:20250306T130000
DTSTAMP:20260421T182057
CREATED:20250227T185911Z
LAST-MODIFIED:20250227T192512Z
UID:10003721-1741258800-1741266000@goldensierra.com
SUMMARY:Job Connections: Public Sector
DESCRIPTION:Recruiters from Nevada County\, Placer County\, and the Franchise Tax Board (State of California) will be in Auburn to share their job openings and provide application assistance. This is a hybrid event with the option to attend in-person (Jeff Brown Conference Room) or by Zoom. \n\nRegister Here \nTo learn more\, please contact the Business Advantage Network – ban@placer.ca.gov
URL:https://goldensierra.com/event/job-connections-public-sector
LOCATION:Placer County Human Services (Auburn)\, 11542 B Avenue\, Auburn\, CA\, 95603\, United States
CATEGORIES:Hiring Event,Job Seeker,Workshop
GEO:38.9383689;-121.1066595
X-APPLE-STRUCTURED-LOCATION;VALUE=URI;X-ADDRESS=Placer County Human Services (Auburn) 11542 B Avenue Auburn CA 95603 United States;X-APPLE-RADIUS=500;X-TITLE=11542 B Avenue:geo:-121.1066595,38.9383689
END:VEVENT
BEGIN:VEVENT
DTSTART;TZID=America/Los_Angeles:20250227T110000
DTEND;TZID=America/Los_Angeles:20250227T150000
DTSTAMP:20260421T182057
CREATED:20250220T195346Z
LAST-MODIFIED:20250220T195346Z
UID:10003664-1740654000-1740668400@goldensierra.com
SUMMARY:SacJobs Career Fair
DESCRIPTION:Looking for a new career opportunity? SacJobs is hosting a free event at the Lions Gate Hotel in McClellan Park. Meet directly with hiring managers from a variety of public and private organizations. Check out the host’s website for instructions on how to register. \nSacJobs 2025 Career Fair Flyer \nVideo \nConfirmed employers include: \n\nSMUD\nPoint Quest\nCaltrans\nSacramento Regional Transit District\nCAL Fire\nCity of Richmond Police Department\nAtlas Disposal\nSacramento County Office of Education\nEl Dorado County Office of Education\nCA Department of Industrial Relations\nSac County\nEnriching Lives\nJohn Stewart Company\nCombined\, A Chubb Company\nAlameda County Sheriff’s Office\nStockton Police Department\nEdges Electrical Group\nCA Dept. of Finance\nCalifornia Public Utilities Commission\nAlta Cal Regional Center\nRichmond Police Dept\nPlacer Superior Court\nSan Francisco Police Department\nSacramento County Probation Department\nHighlands Community Charter & Technical Schools\nFolsom Cordova Unified School District\nPlacer County\nALS Association\nFEMA\nUS Army
URL:https://goldensierra.com/event/sacjobs-career-fair-2
LOCATION:CA
CATEGORIES:Hiring Event,Job Seeker
END:VEVENT
BEGIN:VEVENT
DTSTART;TZID=America/Los_Angeles:20250206T100000
DTEND;TZID=America/Los_Angeles:20250206T120000
DTSTAMP:20260421T182057
CREATED:20250109T183904Z
LAST-MODIFIED:20250203T185023Z
UID:10003662-1738836000-1738843200@goldensierra.com
SUMMARY:Job Connections: CA Department of Industrial Relations
DESCRIPTION:The Recruitment and Outreach Team from the California Department of Industrial Relations will be in Rocklin to share their job openings and provide application assistance. This is a hybrid event with the option to attend in-person or by Zoom. \n\nRegister Here \nTo learn more\, please contact the Business Advantage Network – ban@placer.ca.gov
URL:https://goldensierra.com/event/job-connections-ca-department-of-industrial-relations
LOCATION:Business Resource Center\, 1000 Sunset Boulevard\, #105\, Rocklin\, CA\, 95677\, United States
CATEGORIES:Hiring Event,Job Seeker
GEO:38.815892;-121.289181
X-APPLE-STRUCTURED-LOCATION;VALUE=URI;X-ADDRESS=Business Resource Center 1000 Sunset Boulevard #105 Rocklin CA 95677 United States;X-APPLE-RADIUS=500;X-TITLE=1000 Sunset Boulevard\, #105:geo:-121.289181,38.815892
END:VEVENT
BEGIN:VEVENT
DTSTART;TZID=America/Los_Angeles:20250117T090000
DTEND;TZID=America/Los_Angeles:20250117T150000
DTSTAMP:20260421T182057
CREATED:20250104T010302Z
LAST-MODIFIED:20250116T004400Z
UID:10003658-1737104400-1737126000@goldensierra.com
SUMMARY:Safeway Hiring Event
DESCRIPTION:Safeway is opening a new store in Roseville on Pleasant Grove Boulevard. Two in-person hiring events will be held at the Woodcreek Oaks Boulevard location. Stop by any time between 9am and 3pm to submit your application and meet the hiring manager. Expect walk-in interviews and on-the-spot job offers for a variety of positions. See flyer for additional information. \nFlyer
URL:https://goldensierra.com/event/safeway-hiring-event/2025-01-17
LOCATION:Safeway\, 9045 Woodcreek Oaks Blvd\, Roseville\, CA\, 95747\, United States
CATEGORIES:Hiring Event,Job Seeker
GEO:38.7945581;-121.3304616
X-APPLE-STRUCTURED-LOCATION;VALUE=URI;X-ADDRESS=Safeway 9045 Woodcreek Oaks Blvd Roseville CA 95747 United States;X-APPLE-RADIUS=500;X-TITLE=9045 Woodcreek Oaks Blvd:geo:-121.3304616,38.7945581
END:VEVENT
BEGIN:VEVENT
DTSTART;TZID=America/Los_Angeles:20250112T130000
DTEND;TZID=America/Los_Angeles:20250112T160000
DTSTAMP:20260421T182057
CREATED:20250110T014956Z
LAST-MODIFIED:20250110T014956Z
UID:10003663-1736686800-1736697600@goldensierra.com
SUMMARY:Annual Event Staff Job Fair
DESCRIPTION:Looking for a fun and dynamic job? Sutter Health Park is hosting its annual Event Staff Job Fair at the Golden 1 Center. This is your chance to be part of the action at Sacramento River Cats games\, Athletics games\, and a variety of exciting non-baseball events. Meet directly with hiring managers for a range of game day roles\, including guest services\, security\, EMTs\, merchandise associates\, and food and beverage positions like bartenders\, cooks\, and premium servers. \nApply Here
URL:https://goldensierra.com/event/annual-event-staff-job-fair
LOCATION:CA
CATEGORIES:Hiring Event,Job Seeker
END:VEVENT
BEGIN:VEVENT
DTSTART;TZID=America/Los_Angeles:20250110T090000
DTEND;TZID=America/Los_Angeles:20250110T150000
DTSTAMP:20260421T182057
CREATED:20250104T010302Z
LAST-MODIFIED:20250116T004400Z
UID:10003657-1736499600-1736521200@goldensierra.com
SUMMARY:Safeway Hiring Event
DESCRIPTION:Safeway is opening a new store in Roseville on Pleasant Grove Boulevard. Two in-person hiring events will be held at the Woodcreek Oaks Boulevard location. Stop by any time between 9am and 3pm to submit your application and meet the hiring manager. Expect walk-in interviews and on-the-spot job offers for a variety of positions. See flyer for additional information. \nFlyer
URL:https://goldensierra.com/event/safeway-hiring-event/2025-01-10
LOCATION:Safeway\, 9045 Woodcreek Oaks Blvd\, Roseville\, CA\, 95747\, United States
CATEGORIES:Hiring Event,Job Seeker
GEO:38.7945581;-121.3304616
X-APPLE-STRUCTURED-LOCATION;VALUE=URI;X-ADDRESS=Safeway 9045 Woodcreek Oaks Blvd Roseville CA 95747 United States;X-APPLE-RADIUS=500;X-TITLE=9045 Woodcreek Oaks Blvd:geo:-121.3304616,38.7945581
END:VEVENT
BEGIN:VEVENT
DTSTART;TZID=America/Los_Angeles:20241114T130000
DTEND;TZID=America/Los_Angeles:20241114T150000
DTSTAMP:20260421T182057
CREATED:20241023T191452Z
LAST-MODIFIED:20241106T213849Z
UID:10003631-1731589200-1731596400@goldensierra.com
SUMMARY:Job Connections: USPS & FedEx
DESCRIPTION:This is your opportunity to meet with local employers USPS and FedEx. Come hear how to get hired and stand out from other applicants. \nLocation: 11434 B Ave Auburn\, CA\nOr Virtually via ZOOM \nRegister Now \nTo learn more\, please contact: Chelsie Green\, cgreen@placer.ca.gov \nUSPS: The Postal Service is the second largest employer in the United States. USPS is an excellent workplace for self-motivated individuals who enjoy independence and measurable goals with the added satisfaction of serving our communities. \nFedEx Corporation: FedEx team members are deep-down dedicated to their Purple Promise-to make every FedEx experience outstanding. Engaging with each other to find creative\, innovative ways to solve customer problems.
URL:https://goldensierra.com/event/job-connections-usps-fedex
LOCATION:CA
CATEGORIES:Hiring Event,Job Seeker
END:VEVENT
BEGIN:VEVENT
DTSTART;TZID=America/Los_Angeles:20241104T090000
DTEND;TZID=America/Los_Angeles:20241104T103000
DTSTAMP:20260421T182057
CREATED:20241011T154531Z
LAST-MODIFIED:20241011T155116Z
UID:10003572-1730710800-1730716200@goldensierra.com
SUMMARY:CalPERS Virtual Webinar
DESCRIPTION:There’s a place for you at CalPERS.  Are you looking for a state service career that offers purpose-driven work? Across two days\, we’re sharing tips and strategies to connect you with a CalPERS career. As the nation’s largest pension fund\, we’re a global leader in retirement and health benefits and want you to join the team. Secure your spot today! \nVirtual Webinar \n• Gain actionable insights on how to navigate the hiring process.\n• Speak to division representatives to learn about their working area\, culture\, vacancies\, and more!\n• Get your questions answered directly from the experts. \nRegister Here \nQuestions? Email HRSD_Career_Services@CalPERS.ca.gov \nCalPERS Career Center Event Flyer
URL:https://goldensierra.com/event/calpers-virtual-webinar
LOCATION:CA
CATEGORIES:Hiring Event,Job Seeker
END:VEVENT
BEGIN:VEVENT
DTSTART;TZID=America/Los_Angeles:20241024T100000
DTEND;TZID=America/Los_Angeles:20241024T140000
DTSTAMP:20260421T182057
CREATED:20241010T184244Z
LAST-MODIFIED:20241011T182629Z
UID:10003560-1729764000-1729778400@goldensierra.com
SUMMARY:YoloWorks! Job Fair
DESCRIPTION:YoloWorks! is hosting an in-person job fair with 60 employers and community resources. This event is brought to you by Yolo County Health and Human Services Agency and the Yolo County Workforce Innovation Board in partnership with City of West Sacramento and West Sacramento Chamber of Commerce. \nRegister Here
URL:https://goldensierra.com/event/job-fair
LOCATION:Civic Center Galleria\, 1110 West Capitol Avenue\, West Sacramento\, CA\, 95691\, United States
CATEGORIES:Hiring Event,Job Seeker
GEO:38.5818436;-121.5236416
X-APPLE-STRUCTURED-LOCATION;VALUE=URI;X-ADDRESS=Civic Center Galleria 1110 West Capitol Avenue West Sacramento CA 95691 United States;X-APPLE-RADIUS=500;X-TITLE=1110 West Capitol Avenue:geo:-121.5236416,38.5818436
END:VEVENT
BEGIN:VEVENT
DTSTART;TZID=America/Los_Angeles:20241016T140000
DTEND;TZID=America/Los_Angeles:20241016T160000
DTSTAMP:20260421T182057
CREATED:20241010T192249Z
LAST-MODIFIED:20241010T192806Z
UID:10003561-1729087200-1729094400@goldensierra.com
SUMMARY:Job Connections: Caregiving and Childcare Careers
DESCRIPTION:Job Connections is a free\, monthly event designed to help job seekers learn about local employment opportunities. This month is a hybrid event where you can choose to attend in-person or via Zoom. \nRegister Here
URL:https://goldensierra.com/event/job-connections-caregiving-and-childcare-careers
LOCATION:Placer County Employment Services (Rocklin)\, 1000 Sunset Boulevard\, Suite 100\, Rocklin\, CA\, 95765\, United States
CATEGORIES:Hiring Event,Job Seeker
GEO:38.8158334;-121.2892569
X-APPLE-STRUCTURED-LOCATION;VALUE=URI;X-ADDRESS=Placer County Employment Services (Rocklin) 1000 Sunset Boulevard Suite 100 Rocklin CA 95765 United States;X-APPLE-RADIUS=500;X-TITLE=1000 Sunset Boulevard\, Suite 100:geo:-121.2892569,38.8158334
END:VEVENT
BEGIN:VEVENT
DTSTART;TZID=America/Los_Angeles:20241016T100000
DTEND;TZID=America/Los_Angeles:20241016T130000
DTSTAMP:20260421T182057
CREATED:20240924T203751Z
LAST-MODIFIED:20240924T203854Z
UID:10003458-1729072800-1729083600@goldensierra.com
SUMMARY:Sutter County One-Stop: Fall Job Fair
DESCRIPTION:2024 FALL JOB FAIR \nYuba-Sutter Fairgrounds (Franklin Hall) 442 Franklin Avenue\, Yuba City\, CA 95991 \nThis is your chance to meet face-to-face with top employers from the Yuba-Sutter area and explore a wide range of job opportunities. Stay tuned for updates on the employers attending the fair. Save time in line by registering for the job fair now! \nTips for Job Seekers: Dress professionally\, perfect your introductory speech to employers\, and bring multiple copies of your resume. We encourage you not to bring children to the event. \nFor more information contact: Sutter County One Stop  – (530) 822-5120 711 TTY/VRS \nThe Sutter County One Stop is a proud partner of America’s Job Center of California℠ network. www.sutteronestop.com  Equal Opportunity Employer/Program. Auxiliary aides & services are available upon request to individuals with disabilities. \nSkip the line. Register ahead of time!\n1.Create an account on CalJobs.ca.gov (Already have an account? Go to step 2)\n2. Register for this event on Eventbrite https://tinyurl.com/whzru3nx\nDRESS FOR SUCCESS! NO Children Please!
URL:https://goldensierra.com/event/sutter-county-one-stop-fall-job-fair
LOCATION:CA
CATEGORIES:Hiring Event,Job Seeker
END:VEVENT
BEGIN:VEVENT
DTSTART;TZID=America/Los_Angeles:20241002T113000
DTEND;TZID=America/Los_Angeles:20241002T133000
DTSTAMP:20260421T182057
CREATED:20240924T204247Z
LAST-MODIFIED:20240924T204247Z
UID:10003460-1727868600-1727875800@goldensierra.com
SUMMARY:Building and Construction Career Exploration Expo
DESCRIPTION:Link: Building & Construction Career Exploration Expo Fall \nWednesday\, October 2nd | 11:30 AM – 1:30 PM\nSierra College (J Building)\n5100 Sierra College Blvd\, Rocklin\, CA 95677 \nPlease join McCarthy Building Companies\, Inc.\, and Sierra College for the Building & Construction Career Exploration Expo! \nThis event will give Sierra students and the local community the opportunity to learn about career pathways in the construction industry. You will find connections with various industry vendors who are interested in hiring and training. Students will have an immersive experience with opportunities to network with trade partners\, trade unions\, workforce development organizations\, and local pre-apprenticeship training programs. \nThe expo will have Q&A roundtable discussions\, vendor networking tables\, and a must-watch expert panel! See what sparks your interest\, all are welcome! \nQuestions/Concerns: Nancy Macias (916-660-7816) nmaciasosorio@sierracollege.edu
URL:https://goldensierra.com/event/building-and-construction-career-exploration-expo
LOCATION:Sierra College\, 5100 Sierra College Blvd.\, Rocklin\, CA\, 95677\, United States
CATEGORIES:Community Event,Hiring Event,Job Seeker
GEO:38.7914688;-121.2117693
X-APPLE-STRUCTURED-LOCATION;VALUE=URI;X-ADDRESS=Sierra College 5100 Sierra College Blvd. Rocklin CA 95677 United States;X-APPLE-RADIUS=500;X-TITLE=5100 Sierra College Blvd.:geo:-121.2117693,38.7914688
END:VEVENT
END:VCALENDAR