BEGIN:VCALENDAR
VERSION:2.0
PRODID:-//Golden Sierra Job Training Agency - ECPv6.15.20//NONSGML v1.0//EN
CALSCALE:GREGORIAN
METHOD:PUBLISH
X-WR-CALNAME:Golden Sierra Job Training Agency
X-ORIGINAL-URL:https://goldensierra.com
X-WR-CALDESC:Events for Golden Sierra Job Training Agency
REFRESH-INTERVAL;VALUE=DURATION:PT1H
X-Robots-Tag:noindex
X-PUBLISHED-TTL:PT1H
BEGIN:VTIMEZONE
TZID:America/Los_Angeles
BEGIN:DAYLIGHT
TZOFFSETFROM:-0800
TZOFFSETTO:-0700
TZNAME:PDT
DTSTART:20250309T100000
END:DAYLIGHT
BEGIN:STANDARD
TZOFFSETFROM:-0700
TZOFFSETTO:-0800
TZNAME:PST
DTSTART:20251102T090000
END:STANDARD
BEGIN:DAYLIGHT
TZOFFSETFROM:-0800
TZOFFSETTO:-0700
TZNAME:PDT
DTSTART:20260308T100000
END:DAYLIGHT
BEGIN:STANDARD
TZOFFSETFROM:-0700
TZOFFSETTO:-0800
TZNAME:PST
DTSTART:20261101T090000
END:STANDARD
BEGIN:DAYLIGHT
TZOFFSETFROM:-0800
TZOFFSETTO:-0700
TZNAME:PDT
DTSTART:20270314T100000
END:DAYLIGHT
BEGIN:STANDARD
TZOFFSETFROM:-0700
TZOFFSETTO:-0800
TZNAME:PST
DTSTART:20271107T090000
END:STANDARD
END:VTIMEZONE
BEGIN:VEVENT
DTSTART;TZID=America/Los_Angeles:20260422T100000
DTEND;TZID=America/Los_Angeles:20260422T130000
DTSTAMP:20260420T195409
CREATED:20260401T152625Z
LAST-MODIFIED:20260415T183856Z
UID:10004716-1776852000-1776862800@goldensierra.com
SUMMARY:Accurate Personnel Interview Event
DESCRIPTION:Accurate Personnel is hiring! They’ll be on-site and looking to fill multiple positions during this walk-in interview event. No appointment needed – just bring your resume and enthusiasm. For questions\, please contact 916-512-8930 \nAccurate Hiring Event 4-22 \n**Note** Time changed to start at 10am \n 
URL:https://goldensierra.com/event/accurate-personnel-interview-event-5
LOCATION:Golden Sierra Job Training Agency\, 115 Ascot Drive\, Suite 100\, Roseville\, CA\, CA\, 95661\, United States
CATEGORIES:Hiring Event,Job Seeker
GEO:38.9296249;-121.0900168
X-APPLE-STRUCTURED-LOCATION;VALUE=URI;X-ADDRESS=Golden Sierra Job Training Agency 115 Ascot Drive Suite 100 Roseville CA CA 95661 United States;X-APPLE-RADIUS=500;X-TITLE=115 Ascot Drive\, Suite 100:geo:-121.0900168,38.9296249
END:VEVENT
BEGIN:VEVENT
DTSTART;TZID=America/Los_Angeles:20260423T080000
DTEND;TZID=America/Los_Angeles:20260423T180000
DTSTAMP:20260420T195409
CREATED:20260302T164730Z
LAST-MODIFIED:20260317T213626Z
UID:10004690-1776931200-1776967200@goldensierra.com
SUMMARY:Skilled Trades Day
DESCRIPTION:Join Building Careers Foundation for an all day event focused on skilled trades. Enjoy breakfast before you meet with employers\, attend workshops\, and network. Space is limited so register today.
URL:https://goldensierra.com/event/building-careers-foundation-skilled-trades-day
LOCATION:BuildStrong Academy\, 9332 Tech Center Drive #500\, Sacramento\, 95826\, United States
CATEGORIES:Digest,Hiring Event,Job Seeker
GEO:38.56292;-121.3505206
X-APPLE-STRUCTURED-LOCATION;VALUE=URI;X-ADDRESS=BuildStrong Academy 9332 Tech Center Drive #500 Sacramento 95826 United States;X-APPLE-RADIUS=500;X-TITLE=9332 Tech Center Drive #500:geo:-121.3505206,38.56292
END:VEVENT
BEGIN:VEVENT
DTSTART;TZID=America/Los_Angeles:20260429T100000
DTEND;TZID=America/Los_Angeles:20260429T130000
DTSTAMP:20260420T195409
CREATED:20260401T152734Z
LAST-MODIFIED:20260415T183958Z
UID:10004717-1777456800-1777467600@goldensierra.com
SUMMARY:Accurate Personnel Interview Event
DESCRIPTION:Accurate Personnel is hiring! They’ll be on-site and looking to fill multiple positions during this walk-in interview event. No appointment needed – just bring your resume and enthusiasm. For questions\, please contact 916-512-8930 \nAccurate Hiring Event 4-29 \n**Note** Time changed to start at 10am \n 
URL:https://goldensierra.com/event/accurate-personnel-interview-event-6
LOCATION:Golden Sierra Job Training Agency\, 115 Ascot Drive\, Suite 100\, Roseville\, CA\, CA\, 95661\, United States
CATEGORIES:Hiring Event,Job Seeker
GEO:38.9296249;-121.0900168
X-APPLE-STRUCTURED-LOCATION;VALUE=URI;X-ADDRESS=Golden Sierra Job Training Agency 115 Ascot Drive Suite 100 Roseville CA CA 95661 United States;X-APPLE-RADIUS=500;X-TITLE=115 Ascot Drive\, Suite 100:geo:-121.0900168,38.9296249
END:VEVENT
BEGIN:VEVENT
DTSTART;TZID=America/Los_Angeles:20260430T100000
DTEND;TZID=America/Los_Angeles:20260430T140000
DTSTAMP:20260420T195409
CREATED:20260127T185217Z
LAST-MODIFIED:20260127T185217Z
UID:10004667-1777543200-1777557600@goldensierra.com
SUMMARY:Work for California: Spring Career Fair
DESCRIPTION:Presented by SETA Sacramento Works\, meet with state recruiters to learn about career opportunities. Attend seminars to learn how to navigate the state’s application process. \nRegister Here \nWork for California Spring Career Fair Flyer
URL:https://goldensierra.com/event/work-for-california-spring-career-fair
LOCATION:Sacramento Employment and Training Agency\, 925 Del Paso Boulevard\, Sacramento\, CA\, 95815\, United States
CATEGORIES:Digest,Hiring Event,Job Seeker
GEO:38.6029735;-121.4669969
X-APPLE-STRUCTURED-LOCATION;VALUE=URI;X-ADDRESS=Sacramento Employment and Training Agency 925 Del Paso Boulevard Sacramento CA 95815 United States;X-APPLE-RADIUS=500;X-TITLE=925 Del Paso Boulevard:geo:-121.4669969,38.6029735
END:VEVENT
BEGIN:VEVENT
DTSTART;TZID=America/Los_Angeles:20260507T150000
DTEND;TZID=America/Los_Angeles:20260507T173000
DTSTAMP:20260420T195409
CREATED:20260420T181949Z
LAST-MODIFIED:20260420T200653Z
UID:10004738-1778166000-1778175000@goldensierra.com
SUMMARY:EDCOE (El Dorado County Dept of Education) Extended Day Hiring Fair
DESCRIPTION:Join EDCOE for a one-stop hiring experience.  Interview and fingerprint all in the same day.  Walk out with a job offer and help provide essential before and after school childcare in your community.  Must be at least 16 yrs old to apply.  See attached flyer to register for the event \nEDCOE Extended Day Hiring Fair
URL:https://goldensierra.com/event/edcoe-el-dorado-county-dept-of-education-extended-day-hiring-fair
LOCATION:6767 Green Valley Road\, 6767 Green Valley Road\, Placerville\, United States
CATEGORIES:Digest,Hiring Event,Job Seeker
GEO:38.7217242;-120.8667613
X-APPLE-STRUCTURED-LOCATION;VALUE=URI;X-ADDRESS=6767 Green Valley Road 6767 Green Valley Road Placerville United States;X-APPLE-RADIUS=500;X-TITLE=6767 Green Valley Road:geo:-120.8667613,38.7217242
END:VEVENT
BEGIN:VEVENT
DTSTART;TZID=America/Los_Angeles:20260617T160000
DTEND;TZID=America/Los_Angeles:20260617T190000
DTSTAMP:20260420T195409
CREATED:20260416T160347Z
LAST-MODIFIED:20260416T160347Z
UID:10004737-1781712000-1781722800@goldensierra.com
SUMMARY:Construction & Trades Job Fair
DESCRIPTION:Join Sac Jobs for the Construction & Trades Job Fair. \nConstruction and Trades Job Fair June 2026
URL:https://goldensierra.com/event/construction-trades-job-fair
LOCATION:Scottish Rite Masonic Center\, 6151 H Street\, Sacramento\, 95819\, United States
CATEGORIES:Digest,Hiring Event,Job Seeker
GEO:38.5692546;-121.4268088
X-APPLE-STRUCTURED-LOCATION;VALUE=URI;X-ADDRESS=Scottish Rite Masonic Center 6151 H Street Sacramento 95819 United States;X-APPLE-RADIUS=500;X-TITLE=6151 H Street:geo:-121.4268088,38.5692546
END:VEVENT
BEGIN:VEVENT
DTSTART;TZID=America/Los_Angeles:20261014T110000
DTEND;TZID=America/Los_Angeles:20261014T140000
DTSTAMP:20260420T195409
CREATED:20260407T180824Z
LAST-MODIFIED:20260407T180824Z
UID:10004721-1791975600-1791986400@goldensierra.com
SUMMARY:PRIDE Industries: I AM ABLE Disability Job Fair
DESCRIPTION:Join PRIDE Industries for their third annual I AM ABLE Disability Job Fair\, a one-day event that brings together inclusive employers and talented job seekers with disabilities. Nearly 40 companies are seeking to fill open positions in facilities maintenance\, business administration\, and a range of other specialties. To get the most out of the job fair\, be prepared to talk about your skills and bring copies of your resume. \nFor more information\, please visit PRIDE Industries’ website or contact kat.maudru@prideindustries.com to register \n  \n 
URL:https://goldensierra.com/event/pride-industries-i-am-able-disability-job-fair-2
LOCATION:SAFE Credit Union Convention Center\, 1400 J Street\, Hall A\, Sacramento\, 95814\, United States
CATEGORIES:Digest,Hiring Event,Job Seeker
GEO:38.5782849;-121.487927
X-APPLE-STRUCTURED-LOCATION;VALUE=URI;X-ADDRESS=SAFE Credit Union Convention Center 1400 J Street Hall A Sacramento 95814 United States;X-APPLE-RADIUS=500;X-TITLE=1400 J Street\, Hall A:geo:-121.487927,38.5782849
END:VEVENT
END:VCALENDAR