BEGIN:VCALENDAR
VERSION:2.0
PRODID:-//Golden Sierra Job Training Agency - ECPv6.15.20//NONSGML v1.0//EN
CALSCALE:GREGORIAN
METHOD:PUBLISH
X-WR-CALNAME:Golden Sierra Job Training Agency
X-ORIGINAL-URL:https://goldensierra.com
X-WR-CALDESC:Events for Golden Sierra Job Training Agency
REFRESH-INTERVAL;VALUE=DURATION:PT1H
X-Robots-Tag:noindex
X-PUBLISHED-TTL:PT1H
BEGIN:VTIMEZONE
TZID:America/Los_Angeles
BEGIN:DAYLIGHT
TZOFFSETFROM:-0800
TZOFFSETTO:-0700
TZNAME:PDT
DTSTART:20250309T100000
END:DAYLIGHT
BEGIN:STANDARD
TZOFFSETFROM:-0700
TZOFFSETTO:-0800
TZNAME:PST
DTSTART:20251102T090000
END:STANDARD
BEGIN:DAYLIGHT
TZOFFSETFROM:-0800
TZOFFSETTO:-0700
TZNAME:PDT
DTSTART:20260308T100000
END:DAYLIGHT
BEGIN:STANDARD
TZOFFSETFROM:-0700
TZOFFSETTO:-0800
TZNAME:PST
DTSTART:20261101T090000
END:STANDARD
BEGIN:DAYLIGHT
TZOFFSETFROM:-0800
TZOFFSETTO:-0700
TZNAME:PDT
DTSTART:20270314T100000
END:DAYLIGHT
BEGIN:STANDARD
TZOFFSETFROM:-0700
TZOFFSETTO:-0800
TZNAME:PST
DTSTART:20271107T090000
END:STANDARD
END:VTIMEZONE
BEGIN:VEVENT
DTSTART;TZID=America/Los_Angeles:20260126T090000
DTEND;TZID=America/Los_Angeles:20260126T113000
DTSTAMP:20260420T104034
CREATED:20260113T225652Z
LAST-MODIFIED:20260126T163325Z
UID:10004650-1769418000-1769427000@goldensierra.com
SUMMARY:Job One: Resume and Cover Letters
DESCRIPTION:The experienced coaches at Job One provide a rotating schedule of virtual job search workshops at no-cost. They cover topics such as self-marketing\, using LinkedIn\, networking\, resumes\, cover letters\, and more. Their goal is to help you conduct an effective job search and increase your confidence. One-on-one sessions are available for resume critiques and mock interviews. \nJob One (hosted by Bayside Church) meets on Mondays via Zoom (Meeting ID: 910-283-386). \nMore Information
URL:https://goldensierra.com/event/job-one-resume-and-cover-letters
CATEGORIES:Job Seeker,Workshop
LOCATION:
END:VEVENT
BEGIN:VEVENT
DTSTART;TZID=America/Los_Angeles:20260126T100000
DTEND;TZID=America/Los_Angeles:20260126T130000
DTSTAMP:20260420T104034
CREATED:20260120T195130Z
LAST-MODIFIED:20260130T000517Z
UID:10004661-1769421600-1769432400@goldensierra.com
SUMMARY:Pop-Up Job Fair
DESCRIPTION:Join SETA and EDD at their mini job fair located at the Mark Sanders AJCC.  Meet with recruiters from Accurate Personnel Services\, the State of California – Department of Developmental Services (DDS)\, BMO\, US Navy\, and the United States Postal Service (USPS).  Bring your resume and dress to impress.  Please see the flyer attached for more information. \nSETA-EDD Mini Job Fair 1.26.26
URL:https://goldensierra.com/event/employer-pop-up-mini-job-fair-presented-by-seta-and-edd-2
LOCATION:Mark Sanders AJCC\, 2901 50th Street\, Sacramento\, 95817\, United States
CATEGORIES:Digest,Hiring Event,Job Seeker
GEO:38.547361;-121.4457494
X-APPLE-STRUCTURED-LOCATION;VALUE=URI;X-ADDRESS=Mark Sanders AJCC 2901 50th Street Sacramento 95817 United States;X-APPLE-RADIUS=500;X-TITLE=2901 50th Street:geo:-121.4457494,38.547361
END:VEVENT
END:VCALENDAR