BEGIN:VCALENDAR
VERSION:2.0
PRODID:-//Golden Sierra Job Training Agency - ECPv6.15.20//NONSGML v1.0//EN
CALSCALE:GREGORIAN
METHOD:PUBLISH
X-ORIGINAL-URL:https://goldensierra.com
X-WR-CALDESC:Events for Golden Sierra Job Training Agency
REFRESH-INTERVAL;VALUE=DURATION:PT1H
X-Robots-Tag:noindex
X-PUBLISHED-TTL:PT1H
BEGIN:VTIMEZONE
TZID:America/Los_Angeles
BEGIN:DAYLIGHT
TZOFFSETFROM:-0800
TZOFFSETTO:-0700
TZNAME:PDT
DTSTART:20250309T100000
END:DAYLIGHT
BEGIN:STANDARD
TZOFFSETFROM:-0700
TZOFFSETTO:-0800
TZNAME:PST
DTSTART:20251102T090000
END:STANDARD
BEGIN:DAYLIGHT
TZOFFSETFROM:-0800
TZOFFSETTO:-0700
TZNAME:PDT
DTSTART:20260308T100000
END:DAYLIGHT
BEGIN:STANDARD
TZOFFSETFROM:-0700
TZOFFSETTO:-0800
TZNAME:PST
DTSTART:20261101T090000
END:STANDARD
BEGIN:DAYLIGHT
TZOFFSETFROM:-0800
TZOFFSETTO:-0700
TZNAME:PDT
DTSTART:20270314T100000
END:DAYLIGHT
BEGIN:STANDARD
TZOFFSETFROM:-0700
TZOFFSETTO:-0800
TZNAME:PST
DTSTART:20271107T090000
END:STANDARD
END:VTIMEZONE
BEGIN:VEVENT
DTSTART;TZID=America/Los_Angeles:20260122T110000
DTEND;TZID=America/Los_Angeles:20260122T120000
DTSTAMP:20260420T121604
CREATED:20250721T182234Z
LAST-MODIFIED:20250721T182404Z
UID:10003909-1769079600-1769083200@goldensierra.com
SUMMARY:Metrix: Tip Thursday
DESCRIPTION:Metrix’s eLearning portal is designed to improve your job prospects. Request your free account from Golden Sierra and begin taking online courses right away. If you need help navigating the portal or troubleshooting technical issues\, join the Tip Thursday webinar for expert advice. \nJoin Now via Teams
URL:https://goldensierra.com/event/metrix-learning-tip-thursday-2/2026-01-22
LOCATION:CA
CATEGORIES:Job Seeker,Workshop
END:VEVENT
BEGIN:VEVENT
DTSTART;TZID=America/Los_Angeles:20260122T120000
DTEND;TZID=America/Los_Angeles:20260122T130000
DTSTAMP:20260420T121604
CREATED:20260116T000305Z
LAST-MODIFIED:20260116T000305Z
UID:10004659-1769083200-1769086800@goldensierra.com
SUMMARY:DGS Webinar: How to Get a State Job
DESCRIPTION:Ready to Break Into a California State Career? 🚀\nIf you’ve been curious about how to land a State job but aren’t sure where to start… this is your moment! \n💼 DGS is hosting a “How To Get a State Job” Virtual Workshop!\nLearn how to apply for job vacancies with the State of California with insider tips\, practical guidance\, and real talk from HR professionals will provide insights and practical guidance for a successful state job application \nFor additional information\, contact DGSRecruitment@dgs.ca.gov. \n \nScan the QR code to Register
URL:https://goldensierra.com/event/dgs-webinar-how-to-get-a-state-job-2
LOCATION:
CATEGORIES:Digest,Job Seeker,Workshop
END:VEVENT
BEGIN:VEVENT
DTSTART;TZID=America/Los_Angeles:20260122T170000
DTEND;TZID=America/Los_Angeles:20260122T180000
DTSTAMP:20260420T121604
CREATED:20260113T220102Z
LAST-MODIFIED:20260113T220102Z
UID:10004641-1769101200-1769104800@goldensierra.com
SUMMARY:CVS Health: Online Application Workshop
DESCRIPTION:Join CVS Health’s live virtual workshop on CVS Health’s online application process.  This workshop will help individuals take the next steps toward a career with CVS Health.  Attend this virtual workshop to learn more about CVS Health\, how to search for jobs\, how to apply for open positions\, and tips for passing the Virtual Job Tryout. \nDuring this one-hour session\, they will review the following topics: \n\nSearching for jobs\nApplying for jobs\nVirtual Job Tryout (VJT)\nApplication review process\nJob interview\nJob offer\n\nRegister Here
URL:https://goldensierra.com/event/cvs-health-online-application-workshop-14/2026-01-22
LOCATION:
CATEGORIES:Job Seeker,Workshop
END:VEVENT
END:VCALENDAR