BEGIN:VCALENDAR
VERSION:2.0
PRODID:-//Golden Sierra Job Training Agency - ECPv6.15.20//NONSGML v1.0//EN
CALSCALE:GREGORIAN
METHOD:PUBLISH
X-ORIGINAL-URL:https://goldensierra.com
X-WR-CALDESC:Events for Golden Sierra Job Training Agency
REFRESH-INTERVAL;VALUE=DURATION:PT1H
X-Robots-Tag:noindex
X-PUBLISHED-TTL:PT1H
BEGIN:VTIMEZONE
TZID:America/Los_Angeles
BEGIN:DAYLIGHT
TZOFFSETFROM:-0800
TZOFFSETTO:-0700
TZNAME:PDT
DTSTART:20250309T100000
END:DAYLIGHT
BEGIN:STANDARD
TZOFFSETFROM:-0700
TZOFFSETTO:-0800
TZNAME:PST
DTSTART:20251102T090000
END:STANDARD
BEGIN:DAYLIGHT
TZOFFSETFROM:-0800
TZOFFSETTO:-0700
TZNAME:PDT
DTSTART:20260308T100000
END:DAYLIGHT
BEGIN:STANDARD
TZOFFSETFROM:-0700
TZOFFSETTO:-0800
TZNAME:PST
DTSTART:20261101T090000
END:STANDARD
BEGIN:DAYLIGHT
TZOFFSETFROM:-0800
TZOFFSETTO:-0700
TZNAME:PDT
DTSTART:20270314T100000
END:DAYLIGHT
BEGIN:STANDARD
TZOFFSETFROM:-0700
TZOFFSETTO:-0800
TZNAME:PST
DTSTART:20271107T090000
END:STANDARD
END:VTIMEZONE
BEGIN:VEVENT
DTSTART;TZID=America/Los_Angeles:20260107T110000
DTEND;TZID=America/Los_Angeles:20260107T120000
DTSTAMP:20260420T030802
CREATED:20251121T165708Z
LAST-MODIFIED:20251121T165943Z
UID:10004507-1767783600-1767787200@goldensierra.com
SUMMARY:Virtual Orientation
DESCRIPTION:If you are a resident of Placer\, El Dorado\, or Alpine counties you have access to free programs that can help you in your job search or career transition. Join us for more information and see what we can do for you. \nGolden Sierra offers the following services to eligible individuals: \n\nTraining Scholarships\nCareer Counseling\nFinancial Assistance\n\nWe also have specialized programs for young adults\, veterans\, justice involved individuals\, and people with disabilities. \nRegister Here
URL:https://goldensierra.com/event/virtual-orientation-2-2/2026-01-07
CATEGORIES:Job Seeker,Orientation
END:VEVENT
BEGIN:VEVENT
DTSTART;TZID=America/Los_Angeles:20260107T130000
DTEND;TZID=America/Los_Angeles:20260107T160000
DTSTAMP:20260420T030802
CREATED:20250725T231157Z
LAST-MODIFIED:20251121T171016Z
UID:10004152-1767790800-1767801600@goldensierra.com
SUMMARY:Career Coaching
DESCRIPTION:One-on-one career coaching sessions are a great way to get personalized help with resume development\, interview preparation\, and job search assistance. Call the front desk or email info@goldensierra.com to request an appointment.
URL:https://goldensierra.com/event/career-coaching-2/2026-01-07
LOCATION:America’s Job Center of California – Roseville\, 115 Ascot Drive Ste. 100\, Roseville\, CA\, 95661\, United States
CATEGORIES:Job Seeker,Workshop
GEO:38.742436;-121.26857
X-APPLE-STRUCTURED-LOCATION;VALUE=URI;X-ADDRESS=America’s Job Center of California – Roseville 115 Ascot Drive Ste. 100 Roseville CA 95661 United States;X-APPLE-RADIUS=500;X-TITLE=115 Ascot Drive Ste. 100:geo:-121.26857,38.742436
END:VEVENT
BEGIN:VEVENT
DTSTART;TZID=America/Los_Angeles:20260107T163000
DTEND;TZID=America/Los_Angeles:20260107T173000
DTSTAMP:20260420T030802
CREATED:20251230T205458Z
LAST-MODIFIED:20251230T205458Z
UID:10004631-1767803400-1767807000@goldensierra.com
SUMMARY:Sacramento County Workshop - The Path to County Service
DESCRIPTION:Attend a free virtual workshop to learn about the application process\, how to apply for employment opportunities\, and additional job seeker resources with the County of Sacramento. \nRegister to attend a session with one the following links below: \nWednesday January 7th\, 4:30pm-5:30pm \nJanuary 7th Registration \nTuesday January 20th\, 12pm-1pm \nJanuary 20th Registration \nFor more information\, contact DPS-RECRUITMENT@SACCOUNTY.GOV
URL:https://goldensierra.com/event/sacramento-county-workshop-the-path-to-county-service/2026-01-07
CATEGORIES:Digest,Job Seeker,Workshop
LOCATION:
END:VEVENT
END:VCALENDAR