BEGIN:VCALENDAR
VERSION:2.0
PRODID:-//Golden Sierra Job Training Agency - ECPv6.15.20//NONSGML v1.0//EN
CALSCALE:GREGORIAN
METHOD:PUBLISH
X-ORIGINAL-URL:https://goldensierra.com
X-WR-CALDESC:Events for Golden Sierra Job Training Agency
REFRESH-INTERVAL;VALUE=DURATION:PT1H
X-Robots-Tag:noindex
X-PUBLISHED-TTL:PT1H
BEGIN:VTIMEZONE
TZID:America/Los_Angeles
BEGIN:DAYLIGHT
TZOFFSETFROM:-0800
TZOFFSETTO:-0700
TZNAME:PDT
DTSTART:20240310T100000
END:DAYLIGHT
BEGIN:STANDARD
TZOFFSETFROM:-0700
TZOFFSETTO:-0800
TZNAME:PST
DTSTART:20241103T090000
END:STANDARD
BEGIN:DAYLIGHT
TZOFFSETFROM:-0800
TZOFFSETTO:-0700
TZNAME:PDT
DTSTART:20250309T100000
END:DAYLIGHT
BEGIN:STANDARD
TZOFFSETFROM:-0700
TZOFFSETTO:-0800
TZNAME:PST
DTSTART:20251102T090000
END:STANDARD
BEGIN:DAYLIGHT
TZOFFSETFROM:-0800
TZOFFSETTO:-0700
TZNAME:PDT
DTSTART:20260308T100000
END:DAYLIGHT
BEGIN:STANDARD
TZOFFSETFROM:-0700
TZOFFSETTO:-0800
TZNAME:PST
DTSTART:20261101T090000
END:STANDARD
END:VTIMEZONE
BEGIN:VEVENT
DTSTART;TZID=America/Los_Angeles:20251218T110000
DTEND;TZID=America/Los_Angeles:20251218T120000
DTSTAMP:20260420T183153
CREATED:20250721T182234Z
LAST-MODIFIED:20250721T182404Z
UID:10003904-1766055600-1766059200@goldensierra.com
SUMMARY:Metrix: Tip Thursday
DESCRIPTION:Metrix’s eLearning portal is designed to improve your job prospects. Request your free account from Golden Sierra and begin taking online courses right away. If you need help navigating the portal or troubleshooting technical issues\, join the Tip Thursday webinar for expert advice. \nJoin Now via Teams
URL:https://goldensierra.com/event/metrix-learning-tip-thursday-2/2025-12-18
LOCATION:CA
CATEGORIES:Job Seeker,Workshop
END:VEVENT
BEGIN:VEVENT
DTSTART;TZID=America/Los_Angeles:20251218T110000
DTEND;TZID=America/Los_Angeles:20251218T120000
DTSTAMP:20260420T183153
CREATED:20251215T232033Z
LAST-MODIFIED:20251215T232033Z
UID:10004546-1766055600-1766059200@goldensierra.com
SUMMARY:Financial Literacy Workshop - Understanding Money Management and Building Strong Financial Habits
DESCRIPTION:Join Business Advantage Network (BAN) and New York Life for a hands-on financial literacy workshop where you will: \n• Achieve financial wellness by building healthy money habits that reduce stress and increase long-term stability\n• Strengthen your financial foundation through smart debt management\, boosting cash flow and overall financial confidence\n• Build resilience with different types of savings to stay prepared for life’s opportunities and surprises \nThis is a hybrid event with the option to attend in-person (Suite 100) or by Zoom. \nHybrid Financial Literacy Workshop 12-18-25 Flyer\nRegister Here \nTo learn more\, please contact the Business Advantage Network – ban@placer.ca.gov \n 
URL:https://goldensierra.com/event/financial-literacy-workshop-understanding-money-management-and-building-strong-financial-habits
LOCATION:Placer County Employment Services (Rocklin)\, 1000 Sunset Boulevard\, Suite 100\, Rocklin\, CA\, 95765\, United States
CATEGORIES:Digest,Job Seeker,Workshop
GEO:38.8158334;-121.2892569
X-APPLE-STRUCTURED-LOCATION;VALUE=URI;X-ADDRESS=Placer County Employment Services (Rocklin) 1000 Sunset Boulevard Suite 100 Rocklin CA 95765 United States;X-APPLE-RADIUS=500;X-TITLE=1000 Sunset Boulevard\, Suite 100:geo:-121.2892569,38.8158334
END:VEVENT
END:VCALENDAR