BEGIN:VCALENDAR
VERSION:2.0
PRODID:-//Golden Sierra Job Training Agency - ECPv6.15.20//NONSGML v1.0//EN
CALSCALE:GREGORIAN
METHOD:PUBLISH
X-ORIGINAL-URL:https://goldensierra.com
X-WR-CALDESC:Events for Golden Sierra Job Training Agency
REFRESH-INTERVAL;VALUE=DURATION:PT1H
X-Robots-Tag:noindex
X-PUBLISHED-TTL:PT1H
BEGIN:VTIMEZONE
TZID:America/Los_Angeles
BEGIN:DAYLIGHT
TZOFFSETFROM:-0800
TZOFFSETTO:-0700
TZNAME:PDT
DTSTART:20240310T100000
END:DAYLIGHT
BEGIN:STANDARD
TZOFFSETFROM:-0700
TZOFFSETTO:-0800
TZNAME:PST
DTSTART:20241103T090000
END:STANDARD
BEGIN:DAYLIGHT
TZOFFSETFROM:-0800
TZOFFSETTO:-0700
TZNAME:PDT
DTSTART:20250309T100000
END:DAYLIGHT
BEGIN:STANDARD
TZOFFSETFROM:-0700
TZOFFSETTO:-0800
TZNAME:PST
DTSTART:20251102T090000
END:STANDARD
BEGIN:DAYLIGHT
TZOFFSETFROM:-0800
TZOFFSETTO:-0700
TZNAME:PDT
DTSTART:20260308T100000
END:DAYLIGHT
BEGIN:STANDARD
TZOFFSETFROM:-0700
TZOFFSETTO:-0800
TZNAME:PST
DTSTART:20261101T090000
END:STANDARD
END:VTIMEZONE
BEGIN:VEVENT
DTSTART;TZID=America/Los_Angeles:20251210T130000
DTEND;TZID=America/Los_Angeles:20251210T160000
DTSTAMP:20260420T091721
CREATED:20250725T231157Z
LAST-MODIFIED:20251121T171016Z
UID:10004148-1765371600-1765382400@goldensierra.com
SUMMARY:Career Coaching
DESCRIPTION:One-on-one career coaching sessions are a great way to get personalized help with resume development\, interview preparation\, and job search assistance. Call the front desk or email info@goldensierra.com to request an appointment.
URL:https://goldensierra.com/event/career-coaching-2/2025-12-10
LOCATION:America’s Job Center of California – Roseville\, 115 Ascot Drive Ste. 100\, Roseville\, CA\, 95661\, United States
CATEGORIES:Job Seeker,Workshop
GEO:38.742436;-121.26857
X-APPLE-STRUCTURED-LOCATION;VALUE=URI;X-ADDRESS=America’s Job Center of California – Roseville 115 Ascot Drive Ste. 100 Roseville CA 95661 United States;X-APPLE-RADIUS=500;X-TITLE=115 Ascot Drive Ste. 100:geo:-121.26857,38.742436
END:VEVENT
BEGIN:VEVENT
DTSTART;TZID=America/Los_Angeles:20251210T130000
DTEND;TZID=America/Los_Angeles:20251210T170000
DTSTAMP:20260420T091721
CREATED:20251126T174320Z
LAST-MODIFIED:20251126T174320Z
UID:10004524-1765371600-1765386000@goldensierra.com
SUMMARY:Global AI Job Fair
DESCRIPTION:Global AI Job Fair \nReady to level up your AI career? The Global AI Job Fair virtually connects top employers with AI talent across data science\, MLE/LLM engineering\, applied research\, product\, and AI-first entrepreneurship. Meet hiring teams\, explore open roles\, and get matched based on your skills and interests. \nWhat to Expect \n\nLive Demonstrations – Watch AI in action: robotics\, predictive analytics\, conversational AI\, autonomous systems\, creative AI\, and more.\nHands-On Workshops – Build\, test\, and refine AI models alongside developers\, engineers\, and researchers.\nNetworking Lounge – Connect with leaders\, peers\, and innovators in real-time.\nAI Job Fair – Meet employers seeking AI talent and explore career opportunities across industries.\n\nEvent Website
URL:https://goldensierra.com/event/global-ai-job-fair
CATEGORIES:Hiring Event,Job Seeker
LOCATION:https://goldensierra.com/event/global-ai-job-fair
END:VEVENT
END:VCALENDAR