BEGIN:VCALENDAR
VERSION:2.0
PRODID:-//Golden Sierra Job Training Agency - ECPv6.15.20//NONSGML v1.0//EN
CALSCALE:GREGORIAN
METHOD:PUBLISH
X-WR-CALNAME:Golden Sierra Job Training Agency
X-ORIGINAL-URL:https://goldensierra.com
X-WR-CALDESC:Events for Golden Sierra Job Training Agency
REFRESH-INTERVAL;VALUE=DURATION:PT1H
X-Robots-Tag:noindex
X-PUBLISHED-TTL:PT1H
BEGIN:VTIMEZONE
TZID:America/Los_Angeles
BEGIN:DAYLIGHT
TZOFFSETFROM:-0800
TZOFFSETTO:-0700
TZNAME:PDT
DTSTART:20240310T100000
END:DAYLIGHT
BEGIN:STANDARD
TZOFFSETFROM:-0700
TZOFFSETTO:-0800
TZNAME:PST
DTSTART:20241103T090000
END:STANDARD
BEGIN:DAYLIGHT
TZOFFSETFROM:-0800
TZOFFSETTO:-0700
TZNAME:PDT
DTSTART:20250309T100000
END:DAYLIGHT
BEGIN:STANDARD
TZOFFSETFROM:-0700
TZOFFSETTO:-0800
TZNAME:PST
DTSTART:20251102T090000
END:STANDARD
BEGIN:DAYLIGHT
TZOFFSETFROM:-0800
TZOFFSETTO:-0700
TZNAME:PDT
DTSTART:20260308T100000
END:DAYLIGHT
BEGIN:STANDARD
TZOFFSETFROM:-0700
TZOFFSETTO:-0800
TZNAME:PST
DTSTART:20261101T090000
END:STANDARD
END:VTIMEZONE
BEGIN:VEVENT
DTSTART;TZID=America/Los_Angeles:20251205T110000
DTEND;TZID=America/Los_Angeles:20251205T120000
DTSTAMP:20260420T073238
CREATED:20251126T000106Z
LAST-MODIFIED:20251126T000106Z
UID:10004522-1764932400-1764936000@goldensierra.com
SUMMARY:County of Sacramento Employment Application Workshop
DESCRIPTION:Join the Sacramento County Department of Personnel Services for this free virtual workshop to learn about the application process\, how to apply for employment opportunities\, and additional job seeker resources. \nFor more information\, contact DPS-Recruitment@SacCounty.gov \nWorkshop Flyer \nWebinar Registration for Dec. 5th \nWebinar Registration for Dec. 17th
URL:https://goldensierra.com/event/county-of-sacramento-employment-application-workshop-2/2025-12-05
CATEGORIES:Job Seeker,Workshop
LOCATION:https://goldensierra.com/event/county-of-sacramento-employment-application-workshop-2/2025-12-05
END:VEVENT
END:VCALENDAR