BEGIN:VCALENDAR
VERSION:2.0
PRODID:-//Golden Sierra Job Training Agency - ECPv6.15.20//NONSGML v1.0//EN
CALSCALE:GREGORIAN
METHOD:PUBLISH
X-ORIGINAL-URL:https://goldensierra.com
X-WR-CALDESC:Events for Golden Sierra Job Training Agency
REFRESH-INTERVAL;VALUE=DURATION:PT1H
X-Robots-Tag:noindex
X-PUBLISHED-TTL:PT1H
BEGIN:VTIMEZONE
TZID:America/Los_Angeles
BEGIN:DAYLIGHT
TZOFFSETFROM:-0800
TZOFFSETTO:-0700
TZNAME:PDT
DTSTART:20240310T100000
END:DAYLIGHT
BEGIN:STANDARD
TZOFFSETFROM:-0700
TZOFFSETTO:-0800
TZNAME:PST
DTSTART:20241103T090000
END:STANDARD
BEGIN:DAYLIGHT
TZOFFSETFROM:-0800
TZOFFSETTO:-0700
TZNAME:PDT
DTSTART:20250309T100000
END:DAYLIGHT
BEGIN:STANDARD
TZOFFSETFROM:-0700
TZOFFSETTO:-0800
TZNAME:PST
DTSTART:20251102T090000
END:STANDARD
BEGIN:DAYLIGHT
TZOFFSETFROM:-0800
TZOFFSETTO:-0700
TZNAME:PDT
DTSTART:20260308T100000
END:DAYLIGHT
BEGIN:STANDARD
TZOFFSETFROM:-0700
TZOFFSETTO:-0800
TZNAME:PST
DTSTART:20261101T090000
END:STANDARD
END:VTIMEZONE
BEGIN:VEVENT
DTSTART;TZID=America/Los_Angeles:20251204T100000
DTEND;TZID=America/Los_Angeles:20251204T113000
DTSTAMP:20260420T091642
CREATED:20251201T164106Z
LAST-MODIFIED:20251202T024101Z
UID:10004540-1764842400-1764847800@goldensierra.com
SUMMARY:Exploring State Career Pathways
DESCRIPTION:Come unlock exciting career opportunities at the Labor Commissioner’s Office (LCO).  Join us virtually and take the first step toward your future. \nWhat you will learn: \n\nHow to search the Cal Careers webpage\nHow to navigate the State of California’s job application process\nHow to excel in your interview\n\nRegister Here \nTo schedule a one-on-one consultation\, email: LCORecruitment2@dir.ca.gov
URL:https://goldensierra.com/event/2025-exploring-state-career-pathways
CATEGORIES:Job Seeker,Workshop
LOCATION:https://goldensierra.com/event/2025-exploring-state-career-pathways
END:VEVENT
BEGIN:VEVENT
DTSTART;TZID=America/Los_Angeles:20251204T110000
DTEND;TZID=America/Los_Angeles:20251204T120000
DTSTAMP:20260420T091642
CREATED:20250721T182234Z
LAST-MODIFIED:20250721T182404Z
UID:10003902-1764846000-1764849600@goldensierra.com
SUMMARY:Metrix: Tip Thursday
DESCRIPTION:Metrix’s eLearning portal is designed to improve your job prospects. Request your free account from Golden Sierra and begin taking online courses right away. If you need help navigating the portal or troubleshooting technical issues\, join the Tip Thursday webinar for expert advice. \nJoin Now via Teams
URL:https://goldensierra.com/event/metrix-learning-tip-thursday-2/2025-12-04
CATEGORIES:Job Seeker,Workshop
END:VEVENT
END:VCALENDAR