BEGIN:VCALENDAR
VERSION:2.0
PRODID:-//Golden Sierra Job Training Agency - ECPv6.15.20//NONSGML v1.0//EN
CALSCALE:GREGORIAN
METHOD:PUBLISH
X-ORIGINAL-URL:https://goldensierra.com
X-WR-CALDESC:Events for Golden Sierra Job Training Agency
REFRESH-INTERVAL;VALUE=DURATION:PT1H
X-Robots-Tag:noindex
X-PUBLISHED-TTL:PT1H
BEGIN:VTIMEZONE
TZID:America/Los_Angeles
BEGIN:DAYLIGHT
TZOFFSETFROM:-0800
TZOFFSETTO:-0700
TZNAME:PDT
DTSTART:20240310T100000
END:DAYLIGHT
BEGIN:STANDARD
TZOFFSETFROM:-0700
TZOFFSETTO:-0800
TZNAME:PST
DTSTART:20241103T090000
END:STANDARD
BEGIN:DAYLIGHT
TZOFFSETFROM:-0800
TZOFFSETTO:-0700
TZNAME:PDT
DTSTART:20250309T100000
END:DAYLIGHT
BEGIN:STANDARD
TZOFFSETFROM:-0700
TZOFFSETTO:-0800
TZNAME:PST
DTSTART:20251102T090000
END:STANDARD
BEGIN:DAYLIGHT
TZOFFSETFROM:-0800
TZOFFSETTO:-0700
TZNAME:PDT
DTSTART:20260308T100000
END:DAYLIGHT
BEGIN:STANDARD
TZOFFSETFROM:-0700
TZOFFSETTO:-0800
TZNAME:PST
DTSTART:20261101T090000
END:STANDARD
END:VTIMEZONE
BEGIN:VEVENT
DTSTART;TZID=America/Los_Angeles:20251201T090000
DTEND;TZID=America/Los_Angeles:20251201T113000
DTSTAMP:20260420T073537
CREATED:20251006T182053Z
LAST-MODIFIED:20251119T223306Z
UID:10004218-1764579600-1764588600@goldensierra.com
SUMMARY:Job One: Job Interviewing Preparation
DESCRIPTION:The experienced coaches at Job One provide a rotating schedule of virtual job search workshops at no-cost. They cover topics such as self-marketing\, using LinkedIn\, networking\, resumes\, cover letters\, and more. Their goal is to help you conduct an effective job search and increase your confidence. One-on-one sessions are available for resume critiques and mock interviews. \nJob One (hosted by Bayside Church) meets on Mondays via Zoom (Meeting ID: 910-283-386). \nMore Information
URL:https://goldensierra.com/event/job-one-job-interviewing-preparation-3
CATEGORIES:Job Seeker,Workshop
END:VEVENT
BEGIN:VEVENT
DTSTART;TZID=America/Los_Angeles:20251201T100000
DTEND;TZID=America/Los_Angeles:20251201T130000
DTSTAMP:20260420T073537
CREATED:20251119T222940Z
LAST-MODIFIED:20251119T222940Z
UID:10004504-1764583200-1764594000@goldensierra.com
SUMMARY:EDD Employer Pop Up Job Fair
DESCRIPTION:Join EDD and Caltrans for their Employer Pop Up Job Fair in Sacramento.  This event is an opportunity for job seekers to learn about openings in state government.  Caltrans will host a tabling session and share knowledge on how to apply for job opportunities within Caltrans. \nFor more events and resources\, visit www.joincaltrans.com
URL:https://goldensierra.com/event/edd-employer-pop-up-job-fair
LOCATION:Mark Sanders AJCC\, 2901 50th Street\, Sacramento\, 95817\, United States
CATEGORIES:Digest,Hiring Event,Job Seeker
GEO:38.547361;-121.4457494
X-APPLE-STRUCTURED-LOCATION;VALUE=URI;X-ADDRESS=Mark Sanders AJCC 2901 50th Street Sacramento 95817 United States;X-APPLE-RADIUS=500;X-TITLE=2901 50th Street:geo:-121.4457494,38.547361
END:VEVENT
END:VCALENDAR