BEGIN:VCALENDAR
VERSION:2.0
PRODID:-//Golden Sierra Job Training Agency - ECPv6.15.20//NONSGML v1.0//EN
CALSCALE:GREGORIAN
METHOD:PUBLISH
X-ORIGINAL-URL:https://goldensierra.com
X-WR-CALDESC:Events for Golden Sierra Job Training Agency
REFRESH-INTERVAL;VALUE=DURATION:PT1H
X-Robots-Tag:noindex
X-PUBLISHED-TTL:PT1H
BEGIN:VTIMEZONE
TZID:America/Los_Angeles
BEGIN:DAYLIGHT
TZOFFSETFROM:-0800
TZOFFSETTO:-0700
TZNAME:PDT
DTSTART:20240310T100000
END:DAYLIGHT
BEGIN:STANDARD
TZOFFSETFROM:-0700
TZOFFSETTO:-0800
TZNAME:PST
DTSTART:20241103T090000
END:STANDARD
BEGIN:DAYLIGHT
TZOFFSETFROM:-0800
TZOFFSETTO:-0700
TZNAME:PDT
DTSTART:20250309T100000
END:DAYLIGHT
BEGIN:STANDARD
TZOFFSETFROM:-0700
TZOFFSETTO:-0800
TZNAME:PST
DTSTART:20251102T090000
END:STANDARD
BEGIN:DAYLIGHT
TZOFFSETFROM:-0800
TZOFFSETTO:-0700
TZNAME:PDT
DTSTART:20260308T100000
END:DAYLIGHT
BEGIN:STANDARD
TZOFFSETFROM:-0700
TZOFFSETTO:-0800
TZNAME:PST
DTSTART:20261101T090000
END:STANDARD
END:VTIMEZONE
BEGIN:VEVENT
DTSTART;TZID=America/Los_Angeles:20251120T100000
DTEND;TZID=America/Los_Angeles:20251120T120000
DTSTAMP:20260420T121429
CREATED:20251008T190730Z
LAST-MODIFIED:20251008T191108Z
UID:10004226-1763632800-1763640000@goldensierra.com
SUMMARY:Job Connections: Sacramento County
DESCRIPTION:Recruiters from Sacramento County will be in Rocklin to share their job openings and provide application assistance. This is a hybrid event with the option to attend in-person (Suite 105) or by Zoom. \n\nRegister Here \nTo learn more\, please contact the Business Advantage Network – ban@placer.ca.gov \nJob Connections Flyer 11-20-25
URL:https://goldensierra.com/event/job-connections-sacramento-county
LOCATION:Placer County Employment Services (Rocklin)\, 1000 Sunset Boulevard\, Suite 100\, Rocklin\, CA\, 95765\, United States
CATEGORIES:Digest,Hiring Event,Job Seeker,Workshop
GEO:38.8158334;-121.2892569
X-APPLE-STRUCTURED-LOCATION;VALUE=URI;X-ADDRESS=Placer County Employment Services (Rocklin) 1000 Sunset Boulevard Suite 100 Rocklin CA 95765 United States;X-APPLE-RADIUS=500;X-TITLE=1000 Sunset Boulevard\, Suite 100:geo:-121.2892569,38.8158334
END:VEVENT
BEGIN:VEVENT
DTSTART;TZID=America/Los_Angeles:20251120T110000
DTEND;TZID=America/Los_Angeles:20251120T120000
DTSTAMP:20260420T121429
CREATED:20250721T182234Z
LAST-MODIFIED:20250721T182404Z
UID:10003900-1763636400-1763640000@goldensierra.com
SUMMARY:Metrix: Tip Thursday
DESCRIPTION:Metrix’s eLearning portal is designed to improve your job prospects. Request your free account from Golden Sierra and begin taking online courses right away. If you need help navigating the portal or troubleshooting technical issues\, join the Tip Thursday webinar for expert advice. \nJoin Now via Teams
URL:https://goldensierra.com/event/metrix-learning-tip-thursday-2/2025-11-20
LOCATION:CA
CATEGORIES:Job Seeker,Workshop
END:VEVENT
END:VCALENDAR