BEGIN:VCALENDAR
VERSION:2.0
PRODID:-//Golden Sierra Job Training Agency - ECPv6.15.20//NONSGML v1.0//EN
CALSCALE:GREGORIAN
METHOD:PUBLISH
X-ORIGINAL-URL:https://goldensierra.com
X-WR-CALDESC:Events for Golden Sierra Job Training Agency
REFRESH-INTERVAL;VALUE=DURATION:PT1H
X-Robots-Tag:noindex
X-PUBLISHED-TTL:PT1H
BEGIN:VTIMEZONE
TZID:America/Los_Angeles
BEGIN:DAYLIGHT
TZOFFSETFROM:-0800
TZOFFSETTO:-0700
TZNAME:PDT
DTSTART:20240310T100000
END:DAYLIGHT
BEGIN:STANDARD
TZOFFSETFROM:-0700
TZOFFSETTO:-0800
TZNAME:PST
DTSTART:20241103T090000
END:STANDARD
BEGIN:DAYLIGHT
TZOFFSETFROM:-0800
TZOFFSETTO:-0700
TZNAME:PDT
DTSTART:20250309T100000
END:DAYLIGHT
BEGIN:STANDARD
TZOFFSETFROM:-0700
TZOFFSETTO:-0800
TZNAME:PST
DTSTART:20251102T090000
END:STANDARD
BEGIN:DAYLIGHT
TZOFFSETFROM:-0800
TZOFFSETTO:-0700
TZNAME:PDT
DTSTART:20260308T100000
END:DAYLIGHT
BEGIN:STANDARD
TZOFFSETFROM:-0700
TZOFFSETTO:-0800
TZNAME:PST
DTSTART:20261101T090000
END:STANDARD
END:VTIMEZONE
BEGIN:VEVENT
DTSTART;TZID=America/Los_Angeles:20251113T100000
DTEND;TZID=America/Los_Angeles:20251113T110000
DTSTAMP:20260420T090041
CREATED:20251104T205551Z
LAST-MODIFIED:20251104T205551Z
UID:10004498-1763028000-1763031600@goldensierra.com
SUMMARY:Financial Literacy Workshop
DESCRIPTION:Join the Business Advantage Network (BAN) for a hands-on financial literacy workshop where you will \n\nDevelop habits that lead to long-term financial stability and independence\nLearn how to track where your money comes from and where it goes\nDiscover how to make informed financial choices that align with personal goals\n\nThis is a hybrid event with the option to attend in-person (Suite 100) or by Zoom. \n\nRegister Here \nTo learn more\, please contact the Business Advantage Network – ban@placer.ca.gov
URL:https://goldensierra.com/event/financial-literacy-workshop
LOCATION:Placer County Employment Services (Rocklin)\, 1000 Sunset Boulevard\, Suite 100\, Rocklin\, CA\, 95765\, United States
CATEGORIES:Digest,Job Seeker,Workshop
GEO:38.8158334;-121.2892569
X-APPLE-STRUCTURED-LOCATION;VALUE=URI;X-ADDRESS=Placer County Employment Services (Rocklin) 1000 Sunset Boulevard Suite 100 Rocklin CA 95765 United States;X-APPLE-RADIUS=500;X-TITLE=1000 Sunset Boulevard\, Suite 100:geo:-121.2892569,38.8158334
END:VEVENT
BEGIN:VEVENT
DTSTART;TZID=America/Los_Angeles:20251113T110000
DTEND;TZID=America/Los_Angeles:20251113T120000
DTSTAMP:20260420T090041
CREATED:20250721T182234Z
LAST-MODIFIED:20250721T182404Z
UID:10003899-1763031600-1763035200@goldensierra.com
SUMMARY:Metrix: Tip Thursday
DESCRIPTION:Metrix’s eLearning portal is designed to improve your job prospects. Request your free account from Golden Sierra and begin taking online courses right away. If you need help navigating the portal or troubleshooting technical issues\, join the Tip Thursday webinar for expert advice. \nJoin Now via Teams
URL:https://goldensierra.com/event/metrix-learning-tip-thursday-2/2025-11-13
CATEGORIES:Job Seeker,Workshop
END:VEVENT
BEGIN:VEVENT
DTSTART;TZID=America/Los_Angeles:20251113T110000
DTEND;TZID=America/Los_Angeles:20251113T150000
DTSTAMP:20260420T090041
CREATED:20250110T183635Z
LAST-MODIFIED:20250808T171447Z
UID:10003667-1763031600-1763046000@goldensierra.com
SUMMARY:SacJobs Career Fair
DESCRIPTION:Looking for a new career opportunity? SacJobs is hosting a free event at the Lions Gate Hotel in McClellan Park. Meet directly with hiring managers from a variety of public and private organizations. Check out the host’s website for instructions on how to register. \nSacJobs 2025 Career Fair Flyer \nVideo \n 
URL:https://goldensierra.com/event/sacjobs-career-fair/2025-11-13
CATEGORIES:Hiring Event,Job Seeker
END:VEVENT
END:VCALENDAR