BEGIN:VCALENDAR
VERSION:2.0
PRODID:-//Golden Sierra Job Training Agency - ECPv6.15.20//NONSGML v1.0//EN
CALSCALE:GREGORIAN
METHOD:PUBLISH
X-ORIGINAL-URL:https://goldensierra.com
X-WR-CALDESC:Events for Golden Sierra Job Training Agency
REFRESH-INTERVAL;VALUE=DURATION:PT1H
X-Robots-Tag:noindex
X-PUBLISHED-TTL:PT1H
BEGIN:VTIMEZONE
TZID:America/Los_Angeles
BEGIN:DAYLIGHT
TZOFFSETFROM:-0800
TZOFFSETTO:-0700
TZNAME:PDT
DTSTART:20240310T100000
END:DAYLIGHT
BEGIN:STANDARD
TZOFFSETFROM:-0700
TZOFFSETTO:-0800
TZNAME:PST
DTSTART:20241103T090000
END:STANDARD
BEGIN:DAYLIGHT
TZOFFSETFROM:-0800
TZOFFSETTO:-0700
TZNAME:PDT
DTSTART:20250309T100000
END:DAYLIGHT
BEGIN:STANDARD
TZOFFSETFROM:-0700
TZOFFSETTO:-0800
TZNAME:PST
DTSTART:20251102T090000
END:STANDARD
BEGIN:DAYLIGHT
TZOFFSETFROM:-0800
TZOFFSETTO:-0700
TZNAME:PDT
DTSTART:20260308T100000
END:DAYLIGHT
BEGIN:STANDARD
TZOFFSETFROM:-0700
TZOFFSETTO:-0800
TZNAME:PST
DTSTART:20261101T090000
END:STANDARD
END:VTIMEZONE
BEGIN:VEVENT
DTSTART;TZID=America/Los_Angeles:20251110T090000
DTEND;TZID=America/Los_Angeles:20251110T113000
DTSTAMP:20260420T091710
CREATED:20251006T181415Z
LAST-MODIFIED:20251006T181415Z
UID:10004215-1762765200-1762774200@goldensierra.com
SUMMARY:Job One: Balancing your Job/Income
DESCRIPTION:The experienced coaches at Job One provide a rotating schedule of virtual job search workshops at no-cost. They cover topics such as self-marketing\, using LinkedIn\, networking\, resumes\, cover letters\, and more. Their goal is to help you conduct an effective job search and increase your confidence. One-on-one sessions are available for resume critiques and mock interviews. \nJob One (hosted by Bayside Church) meets on Mondays via Zoom (Meeting ID: 910-283-386). \nMore Information
URL:https://goldensierra.com/event/job-one-balancing-your-job-income-4
CATEGORIES:Job Seeker,Workshop
LOCATION:
END:VEVENT
BEGIN:VEVENT
DTSTART;TZID=America/Los_Angeles:20251110T100000
DTEND;TZID=America/Los_Angeles:20251110T113000
DTSTAMP:20260420T091710
CREATED:20251014T204108Z
LAST-MODIFIED:20251014T205253Z
UID:10004232-1762768800-1762774200@goldensierra.com
SUMMARY:AI-101: Getting Started with ChatGPT
DESCRIPTION:Join Cyber Proud for this instructor-led\, non-technical course – no IT or coding background is needed. Learn how to use ChatGPT safely and effectively to simplify work\, spark creativity\, and communicate with more confidence in today’s digital world. You can earn a micro-credential for your resume. \nThis 90-minute live Zoom session is held every Monday from 10:00 – 11:30 AM. All you need to get started is a computer\, an internet connection\, and a free ChatGPT account. \nCost waived for participants. Enter Discount: YOLOWORKS2025 \nRegister Here! \nAI-101 CyberProud Flyer
URL:https://goldensierra.com/event/ai-101-getting-started-with-chatgpt/2025-11-10
CATEGORIES:Digest,Job Seeker,Workshop
LOCATION:
END:VEVENT
END:VCALENDAR