BEGIN:VCALENDAR
VERSION:2.0
PRODID:-//Golden Sierra Job Training Agency - ECPv6.15.20//NONSGML v1.0//EN
CALSCALE:GREGORIAN
METHOD:PUBLISH
X-ORIGINAL-URL:https://goldensierra.com
X-WR-CALDESC:Events for Golden Sierra Job Training Agency
REFRESH-INTERVAL;VALUE=DURATION:PT1H
X-Robots-Tag:noindex
X-PUBLISHED-TTL:PT1H
BEGIN:VTIMEZONE
TZID:America/Los_Angeles
BEGIN:DAYLIGHT
TZOFFSETFROM:-0800
TZOFFSETTO:-0700
TZNAME:PDT
DTSTART:20240310T100000
END:DAYLIGHT
BEGIN:STANDARD
TZOFFSETFROM:-0700
TZOFFSETTO:-0800
TZNAME:PST
DTSTART:20241103T090000
END:STANDARD
BEGIN:DAYLIGHT
TZOFFSETFROM:-0800
TZOFFSETTO:-0700
TZNAME:PDT
DTSTART:20250309T100000
END:DAYLIGHT
BEGIN:STANDARD
TZOFFSETFROM:-0700
TZOFFSETTO:-0800
TZNAME:PST
DTSTART:20251102T090000
END:STANDARD
BEGIN:DAYLIGHT
TZOFFSETFROM:-0800
TZOFFSETTO:-0700
TZNAME:PDT
DTSTART:20260308T100000
END:DAYLIGHT
BEGIN:STANDARD
TZOFFSETFROM:-0700
TZOFFSETTO:-0800
TZNAME:PST
DTSTART:20261101T090000
END:STANDARD
END:VTIMEZONE
BEGIN:VEVENT
DTSTART;TZID=America/Los_Angeles:20251106T100000
DTEND;TZID=America/Los_Angeles:20251106T120000
DTSTAMP:20260420T091658
CREATED:20251008T185836Z
LAST-MODIFIED:20251022T181201Z
UID:10004225-1762423200-1762430400@goldensierra.com
SUMMARY:Job Connections: State of California
DESCRIPTION:Recruiters from Work for California and the Department of Industrial Relations will be in Rocklin to share their job openings and provide application assistance. This is a hybrid event with the option to attend in-person or by Zoom. \n\nRegister Here \nTo learn more\, please contact the Business Advantage Network – ban@placer.ca.gov \n\nJob Connections Flyer 11-6-25
URL:https://goldensierra.com/event/job-connections-state-of-california-3
LOCATION:Placer County Employment Services (Rocklin)\, 1000 Sunset Boulevard\, Suite 100\, Rocklin\, CA\, 95765\, United States
CATEGORIES:Digest,Hiring Event,Job Seeker,Workshop
GEO:38.8158334;-121.2892569
X-APPLE-STRUCTURED-LOCATION;VALUE=URI;X-ADDRESS=Placer County Employment Services (Rocklin) 1000 Sunset Boulevard Suite 100 Rocklin CA 95765 United States;X-APPLE-RADIUS=500;X-TITLE=1000 Sunset Boulevard\, Suite 100:geo:-121.2892569,38.8158334
END:VEVENT
BEGIN:VEVENT
DTSTART;TZID=America/Los_Angeles:20251106T100000
DTEND;TZID=America/Los_Angeles:20251106T130000
DTSTAMP:20260420T091658
CREATED:20250828T213707Z
LAST-MODIFIED:20250828T214800Z
UID:10004193-1762423200-1762434000@goldensierra.com
SUMMARY:Job & Resource Fair at Cal EPIC
DESCRIPTION:Join Cal EPIC at their Job & Resource Fair for networking opportunities and to land your next job. For more information\, visit www.calepic.com or contact info@calepic.com. \nRegister here and dress to impress the employer! \nFall Job Fair Flyer 11625
URL:https://goldensierra.com/event/job-resource-fair-at-cal-epic
LOCATION:Cal EPIC\, 8351 Luzon Ave\, Building 1\, Bay 1\, Sacramento\, 95828\, United States
CATEGORIES:Digest,Hiring Event,Job Seeker
GEO:38.5231149;-121.3964935
X-APPLE-STRUCTURED-LOCATION;VALUE=URI;X-ADDRESS=Cal EPIC 8351 Luzon Ave Building 1 Bay 1 Sacramento 95828 United States;X-APPLE-RADIUS=500;X-TITLE=8351 Luzon Ave\, Building 1\, Bay 1:geo:-121.3964935,38.5231149
END:VEVENT
BEGIN:VEVENT
DTSTART;TZID=America/Los_Angeles:20251106T110000
DTEND;TZID=America/Los_Angeles:20251106T120000
DTSTAMP:20260420T091658
CREATED:20250721T182234Z
LAST-MODIFIED:20250721T182404Z
UID:10003898-1762426800-1762430400@goldensierra.com
SUMMARY:Metrix: Tip Thursday
DESCRIPTION:Metrix’s eLearning portal is designed to improve your job prospects. Request your free account from Golden Sierra and begin taking online courses right away. If you need help navigating the portal or troubleshooting technical issues\, join the Tip Thursday webinar for expert advice. \nJoin Now via Teams
URL:https://goldensierra.com/event/metrix-learning-tip-thursday-2/2025-11-06
CATEGORIES:Job Seeker,Workshop
END:VEVENT
END:VCALENDAR