BEGIN:VCALENDAR
VERSION:2.0
PRODID:-//Golden Sierra Job Training Agency - ECPv6.15.20//NONSGML v1.0//EN
CALSCALE:GREGORIAN
METHOD:PUBLISH
X-WR-CALNAME:Golden Sierra Job Training Agency
X-ORIGINAL-URL:https://goldensierra.com
X-WR-CALDESC:Events for Golden Sierra Job Training Agency
REFRESH-INTERVAL;VALUE=DURATION:PT1H
X-Robots-Tag:noindex
X-PUBLISHED-TTL:PT1H
BEGIN:VTIMEZONE
TZID:America/Los_Angeles
BEGIN:DAYLIGHT
TZOFFSETFROM:-0800
TZOFFSETTO:-0700
TZNAME:PDT
DTSTART:20240310T100000
END:DAYLIGHT
BEGIN:STANDARD
TZOFFSETFROM:-0700
TZOFFSETTO:-0800
TZNAME:PST
DTSTART:20241103T090000
END:STANDARD
BEGIN:DAYLIGHT
TZOFFSETFROM:-0800
TZOFFSETTO:-0700
TZNAME:PDT
DTSTART:20250309T100000
END:DAYLIGHT
BEGIN:STANDARD
TZOFFSETFROM:-0700
TZOFFSETTO:-0800
TZNAME:PST
DTSTART:20251102T090000
END:STANDARD
BEGIN:DAYLIGHT
TZOFFSETFROM:-0800
TZOFFSETTO:-0700
TZNAME:PDT
DTSTART:20260308T100000
END:DAYLIGHT
BEGIN:STANDARD
TZOFFSETFROM:-0700
TZOFFSETTO:-0800
TZNAME:PST
DTSTART:20261101T090000
END:STANDARD
END:VTIMEZONE
BEGIN:VEVENT
DTSTART;TZID=America/Los_Angeles:20251023T100000
DTEND;TZID=America/Los_Angeles:20251023T130000
DTSTAMP:20260420T103430
CREATED:20250908T191753Z
LAST-MODIFIED:20250908T191753Z
UID:10004195-1761213600-1761224400@goldensierra.com
SUMMARY:YoloWorks! Job Fair
DESCRIPTION:YoloWorks! is hosting an in-person job fair with 60 employers and community resources. This event is brought to you by Yolo County Health and Human Services Agency and the Yolo County Workforce Innovation Board in partnership with City of West Sacramento and West Sacramento Chamber of Commerce. Stay connected with YoloWorks! on Facebook\, LinkedIn & Instagram for updates. \nRegister Here \n 
URL:https://goldensierra.com/event/yoloworks-job-fair-3
LOCATION:Civic Center Galleria\, 1110 West Capitol Avenue\, West Sacramento\, CA\, 95691\, United States
CATEGORIES:Digest,Hiring Event,Job Seeker
GEO:38.5818436;-121.5236416
X-APPLE-STRUCTURED-LOCATION;VALUE=URI;X-ADDRESS=Civic Center Galleria 1110 West Capitol Avenue West Sacramento CA 95691 United States;X-APPLE-RADIUS=500;X-TITLE=1110 West Capitol Avenue:geo:-121.5236416,38.5818436
END:VEVENT
BEGIN:VEVENT
DTSTART;TZID=America/Los_Angeles:20251023T110000
DTEND;TZID=America/Los_Angeles:20251023T120000
DTSTAMP:20260420T103430
CREATED:20250721T182234Z
LAST-MODIFIED:20250721T182404Z
UID:10003896-1761217200-1761220800@goldensierra.com
SUMMARY:Metrix: Tip Thursday
DESCRIPTION:Metrix’s eLearning portal is designed to improve your job prospects. Request your free account from Golden Sierra and begin taking online courses right away. If you need help navigating the portal or troubleshooting technical issues\, join the Tip Thursday webinar for expert advice. \nJoin Now via Teams
URL:https://goldensierra.com/event/metrix-learning-tip-thursday-2/2025-10-23
CATEGORIES:Job Seeker,Workshop
END:VEVENT
BEGIN:VEVENT
DTSTART;TZID=America/Los_Angeles:20251023T110000
DTEND;TZID=America/Los_Angeles:20251023T170000
DTSTAMP:20260420T103430
CREATED:20251020T152215Z
LAST-MODIFIED:20251020T152215Z
UID:10004494-1761217200-1761238800@goldensierra.com
SUMMARY:Nordstrom Hiring Event
DESCRIPTION:Nordstrom is hosting a hiring event at the Galleria at Roseville! No appointment needed – join any time during the event for an interview. You are welcome to bring a copy of your resume\, but it is not required. On-the-spot job offers will be made for most roles. \nNordstrom is currently hiring for Sales & Support positions in the following areas \n\nSales: Women’s Apparel\nSupport: Inventory Support\, Service Experience\n\nThe pay ranges below have been provided in compliance with state specific laws. Pay offers are dependent on the location\, as well as job-related knowledge\, skills\, and experience. \nCustomer Service: $17.55-18.25 Hourly\nSales: $16.75-$16.75 Hourly\nSales Support: $17.55-18.25 Hourly\nStock\, Fulfillment and Delivery: $17.55-18.25 Hourly \nFor a full list of open positions and job descriptions\, visit Careers.Nordstrom.com
URL:https://goldensierra.com/event/nordstrom-hiring-event-2
LOCATION:Nordstrom Galleria Roseville\, 1131 Galleria Blvd.\, Roseville\, 95678\, United States
CATEGORIES:Hiring Event,Job Seeker
GEO:38.7717529;-121.2685205
X-APPLE-STRUCTURED-LOCATION;VALUE=URI;X-ADDRESS=Nordstrom Galleria Roseville 1131 Galleria Blvd. Roseville 95678 United States;X-APPLE-RADIUS=500;X-TITLE=1131 Galleria Blvd.:geo:-121.2685205,38.7717529
END:VEVENT
BEGIN:VEVENT
DTSTART;TZID=America/Los_Angeles:20251023T120000
DTEND;TZID=America/Los_Angeles:20251023T130000
DTSTAMP:20260420T103430
CREATED:20251016T153952Z
LAST-MODIFIED:20251016T165539Z
UID:10004490-1761220800-1761224400@goldensierra.com
SUMMARY:DGS Webinar: How to Get a State Job
DESCRIPTION:Join the California Department of General Services (DGS) for this virtual event and learn how to apply for job vacancies with the State of California. HR professionals will provide insights and practical guidance for a successful state job application. For additional information\, contact DGSRecruitment@dgs.ca.gov. \nRegister Here!
URL:https://goldensierra.com/event/dgs-webinar-how-to-get-a-state-job
CATEGORIES:Digest,Job Seeker,Workshop
LOCATION:
END:VEVENT
END:VCALENDAR