BEGIN:VCALENDAR
VERSION:2.0
PRODID:-//Golden Sierra Job Training Agency - ECPv6.15.20//NONSGML v1.0//EN
CALSCALE:GREGORIAN
METHOD:PUBLISH
X-WR-CALNAME:Golden Sierra Job Training Agency
X-ORIGINAL-URL:https://goldensierra.com
X-WR-CALDESC:Events for Golden Sierra Job Training Agency
REFRESH-INTERVAL;VALUE=DURATION:PT1H
X-Robots-Tag:noindex
X-PUBLISHED-TTL:PT1H
BEGIN:VTIMEZONE
TZID:America/Los_Angeles
BEGIN:DAYLIGHT
TZOFFSETFROM:-0800
TZOFFSETTO:-0700
TZNAME:PDT
DTSTART:20240310T100000
END:DAYLIGHT
BEGIN:STANDARD
TZOFFSETFROM:-0700
TZOFFSETTO:-0800
TZNAME:PST
DTSTART:20241103T090000
END:STANDARD
BEGIN:DAYLIGHT
TZOFFSETFROM:-0800
TZOFFSETTO:-0700
TZNAME:PDT
DTSTART:20250309T100000
END:DAYLIGHT
BEGIN:STANDARD
TZOFFSETFROM:-0700
TZOFFSETTO:-0800
TZNAME:PST
DTSTART:20251102T090000
END:STANDARD
BEGIN:DAYLIGHT
TZOFFSETFROM:-0800
TZOFFSETTO:-0700
TZNAME:PDT
DTSTART:20260308T100000
END:DAYLIGHT
BEGIN:STANDARD
TZOFFSETFROM:-0700
TZOFFSETTO:-0800
TZNAME:PST
DTSTART:20261101T090000
END:STANDARD
END:VTIMEZONE
BEGIN:VEVENT
DTSTART;TZID=America/Los_Angeles:20251014T090000
DTEND;TZID=America/Los_Angeles:20251014T120000
DTSTAMP:20260420T121040
CREATED:20250725T231025Z
LAST-MODIFIED:20260401T223854Z
UID:10003943-1760432400-1760443200@goldensierra.com
SUMMARY:Career Coaching
DESCRIPTION:One-on-one career coaching sessions are a great way to get personalized help with resume development\, interview preparation\, and job search assistance. Call the front desk or email info@goldensierra.com to request an appointment.
URL:https://goldensierra.com/event/career-coaching/2025-10-14
LOCATION:America’s Job Center of California – Roseville\, 115 Ascot Drive Ste. 100\, Roseville\, CA\, 95661\, United States
CATEGORIES:Job Seeker,Workshop
GEO:38.742436;-121.26857
X-APPLE-STRUCTURED-LOCATION;VALUE=URI;X-ADDRESS=America’s Job Center of California – Roseville 115 Ascot Drive Ste. 100 Roseville CA 95661 United States;X-APPLE-RADIUS=500;X-TITLE=115 Ascot Drive Ste. 100:geo:-121.26857,38.742436
END:VEVENT
BEGIN:VEVENT
DTSTART;TZID=America/Los_Angeles:20251014T100000
DTEND;TZID=America/Los_Angeles:20251014T120000
DTSTAMP:20260420T121040
CREATED:20250930T211412Z
LAST-MODIFIED:20250930T211412Z
UID:10004207-1760436000-1760443200@goldensierra.com
SUMMARY:Job Talk: EDGES Electrical Group\, Comfort Keepers & Health and Life Organization (HALO)
DESCRIPTION:Job Talk is a great way to get information about current job openings with local employers. This in-person event is hosted by Sacramento County Department of Human Assistance and will include a presentation from EDGES Electrical Group\, Health and Life Organization (HALO)\, and Comfort Keepers. The participating employers are often ready to hire. We suggest you arrive early\, dress for an interview\, and bring copies of your resume. For additional information\, please contact the host: DHA-JobTalk@saccounty.gov. \nEDGES COMFORT KEEPERS AND HALO JOB TALK 10.14.2025
URL:https://goldensierra.com/event/job-talk-edges-electrical-group-comfort-keepers-health-and-life-organization-halo
LOCATION:Sacramento County Department of Personnel Services\, 3960 Research Dr.\, Sacramento\, 95838\, United States
CATEGORIES:Digest,Job Seeker,Workshop
GEO:38.6389708;-121.4580266
X-APPLE-STRUCTURED-LOCATION;VALUE=URI;X-ADDRESS=Sacramento County Department of Personnel Services 3960 Research Dr. Sacramento 95838 United States;X-APPLE-RADIUS=500;X-TITLE=3960 Research Dr.:geo:-121.4580266,38.6389708
END:VEVENT
BEGIN:VEVENT
DTSTART;TZID=America/Los_Angeles:20251014T103000
DTEND;TZID=America/Los_Angeles:20251014T123000
DTSTAMP:20260420T121040
CREATED:20250930T210540Z
LAST-MODIFIED:20250930T210540Z
UID:10004206-1760437800-1760445000@goldensierra.com
SUMMARY:Job Talk: Visiting Angels
DESCRIPTION:Job Talk is a great way to get information about current job openings with local employers. This in-person event is hosted by the Sacramento County Department of Human Assistance and will include a presentation from Visiting Angels\, an in-home caregiver service. The participating employers are often ready to hire. We suggest you arrive early\, dress for an interview\, and bring copies of your resume. For additional information\, please contact the host: DHA-JobTalk@saccounty.gov / 916-875-3323. \n\nJob Talk 10.14.2025 \n 
URL:https://goldensierra.com/event/job-talk-visiting-angels
LOCATION:Highlands Success Center\, 3801 Florin Rd\, Sacramento\, CA\, 95823\, United States
CATEGORIES:Digest,Job Seeker,Workshop
GEO:38.4970414;-121.4647721
X-APPLE-STRUCTURED-LOCATION;VALUE=URI;X-ADDRESS=Highlands Success Center 3801 Florin Rd Sacramento CA 95823 United States;X-APPLE-RADIUS=500;X-TITLE=3801 Florin Rd:geo:-121.4647721,38.4970414
END:VEVENT
BEGIN:VEVENT
DTSTART;TZID=America/Los_Angeles:20251014T110000
DTEND;TZID=America/Los_Angeles:20251014T140000
DTSTAMP:20260420T121040
CREATED:20250818T173803Z
LAST-MODIFIED:20250818T175046Z
UID:10004187-1760439600-1760450400@goldensierra.com
SUMMARY:PRIDE Industries: I AM ABLE Disability Job Fair
DESCRIPTION:Join PRIDE Industries for their third annual I AM ABLE Disability Job Fair\, a one-day event that brings together inclusive employers and talented job seekers with disabilities. Nearly 40 companies are seeking to fill open positions in facilities maintenance\, business administration\, and a range of other specialties. To get the most out of the job fair\, be prepared to talk about your skills and bring copies of your resume. \nFor more information\, please visit PRIDE Industries’ website or contact kat.maudru@prideindustries.com \nRegister Here! \nPRIDE I AM ABLE Disability Job Fair Flyer \n 
URL:https://goldensierra.com/event/pride-industries-i-am-able-disability-job-fair
LOCATION:SAFE Credit Union Convention Center\, 1400 J Street\, Hall A\, Sacramento\, 95814\, United States
CATEGORIES:Digest,Hiring Event,Job Seeker
GEO:38.5782849;-121.487927
X-APPLE-STRUCTURED-LOCATION;VALUE=URI;X-ADDRESS=SAFE Credit Union Convention Center 1400 J Street Hall A Sacramento 95814 United States;X-APPLE-RADIUS=500;X-TITLE=1400 J Street\, Hall A:geo:-121.487927,38.5782849
END:VEVENT
BEGIN:VEVENT
DTSTART;TZID=America/Los_Angeles:20251014T160000
DTEND;TZID=America/Los_Angeles:20251014T170000
DTSTAMP:20260420T121040
CREATED:20250721T182122Z
LAST-MODIFIED:20250721T182122Z
UID:10003842-1760457600-1760461200@goldensierra.com
SUMMARY:Metrix: Tip Tuesday
DESCRIPTION:Metrix’s eLearning portal is designed to improve your job prospects. Request your free account from Golden Sierra and begin taking online courses right away. If you need help navigating the portal or troubleshooting technical issues\, join the Tip Tuesday webinar for expert advice. \nJoin Now via Teams
URL:https://goldensierra.com/event/metrix-learning-tip-tuesday-2/2025-10-14
LOCATION:CA
CATEGORIES:Job Seeker,Workshop
END:VEVENT
END:VCALENDAR