BEGIN:VCALENDAR
VERSION:2.0
PRODID:-//Golden Sierra Job Training Agency - ECPv6.15.20//NONSGML v1.0//EN
CALSCALE:GREGORIAN
METHOD:PUBLISH
X-ORIGINAL-URL:https://goldensierra.com
X-WR-CALDESC:Events for Golden Sierra Job Training Agency
REFRESH-INTERVAL;VALUE=DURATION:PT1H
X-Robots-Tag:noindex
X-PUBLISHED-TTL:PT1H
BEGIN:VTIMEZONE
TZID:America/Los_Angeles
BEGIN:DAYLIGHT
TZOFFSETFROM:-0800
TZOFFSETTO:-0700
TZNAME:PDT
DTSTART:20240310T100000
END:DAYLIGHT
BEGIN:STANDARD
TZOFFSETFROM:-0700
TZOFFSETTO:-0800
TZNAME:PST
DTSTART:20241103T090000
END:STANDARD
BEGIN:DAYLIGHT
TZOFFSETFROM:-0800
TZOFFSETTO:-0700
TZNAME:PDT
DTSTART:20250309T100000
END:DAYLIGHT
BEGIN:STANDARD
TZOFFSETFROM:-0700
TZOFFSETTO:-0800
TZNAME:PST
DTSTART:20251102T090000
END:STANDARD
BEGIN:DAYLIGHT
TZOFFSETFROM:-0800
TZOFFSETTO:-0700
TZNAME:PDT
DTSTART:20260308T100000
END:DAYLIGHT
BEGIN:STANDARD
TZOFFSETFROM:-0700
TZOFFSETTO:-0800
TZNAME:PST
DTSTART:20261101T090000
END:STANDARD
END:VTIMEZONE
BEGIN:VEVENT
DTSTART;TZID=America/Los_Angeles:20250925T110000
DTEND;TZID=America/Los_Angeles:20250925T120000
DTSTAMP:20260420T135222
CREATED:20250721T182234Z
LAST-MODIFIED:20250721T182404Z
UID:10003892-1758798000-1758801600@goldensierra.com
SUMMARY:Metrix: Tip Thursday
DESCRIPTION:Metrix’s eLearning portal is designed to improve your job prospects. Request your free account from Golden Sierra and begin taking online courses right away. If you need help navigating the portal or troubleshooting technical issues\, join the Tip Thursday webinar for expert advice. \nJoin Now via Teams
URL:https://goldensierra.com/event/metrix-learning-tip-thursday-2/2025-09-25
LOCATION:CA
CATEGORIES:Job Seeker,Workshop
END:VEVENT
BEGIN:VEVENT
DTSTART;TZID=America/Los_Angeles:20250925T110000
DTEND;TZID=America/Los_Angeles:20250925T170000
DTSTAMP:20260420T135222
CREATED:20250918T162928Z
LAST-MODIFIED:20250918T170315Z
UID:10004202-1758798000-1758819600@goldensierra.com
SUMMARY:Nordstrom Hiring Event
DESCRIPTION:Nordstrom is hosting a hiring event at the Galleria at Roseville! No appointment needed – join any time during the event for an interview. You are welcome to bring a copy of your resume\, but it is not required. On-the-spot job offers will be made for most roles. \nThe pay ranges below have been provided in compliance with state specific laws. Pay offers are dependent on the location\, as well as job-related knowledge\, skills\, and experience. \nCustomer Service: $17.55-18.25 Hourly\nSales: $16.75-$16.75 Hourly\nSales Support: $17.55-18.25 Hourly\nStock\, Fulfillment and Delivery: $17.55-18.25 Hourly \nFor a full list of open positions and job descriptions\, visit Careers.Nordstrom.com
URL:https://goldensierra.com/event/nordstrom-hiring-event
LOCATION:Nordstrom Galleria Roseville\, 1131 Galleria Blvd.\, Roseville\, 95678\, United States
CATEGORIES:Hiring Event,Job Seeker
GEO:38.7717529;-121.2685205
X-APPLE-STRUCTURED-LOCATION;VALUE=URI;X-ADDRESS=Nordstrom Galleria Roseville 1131 Galleria Blvd. Roseville 95678 United States;X-APPLE-RADIUS=500;X-TITLE=1131 Galleria Blvd.:geo:-121.2685205,38.7717529
END:VEVENT
BEGIN:VEVENT
DTSTART;TZID=America/Los_Angeles:20250925T170000
DTEND;TZID=America/Los_Angeles:20250925T190000
DTSTAMP:20260420T135222
CREATED:20250909T214041Z
LAST-MODIFIED:20250909T214041Z
UID:10004198-1758819600-1758826800@goldensierra.com
SUMMARY:SVMA Advanced Manufacturing Career Forum
DESCRIPTION:Join the Sacramento Valley Manufacturers (SVMA) at Sierra College for an exciting event focused on exploring career opportunities in the advanced manufacturing industry. Whether you’re a student looking to kickstart your career or a professional seeking new challenges\, this forum is the perfect place to connect with industry experts and learn about the latest trends in manufacturing. \nRegister Here! \nSVMA 09252025 flyer
URL:https://goldensierra.com/event/svma-advanced-manufacturing-career-forum
LOCATION:Sierra College\, 5100 Sierra College Blvd.\, Rocklin\, CA\, 95677\, United States
CATEGORIES:Community Event,Digest,Job Seeker
GEO:38.7914688;-121.2117693
X-APPLE-STRUCTURED-LOCATION;VALUE=URI;X-ADDRESS=Sierra College 5100 Sierra College Blvd. Rocklin CA 95677 United States;X-APPLE-RADIUS=500;X-TITLE=5100 Sierra College Blvd.:geo:-121.2117693,38.7914688
END:VEVENT
END:VCALENDAR