BEGIN:VCALENDAR
VERSION:2.0
PRODID:-//Golden Sierra Job Training Agency - ECPv6.15.20//NONSGML v1.0//EN
CALSCALE:GREGORIAN
METHOD:PUBLISH
X-ORIGINAL-URL:https://goldensierra.com
X-WR-CALDESC:Events for Golden Sierra Job Training Agency
REFRESH-INTERVAL;VALUE=DURATION:PT1H
X-Robots-Tag:noindex
X-PUBLISHED-TTL:PT1H
BEGIN:VTIMEZONE
TZID:America/Los_Angeles
BEGIN:DAYLIGHT
TZOFFSETFROM:-0800
TZOFFSETTO:-0700
TZNAME:PDT
DTSTART:20240310T100000
END:DAYLIGHT
BEGIN:STANDARD
TZOFFSETFROM:-0700
TZOFFSETTO:-0800
TZNAME:PST
DTSTART:20241103T090000
END:STANDARD
BEGIN:DAYLIGHT
TZOFFSETFROM:-0800
TZOFFSETTO:-0700
TZNAME:PDT
DTSTART:20250309T100000
END:DAYLIGHT
BEGIN:STANDARD
TZOFFSETFROM:-0700
TZOFFSETTO:-0800
TZNAME:PST
DTSTART:20251102T090000
END:STANDARD
BEGIN:DAYLIGHT
TZOFFSETFROM:-0800
TZOFFSETTO:-0700
TZNAME:PDT
DTSTART:20260308T100000
END:DAYLIGHT
BEGIN:STANDARD
TZOFFSETFROM:-0700
TZOFFSETTO:-0800
TZNAME:PST
DTSTART:20261101T090000
END:STANDARD
END:VTIMEZONE
BEGIN:VEVENT
DTSTART;TZID=America/Los_Angeles:20250827T000000
DTEND;TZID=America/Los_Angeles:20250827T235959
DTSTAMP:20260420T151342
CREATED:20250819T221723Z
LAST-MODIFIED:20250819T221723Z
UID:10004188-1756252800-1756339199@goldensierra.com
SUMMARY:Golden 1 Credit Union: Virtual Hiring Event
DESCRIPTION:Join Golden 1 Credit Union for their Virtual Hiring Event for Contact Center Professionals! Discover career opportunities in an inclusive environment where your unique talents and diverse experiences are celebrated. For more information\, contact recruiters@golden1.com or visit Golden 1 Credit Union’s website. \nRegister Here! \nGolden 1 Credit Union Hiring Event Flyer
URL:https://goldensierra.com/event/golden-1-credit-union-virtual-hiring-event
LOCATION:
CATEGORIES:Digest,Hiring Event,Job Seeker
END:VEVENT
BEGIN:VEVENT
DTSTART;TZID=America/Los_Angeles:20250827T100000
DTEND;TZID=America/Los_Angeles:20250827T103000
DTSTAMP:20260420T151342
CREATED:20250805T210221Z
LAST-MODIFIED:20250806T231702Z
UID:10004181-1756288800-1756290600@goldensierra.com
SUMMARY:Crafting a Strong Statement of Qualifications
DESCRIPTION:Attend this virtual webinar to learn about the State of California’s hiring process and get your questions answered in real time! This webinar is part of the Career Pathway series and focuses on navigating two key components of the State of California job application process – crafting a strong Statement of Qualifications (SOQ) and understanding how applications are screened by hiring departments. \nRegister Here! \nFor more information\, please contact LCORecruitment2@dir.ca.gov
URL:https://goldensierra.com/event/mastering-the-ca-state-job-application-std-678-soq-writing
LOCATION:
CATEGORIES:Digest,Job Seeker,Workshop
END:VEVENT
BEGIN:VEVENT
DTSTART;TZID=America/Los_Angeles:20250827T130000
DTEND;TZID=America/Los_Angeles:20250827T160000
DTSTAMP:20260420T151342
CREATED:20250725T231157Z
LAST-MODIFIED:20251121T171016Z
UID:10004134-1756299600-1756310400@goldensierra.com
SUMMARY:Career Coaching
DESCRIPTION:One-on-one career coaching sessions are a great way to get personalized help with resume development\, interview preparation\, and job search assistance. Call the front desk or email info@goldensierra.com to request an appointment.
URL:https://goldensierra.com/event/career-coaching-2/2025-08-27
LOCATION:America’s Job Center of California – Roseville\, 115 Ascot Drive Ste. 100\, Roseville\, CA\, 95661\, United States
CATEGORIES:Job Seeker,Workshop
GEO:38.742436;-121.26857
X-APPLE-STRUCTURED-LOCATION;VALUE=URI;X-ADDRESS=America’s Job Center of California – Roseville 115 Ascot Drive Ste. 100 Roseville CA 95661 United States;X-APPLE-RADIUS=500;X-TITLE=115 Ascot Drive Ste. 100:geo:-121.26857,38.742436
END:VEVENT
BEGIN:VEVENT
DTSTART;TZID=America/Los_Angeles:20250827T133000
DTEND;TZID=America/Los_Angeles:20250827T143000
DTSTAMP:20260420T151342
CREATED:20250821T163051Z
LAST-MODIFIED:20250821T163623Z
UID:10004189-1756301400-1756305000@goldensierra.com
SUMMARY:Career Connection: Carebuilders at Home
DESCRIPTION:Meet with a Carebuilders at Home representative to learn about Caregiver opportunities\, benefits and how to apply. \nCalJOBS registration is required: Please register here and make sure your email in CalJOBS is up-to-date.  After registration\, a link for the event will be sent to your email. \nFor more information\, contact WSBSacramentoFieldOffice@edd.ca.gov or call (916) 227 – 0301. \nCarebuilders at Home Virtual Event Flyer
URL:https://goldensierra.com/event/career-connection-carebuilders-at-home
LOCATION:
CATEGORIES:Digest,Hiring Event,Job Seeker,Workshop
END:VEVENT
END:VCALENDAR