BEGIN:VCALENDAR
VERSION:2.0
PRODID:-//Golden Sierra Job Training Agency - ECPv6.15.20//NONSGML v1.0//EN
CALSCALE:GREGORIAN
METHOD:PUBLISH
X-WR-CALNAME:Golden Sierra Job Training Agency
X-ORIGINAL-URL:https://goldensierra.com
X-WR-CALDESC:Events for Golden Sierra Job Training Agency
REFRESH-INTERVAL;VALUE=DURATION:PT1H
X-Robots-Tag:noindex
X-PUBLISHED-TTL:PT1H
BEGIN:VTIMEZONE
TZID:America/Los_Angeles
BEGIN:DAYLIGHT
TZOFFSETFROM:-0800
TZOFFSETTO:-0700
TZNAME:PDT
DTSTART:20240310T100000
END:DAYLIGHT
BEGIN:STANDARD
TZOFFSETFROM:-0700
TZOFFSETTO:-0800
TZNAME:PST
DTSTART:20241103T090000
END:STANDARD
BEGIN:DAYLIGHT
TZOFFSETFROM:-0800
TZOFFSETTO:-0700
TZNAME:PDT
DTSTART:20250309T100000
END:DAYLIGHT
BEGIN:STANDARD
TZOFFSETFROM:-0700
TZOFFSETTO:-0800
TZNAME:PST
DTSTART:20251102T090000
END:STANDARD
BEGIN:DAYLIGHT
TZOFFSETFROM:-0800
TZOFFSETTO:-0700
TZNAME:PDT
DTSTART:20260308T100000
END:DAYLIGHT
BEGIN:STANDARD
TZOFFSETFROM:-0700
TZOFFSETTO:-0800
TZNAME:PST
DTSTART:20261101T090000
END:STANDARD
END:VTIMEZONE
BEGIN:VEVENT
DTSTART;TZID=America/Los_Angeles:20250820T100000
DTEND;TZID=America/Los_Angeles:20250820T103000
DTSTAMP:20260420T133905
CREATED:20250805T205335Z
LAST-MODIFIED:20250806T231420Z
UID:10004180-1755684000-1755685800@goldensierra.com
SUMMARY:State Job Application: Minimum Qualifications & Exams
DESCRIPTION:Attend this virtual webinar to learn about the State of California’s hiring process and get your questions answered in real time! This webinar is part of the Career Pathway series and focuses on navigating state examinations and understanding the minimum qualifications of a successful state job application. \nRegister Here! \nFor more information\, please contact LCORecruitment2@dir.ca.gov
URL:https://goldensierra.com/event/ca-state-job-application-minimum-qualifications-exams
LOCATION:
CATEGORIES:Digest,Job Seeker,Workshop
END:VEVENT
BEGIN:VEVENT
DTSTART;TZID=America/Los_Angeles:20250820T100000
DTEND;TZID=America/Los_Angeles:20250820T163000
DTSTAMP:20260420T133905
CREATED:20250806T225709Z
LAST-MODIFIED:20250806T231759Z
UID:10004183-1755684000-1755707400@goldensierra.com
SUMMARY:Gainwell Technologies Interview Event
DESCRIPTION:Gainwell Technologies is looking for energetic and creative individuals to join their team. If you’re ready to make a positive difference in people’s lives\, join us for a Walk-In Wednesday interview event. No appointment needed – just bring your resume and enthusiasm. For questions\, please contact info@goldensierra.com or text 530-401-5921. \nGainwell Walk-In Wed Flyer
URL:https://goldensierra.com/event/gainwell-technologies-interview-event
LOCATION:America’s Job Center of California – Roseville\, 115 Ascot Drive Ste. 100\, Roseville\, CA\, 95661\, United States
CATEGORIES:Digest,Hiring Event,Job Seeker
GEO:38.742436;-121.26857
X-APPLE-STRUCTURED-LOCATION;VALUE=URI;X-ADDRESS=America’s Job Center of California – Roseville 115 Ascot Drive Ste. 100 Roseville CA 95661 United States;X-APPLE-RADIUS=500;X-TITLE=115 Ascot Drive Ste. 100:geo:-121.26857,38.742436
END:VEVENT
BEGIN:VEVENT
DTSTART;TZID=America/Los_Angeles:20250820T110000
DTEND;TZID=America/Los_Angeles:20250820T120000
DTSTAMP:20260420T133905
CREATED:20250604T223338Z
LAST-MODIFIED:20251121T170353Z
UID:10003816-1755687600-1755691200@goldensierra.com
SUMMARY:Virtual Orientation
DESCRIPTION:If you are a resident of Placer\, El Dorado\, or Alpine counties you have access to free programs that can help you in your job search or career transition. Join us for more information and see what we can do for you. \nGolden Sierra offers the following services to eligible individuals: \n\nTraining Scholarships\nCareer Counseling\nFinancial Assistance\n\nWe also have specialized programs for young adults\, veterans\, justice involved individuals\, and people with disabilities. \nRegister Here
URL:https://goldensierra.com/event/virtual-orientation-4/2025-08-20
LOCATION:CA
CATEGORIES:Job Seeker,Orientation
END:VEVENT
BEGIN:VEVENT
DTSTART;TZID=America/Los_Angeles:20250820T130000
DTEND;TZID=America/Los_Angeles:20250820T160000
DTSTAMP:20260420T133905
CREATED:20250725T231157Z
LAST-MODIFIED:20251121T171016Z
UID:10004133-1755694800-1755705600@goldensierra.com
SUMMARY:Career Coaching
DESCRIPTION:One-on-one career coaching sessions are a great way to get personalized help with resume development\, interview preparation\, and job search assistance. Call the front desk or email info@goldensierra.com to request an appointment.
URL:https://goldensierra.com/event/career-coaching-2/2025-08-20
LOCATION:America’s Job Center of California – Roseville\, 115 Ascot Drive Ste. 100\, Roseville\, CA\, 95661\, United States
CATEGORIES:Job Seeker,Workshop
GEO:38.742436;-121.26857
X-APPLE-STRUCTURED-LOCATION;VALUE=URI;X-ADDRESS=America’s Job Center of California – Roseville 115 Ascot Drive Ste. 100 Roseville CA 95661 United States;X-APPLE-RADIUS=500;X-TITLE=115 Ascot Drive Ste. 100:geo:-121.26857,38.742436
END:VEVENT
END:VCALENDAR