BEGIN:VCALENDAR
VERSION:2.0
PRODID:-//Golden Sierra Job Training Agency - ECPv6.15.20//NONSGML v1.0//EN
CALSCALE:GREGORIAN
METHOD:PUBLISH
X-WR-CALNAME:Golden Sierra Job Training Agency
X-ORIGINAL-URL:https://goldensierra.com
X-WR-CALDESC:Events for Golden Sierra Job Training Agency
REFRESH-INTERVAL;VALUE=DURATION:PT1H
X-Robots-Tag:noindex
X-PUBLISHED-TTL:PT1H
BEGIN:VTIMEZONE
TZID:America/Los_Angeles
BEGIN:DAYLIGHT
TZOFFSETFROM:-0800
TZOFFSETTO:-0700
TZNAME:PDT
DTSTART:20240310T100000
END:DAYLIGHT
BEGIN:STANDARD
TZOFFSETFROM:-0700
TZOFFSETTO:-0800
TZNAME:PST
DTSTART:20241103T090000
END:STANDARD
BEGIN:DAYLIGHT
TZOFFSETFROM:-0800
TZOFFSETTO:-0700
TZNAME:PDT
DTSTART:20250309T100000
END:DAYLIGHT
BEGIN:STANDARD
TZOFFSETFROM:-0700
TZOFFSETTO:-0800
TZNAME:PST
DTSTART:20251102T090000
END:STANDARD
BEGIN:DAYLIGHT
TZOFFSETFROM:-0800
TZOFFSETTO:-0700
TZNAME:PDT
DTSTART:20260308T100000
END:DAYLIGHT
BEGIN:STANDARD
TZOFFSETFROM:-0700
TZOFFSETTO:-0800
TZNAME:PST
DTSTART:20261101T090000
END:STANDARD
END:VTIMEZONE
BEGIN:VEVENT
DTSTART;TZID=America/Los_Angeles:20250819T090000
DTEND;TZID=America/Los_Angeles:20250819T120000
DTSTAMP:20260420T151352
CREATED:20250725T231025Z
LAST-MODIFIED:20260401T223854Z
UID:10003935-1755594000-1755604800@goldensierra.com
SUMMARY:Career Coaching
DESCRIPTION:One-on-one career coaching sessions are a great way to get personalized help with resume development\, interview preparation\, and job search assistance. Call the front desk or email info@goldensierra.com to request an appointment.
URL:https://goldensierra.com/event/career-coaching/2025-08-19
LOCATION:America’s Job Center of California – Roseville\, 115 Ascot Drive Ste. 100\, Roseville\, CA\, 95661\, United States
CATEGORIES:Job Seeker,Workshop
GEO:38.742436;-121.26857
X-APPLE-STRUCTURED-LOCATION;VALUE=URI;X-ADDRESS=America’s Job Center of California – Roseville 115 Ascot Drive Ste. 100 Roseville CA 95661 United States;X-APPLE-RADIUS=500;X-TITLE=115 Ascot Drive Ste. 100:geo:-121.26857,38.742436
END:VEVENT
BEGIN:VEVENT
DTSTART;TZID=America/Los_Angeles:20250819T120000
DTEND;TZID=America/Los_Angeles:20250819T130000
DTSTAMP:20260420T151352
CREATED:20250807T230310Z
LAST-MODIFIED:20250808T172006Z
UID:10004184-1755604800-1755608400@goldensierra.com
SUMMARY:Get a Job with the CA Department of Housing & Community Development (HCD)
DESCRIPTION:Join the California Department of Housing and Community Development (HCD) for a career information session. Learn how to start your state career with HCD and get your questions answered. \nRegister Here!
URL:https://goldensierra.com/event/information-session-get-a-job-with-the-ca-department-of-housing-and-community-development-hcd
LOCATION:
CATEGORIES:Job Seeker,Workshop
END:VEVENT
BEGIN:VEVENT
DTSTART;TZID=America/Los_Angeles:20250819T130000
DTEND;TZID=America/Los_Angeles:20250819T160000
DTSTAMP:20260420T151352
CREATED:20250806T224434Z
LAST-MODIFIED:20250806T231923Z
UID:10004182-1755608400-1755619200@goldensierra.com
SUMMARY:Get to Know Gainwell Technologies
DESCRIPTION:Build your career with a company harnessing the power of technology to improve health and human services outcomes. As the leader in healthcare technology services for state government\, Gainwell Technologies is looking for your energy and creativity to make a positive difference in people’s lives. To explore the local job opportunities and prepare for your walk-in interview\, join our virtual Get to Know Gainwell Technologies event. \nRegister Here!
URL:https://goldensierra.com/event/get-to-know-gainwell-technologies
LOCATION:
CATEGORIES:Digest,Job Seeker,Workshop
END:VEVENT
BEGIN:VEVENT
DTSTART;TZID=America/Los_Angeles:20250819T160000
DTEND;TZID=America/Los_Angeles:20250819T170000
DTSTAMP:20260420T151352
CREATED:20250721T182122Z
LAST-MODIFIED:20250721T182122Z
UID:10003834-1755619200-1755622800@goldensierra.com
SUMMARY:Metrix: Tip Tuesday
DESCRIPTION:Metrix’s eLearning portal is designed to improve your job prospects. Request your free account from Golden Sierra and begin taking online courses right away. If you need help navigating the portal or troubleshooting technical issues\, join the Tip Tuesday webinar for expert advice. \nJoin Now via Teams
URL:https://goldensierra.com/event/metrix-learning-tip-tuesday-2/2025-08-19
LOCATION:CA
CATEGORIES:Job Seeker,Workshop
END:VEVENT
END:VCALENDAR