BEGIN:VCALENDAR
VERSION:2.0
PRODID:-//Golden Sierra Job Training Agency - ECPv6.15.20//NONSGML v1.0//EN
CALSCALE:GREGORIAN
METHOD:PUBLISH
X-ORIGINAL-URL:https://goldensierra.com
X-WR-CALDESC:Events for Golden Sierra Job Training Agency
REFRESH-INTERVAL;VALUE=DURATION:PT1H
X-Robots-Tag:noindex
X-PUBLISHED-TTL:PT1H
BEGIN:VTIMEZONE
TZID:America/Los_Angeles
BEGIN:DAYLIGHT
TZOFFSETFROM:-0800
TZOFFSETTO:-0700
TZNAME:PDT
DTSTART:20240310T100000
END:DAYLIGHT
BEGIN:STANDARD
TZOFFSETFROM:-0700
TZOFFSETTO:-0800
TZNAME:PST
DTSTART:20241103T090000
END:STANDARD
BEGIN:DAYLIGHT
TZOFFSETFROM:-0800
TZOFFSETTO:-0700
TZNAME:PDT
DTSTART:20250309T100000
END:DAYLIGHT
BEGIN:STANDARD
TZOFFSETFROM:-0700
TZOFFSETTO:-0800
TZNAME:PST
DTSTART:20251102T090000
END:STANDARD
BEGIN:DAYLIGHT
TZOFFSETFROM:-0800
TZOFFSETTO:-0700
TZNAME:PDT
DTSTART:20260308T100000
END:DAYLIGHT
BEGIN:STANDARD
TZOFFSETFROM:-0700
TZOFFSETTO:-0800
TZNAME:PST
DTSTART:20261101T090000
END:STANDARD
END:VTIMEZONE
BEGIN:VEVENT
DTSTART;TZID=America/Los_Angeles:20250730T100000
DTEND;TZID=America/Los_Angeles:20250730T103000
DTSTAMP:20260420T183052
CREATED:20250728T164322Z
LAST-MODIFIED:20250728T172404Z
UID:10004177-1753869600-1753871400@goldensierra.com
SUMMARY:Completing the State of CA Job Application (STD 678)
DESCRIPTION:This virtual workshop is hosted by Ezzard Ellis. If you are interested in applying for a job with the State of California and don’t know where to begin\, start here. This session will give you a better understanding of the overall state hiring process. \nRegister Here! \n  \n \n  \n  \n 
URL:https://goldensierra.com/event/labor-commissioners-office-virtual-workshop-completing-the-state-of-ca-job-application-std-678
LOCATION:
CATEGORIES:Digest,Job Seeker,Workshop
END:VEVENT
END:VCALENDAR