BEGIN:VCALENDAR
VERSION:2.0
PRODID:-//Golden Sierra Job Training Agency - ECPv6.15.20//NONSGML v1.0//EN
CALSCALE:GREGORIAN
METHOD:PUBLISH
X-ORIGINAL-URL:https://goldensierra.com
X-WR-CALDESC:Events for Golden Sierra Job Training Agency
REFRESH-INTERVAL;VALUE=DURATION:PT1H
X-Robots-Tag:noindex
X-PUBLISHED-TTL:PT1H
BEGIN:VTIMEZONE
TZID:America/Los_Angeles
BEGIN:DAYLIGHT
TZOFFSETFROM:-0800
TZOFFSETTO:-0700
TZNAME:PDT
DTSTART:20240310T100000
END:DAYLIGHT
BEGIN:STANDARD
TZOFFSETFROM:-0700
TZOFFSETTO:-0800
TZNAME:PST
DTSTART:20241103T090000
END:STANDARD
BEGIN:DAYLIGHT
TZOFFSETFROM:-0800
TZOFFSETTO:-0700
TZNAME:PDT
DTSTART:20250309T100000
END:DAYLIGHT
BEGIN:STANDARD
TZOFFSETFROM:-0700
TZOFFSETTO:-0800
TZNAME:PST
DTSTART:20251102T090000
END:STANDARD
BEGIN:DAYLIGHT
TZOFFSETFROM:-0800
TZOFFSETTO:-0700
TZNAME:PDT
DTSTART:20260308T100000
END:DAYLIGHT
BEGIN:STANDARD
TZOFFSETFROM:-0700
TZOFFSETTO:-0800
TZNAME:PST
DTSTART:20261101T090000
END:STANDARD
END:VTIMEZONE
BEGIN:VEVENT
DTSTART;TZID=America/Los_Angeles:20250725T100000
DTEND;TZID=America/Los_Angeles:20250725T140000
DTSTAMP:20260420T230901
CREATED:20250529T183045Z
LAST-MODIFIED:20250529T183045Z
UID:10003789-1753437600-1753452000@goldensierra.com
SUMMARY:PRIDE Industries: Hire a Veteran Day
DESCRIPTION:PRIDE Industries actively recruits military veterans. They count hundreds of veterans of all ranks and branches among their employees\, leadership team\, and Board of Directors. They are hosting a hiring event to meet recruiters and hiring managers. Explore the many career opportunities they offer throughout the Greater Sacramento Area. For more information\, visit https://www.prideindustries.com/jobs-for-veterans \nRegister Here
URL:https://goldensierra.com/event/pride-industries-hire-a-veteran-day
LOCATION:PRIDE Industries\, 7011 Sylvan Road\, Citrus Heights\, CA\, 95610\, United States
CATEGORIES:Digest,Hiring Event,Job Seeker
GEO:38.6933498;-121.2907847
X-APPLE-STRUCTURED-LOCATION;VALUE=URI;X-ADDRESS=PRIDE Industries 7011 Sylvan Road Citrus Heights CA 95610 United States;X-APPLE-RADIUS=500;X-TITLE=7011 Sylvan Road:geo:-121.2907847,38.6933498
END:VEVENT
END:VCALENDAR