BEGIN:VCALENDAR
VERSION:2.0
PRODID:-//Golden Sierra Job Training Agency - ECPv6.15.20//NONSGML v1.0//EN
CALSCALE:GREGORIAN
METHOD:PUBLISH
X-WR-CALNAME:Golden Sierra Job Training Agency
X-ORIGINAL-URL:https://goldensierra.com
X-WR-CALDESC:Events for Golden Sierra Job Training Agency
REFRESH-INTERVAL;VALUE=DURATION:PT1H
X-Robots-Tag:noindex
X-PUBLISHED-TTL:PT1H
BEGIN:VTIMEZONE
TZID:America/Los_Angeles
BEGIN:DAYLIGHT
TZOFFSETFROM:-0800
TZOFFSETTO:-0700
TZNAME:PDT
DTSTART:20240310T100000
END:DAYLIGHT
BEGIN:STANDARD
TZOFFSETFROM:-0700
TZOFFSETTO:-0800
TZNAME:PST
DTSTART:20241103T090000
END:STANDARD
BEGIN:DAYLIGHT
TZOFFSETFROM:-0800
TZOFFSETTO:-0700
TZNAME:PDT
DTSTART:20250309T100000
END:DAYLIGHT
BEGIN:STANDARD
TZOFFSETFROM:-0700
TZOFFSETTO:-0800
TZNAME:PST
DTSTART:20251102T090000
END:STANDARD
BEGIN:DAYLIGHT
TZOFFSETFROM:-0800
TZOFFSETTO:-0700
TZNAME:PDT
DTSTART:20260308T100000
END:DAYLIGHT
BEGIN:STANDARD
TZOFFSETFROM:-0700
TZOFFSETTO:-0800
TZNAME:PST
DTSTART:20261101T090000
END:STANDARD
END:VTIMEZONE
BEGIN:VEVENT
DTSTART;TZID=America/Los_Angeles:20250714T000000
DTEND;TZID=America/Los_Angeles:20250719T235959
DTSTAMP:20260420T164506
CREATED:20250124T192159Z
LAST-MODIFIED:20250124T192159Z
UID:10003687-1752451200-1752969599@goldensierra.com
SUMMARY:Youth Leadership Forum
DESCRIPTION:The 2025 YLF will be held in-person from July 14 through July 19 at California State University\, Sacramento. This event will focus on topics such as transitioning after high school\, money management\, post-secondary education\, work experience\, careers\, and self-advocacy. California residents with a disability who are high school sophomores\, juniors\, or seniors during the 2024-2025 school year are eligible to attend. This includes students with an IEP or 504 plan. \nMore Information
URL:https://goldensierra.com/event/youth-leadership-forum
LOCATION:CA
CATEGORIES:Community Event,Job Seeker
END:VEVENT
END:VCALENDAR