BEGIN:VCALENDAR
VERSION:2.0
PRODID:-//Golden Sierra Job Training Agency - ECPv6.15.20//NONSGML v1.0//EN
CALSCALE:GREGORIAN
METHOD:PUBLISH
X-WR-CALNAME:Golden Sierra Job Training Agency
X-ORIGINAL-URL:https://goldensierra.com
X-WR-CALDESC:Events for Golden Sierra Job Training Agency
REFRESH-INTERVAL;VALUE=DURATION:PT1H
X-Robots-Tag:noindex
X-PUBLISHED-TTL:PT1H
BEGIN:VTIMEZONE
TZID:America/Los_Angeles
BEGIN:DAYLIGHT
TZOFFSETFROM:-0800
TZOFFSETTO:-0700
TZNAME:PDT
DTSTART:20240310T100000
END:DAYLIGHT
BEGIN:STANDARD
TZOFFSETFROM:-0700
TZOFFSETTO:-0800
TZNAME:PST
DTSTART:20241103T090000
END:STANDARD
BEGIN:DAYLIGHT
TZOFFSETFROM:-0800
TZOFFSETTO:-0700
TZNAME:PDT
DTSTART:20250309T100000
END:DAYLIGHT
BEGIN:STANDARD
TZOFFSETFROM:-0700
TZOFFSETTO:-0800
TZNAME:PST
DTSTART:20251102T090000
END:STANDARD
BEGIN:DAYLIGHT
TZOFFSETFROM:-0800
TZOFFSETTO:-0700
TZNAME:PDT
DTSTART:20260308T100000
END:DAYLIGHT
BEGIN:STANDARD
TZOFFSETFROM:-0700
TZOFFSETTO:-0800
TZNAME:PST
DTSTART:20261101T090000
END:STANDARD
END:VTIMEZONE
BEGIN:VEVENT
DTSTART;TZID=America/Los_Angeles:20250714T000000
DTEND;TZID=America/Los_Angeles:20250719T235959
DTSTAMP:20260420T163742
CREATED:20250124T192159Z
LAST-MODIFIED:20250124T192159Z
UID:10003687-1752451200-1752969599@goldensierra.com
SUMMARY:Youth Leadership Forum
DESCRIPTION:The 2025 YLF will be held in-person from July 14 through July 19 at California State University\, Sacramento. This event will focus on topics such as transitioning after high school\, money management\, post-secondary education\, work experience\, careers\, and self-advocacy. California residents with a disability who are high school sophomores\, juniors\, or seniors during the 2024-2025 school year are eligible to attend. This includes students with an IEP or 504 plan. \nMore Information
URL:https://goldensierra.com/event/youth-leadership-forum
LOCATION:CA
CATEGORIES:Community Event,Job Seeker
END:VEVENT
BEGIN:VEVENT
DTSTART;TZID=America/Los_Angeles:20250716T110000
DTEND;TZID=America/Los_Angeles:20250716T120000
DTSTAMP:20260420T163742
CREATED:20250604T223338Z
LAST-MODIFIED:20251121T170353Z
UID:10003815-1752663600-1752667200@goldensierra.com
SUMMARY:Virtual Orientation
DESCRIPTION:If you are a resident of Placer\, El Dorado\, or Alpine counties you have access to free programs that can help you in your job search or career transition. Join us for more information and see what we can do for you. \nGolden Sierra offers the following services to eligible individuals: \n\nTraining Scholarships\nCareer Counseling\nFinancial Assistance\n\nWe also have specialized programs for young adults\, veterans\, justice involved individuals\, and people with disabilities. \nRegister Here
URL:https://goldensierra.com/event/virtual-orientation-4/2025-07-16
LOCATION:CA
CATEGORIES:Job Seeker,Orientation
END:VEVENT
BEGIN:VEVENT
DTSTART;TZID=America/Los_Angeles:20250716T130000
DTEND;TZID=America/Los_Angeles:20250716T140000
DTSTAMP:20260420T163742
CREATED:20250710T172643Z
LAST-MODIFIED:20250710T181027Z
UID:10003826-1752670800-1752674400@goldensierra.com
SUMMARY:NPower Sacramento Webinar & Info Session
DESCRIPTION:NPower’s tuition-free programs will help you break into tech\, grow your skills and become career-ready. Join the NPower Sacramento Team for a power-packed info session and discover how to sign up for their free 18-week IT support specialist training. NPower’s award-winning programs are offered to young adults 18-26 and military-connected (no age requirement). To learn more\, please visit NPower’s website. \nPlease RSVP with the link provided here. \nNPower Sac Webinar Flyer
URL:https://goldensierra.com/event/npower-sacramento-webinar-info-session
LOCATION:
CATEGORIES:Community Event,Job Seeker
END:VEVENT
BEGIN:VEVENT
DTSTART;TZID=America/Los_Angeles:20250716T200000
DTEND;TZID=America/Los_Angeles:20250716T210000
DTSTAMP:20260420T163742
CREATED:20250610T160432Z
LAST-MODIFIED:20250610T160432Z
UID:10003821-1752696000-1752699600@goldensierra.com
SUMMARY:CVS Health: Online Application Workshop
DESCRIPTION:Attend this virtual workshop to learn more about CVS Health\, how to search for jobs\, how to apply for open positions\, and tips for passing the Virtual Job Tryout. \nRegister Now
URL:https://goldensierra.com/event/cvs-health-online-application-workshop-12
LOCATION:CA
CATEGORIES:Digest,Job Seeker,Workshop
END:VEVENT
END:VCALENDAR