BEGIN:VCALENDAR
VERSION:2.0
PRODID:-//Golden Sierra Job Training Agency - ECPv6.15.20//NONSGML v1.0//EN
CALSCALE:GREGORIAN
METHOD:PUBLISH
X-ORIGINAL-URL:https://goldensierra.com
X-WR-CALDESC:Events for Golden Sierra Job Training Agency
REFRESH-INTERVAL;VALUE=DURATION:PT1H
X-Robots-Tag:noindex
X-PUBLISHED-TTL:PT1H
BEGIN:VTIMEZONE
TZID:America/Los_Angeles
BEGIN:DAYLIGHT
TZOFFSETFROM:-0800
TZOFFSETTO:-0700
TZNAME:PDT
DTSTART:20240310T100000
END:DAYLIGHT
BEGIN:STANDARD
TZOFFSETFROM:-0700
TZOFFSETTO:-0800
TZNAME:PST
DTSTART:20241103T090000
END:STANDARD
BEGIN:DAYLIGHT
TZOFFSETFROM:-0800
TZOFFSETTO:-0700
TZNAME:PDT
DTSTART:20250309T100000
END:DAYLIGHT
BEGIN:STANDARD
TZOFFSETFROM:-0700
TZOFFSETTO:-0800
TZNAME:PST
DTSTART:20251102T090000
END:STANDARD
BEGIN:DAYLIGHT
TZOFFSETFROM:-0800
TZOFFSETTO:-0700
TZNAME:PDT
DTSTART:20260308T100000
END:DAYLIGHT
BEGIN:STANDARD
TZOFFSETFROM:-0700
TZOFFSETTO:-0800
TZNAME:PST
DTSTART:20261101T090000
END:STANDARD
END:VTIMEZONE
BEGIN:VEVENT
DTSTART;TZID=America/Los_Angeles:20250708T110000
DTEND;TZID=America/Los_Angeles:20250708T140000
DTSTAMP:20260420T182933
CREATED:20250612T185113Z
LAST-MODIFIED:20250612T185113Z
UID:10003823-1751972400-1751983200@goldensierra.com
SUMMARY:The BLVD! - Now Hiring for Summer
DESCRIPTION:The BLVD! is more than just an entertainment venue; it’s a place where energy\, creativity\, and great service come together to create unforgettable experiences. This employer is looking for over 100 fun\, friendly\, and hard-working individuals for their new West Sacramento location. \nRecruitment Event Flyer
URL:https://goldensierra.com/event/the-blvd-now-hiring-for-summer
LOCATION:The BLVD!\, 500 Jefferson Blvd.\, Suite A\, West Sacramento\, CA\, 95691\, United States
CATEGORIES:Digest,Hiring Event,Job Seeker
GEO:38.5873792;-121.5278657
X-APPLE-STRUCTURED-LOCATION;VALUE=URI;X-ADDRESS=The BLVD! 500 Jefferson Blvd. Suite A West Sacramento CA 95691 United States;X-APPLE-RADIUS=500;X-TITLE=500 Jefferson Blvd.\, Suite A:geo:-121.5278657,38.5873792
END:VEVENT
BEGIN:VEVENT
DTSTART;TZID=America/Los_Angeles:20250708T160000
DTEND;TZID=America/Los_Angeles:20250708T170000
DTSTAMP:20260420T182933
CREATED:20250721T182122Z
LAST-MODIFIED:20250721T182122Z
UID:10003828-1751990400-1751994000@goldensierra.com
SUMMARY:Metrix: Tip Tuesday
DESCRIPTION:Metrix’s eLearning portal is designed to improve your job prospects. Request your free account from Golden Sierra and begin taking online courses right away. If you need help navigating the portal or troubleshooting technical issues\, join the Tip Tuesday webinar for expert advice. \nJoin Now via Teams
URL:https://goldensierra.com/event/metrix-learning-tip-tuesday-2/2025-07-08
LOCATION:CA
CATEGORIES:Job Seeker,Workshop
END:VEVENT
END:VCALENDAR