BEGIN:VCALENDAR
VERSION:2.0
PRODID:-//Golden Sierra Job Training Agency - ECPv6.15.20//NONSGML v1.0//EN
CALSCALE:GREGORIAN
METHOD:PUBLISH
X-WR-CALNAME:Golden Sierra Job Training Agency
X-ORIGINAL-URL:https://goldensierra.com
X-WR-CALDESC:Events for Golden Sierra Job Training Agency
REFRESH-INTERVAL;VALUE=DURATION:PT1H
X-Robots-Tag:noindex
X-PUBLISHED-TTL:PT1H
BEGIN:VTIMEZONE
TZID:America/Los_Angeles
BEGIN:DAYLIGHT
TZOFFSETFROM:-0800
TZOFFSETTO:-0700
TZNAME:PDT
DTSTART:20240310T100000
END:DAYLIGHT
BEGIN:STANDARD
TZOFFSETFROM:-0700
TZOFFSETTO:-0800
TZNAME:PST
DTSTART:20241103T090000
END:STANDARD
BEGIN:DAYLIGHT
TZOFFSETFROM:-0800
TZOFFSETTO:-0700
TZNAME:PDT
DTSTART:20250309T100000
END:DAYLIGHT
BEGIN:STANDARD
TZOFFSETFROM:-0700
TZOFFSETTO:-0800
TZNAME:PST
DTSTART:20251102T090000
END:STANDARD
BEGIN:DAYLIGHT
TZOFFSETFROM:-0800
TZOFFSETTO:-0700
TZNAME:PDT
DTSTART:20260308T100000
END:DAYLIGHT
BEGIN:STANDARD
TZOFFSETFROM:-0700
TZOFFSETTO:-0800
TZNAME:PST
DTSTART:20261101T090000
END:STANDARD
END:VTIMEZONE
BEGIN:VEVENT
DTSTART;TZID=America/Los_Angeles:20250604T110000
DTEND;TZID=America/Los_Angeles:20250604T120000
DTSTAMP:20260420T182836
CREATED:20241011T160952Z
LAST-MODIFIED:20241115T002729Z
UID:10003607-1749034800-1749038400@goldensierra.com
SUMMARY:Virtual Orientation
DESCRIPTION:If you are a resident of Placer\, El Dorado\, or Alpine counties you have access to free programs that can help you in your job search or career transition. Join us for more information and see what we can do for you. \nGolden Sierra offers the following services to eligible individuals: \n\nTraining Scholarships\nCareer Counseling\nFinancial Assistance\n\nWe also have specialized programs for young adults\, veterans\, justice involved individuals\, and people with disabilities. \nRegister Here
URL:https://goldensierra.com/event/virtual-orientation-3/2025-06-04
LOCATION:CA
CATEGORIES:Job Seeker,Orientation
END:VEVENT
BEGIN:VEVENT
DTSTART;TZID=America/Los_Angeles:20250604T110000
DTEND;TZID=America/Los_Angeles:20250604T150000
DTSTAMP:20260420T182836
CREATED:20250327T214120Z
LAST-MODIFIED:20250327T214120Z
UID:10003734-1749034800-1749049200@goldensierra.com
SUMMARY:Community Career Fair
DESCRIPTION:The 25th annual Diversity Employment Day Career Fair attracts top employers from across the region. You’re invited to pre-register to avoid the lines. This is a free event\, open to the public. Business attire and resumes are required for admission. \nRegister Here
URL:https://goldensierra.com/event/community-career-fair
LOCATION:The Officers Club\, 3410 Westover Street\, Sacramento\, CA\, 95652\, United States
CATEGORIES:Digest,Hiring Event,Job Seeker
GEO:38.6636571;-121.3842279
X-APPLE-STRUCTURED-LOCATION;VALUE=URI;X-ADDRESS=The Officers Club 3410 Westover Street Sacramento CA 95652 United States;X-APPLE-RADIUS=500;X-TITLE=3410 Westover Street:geo:-121.3842279,38.6636571
END:VEVENT
END:VCALENDAR