BEGIN:VCALENDAR
VERSION:2.0
PRODID:-//Golden Sierra Job Training Agency - ECPv6.15.20//NONSGML v1.0//EN
CALSCALE:GREGORIAN
METHOD:PUBLISH
X-WR-CALNAME:Golden Sierra Job Training Agency
X-ORIGINAL-URL:https://goldensierra.com
X-WR-CALDESC:Events for Golden Sierra Job Training Agency
REFRESH-INTERVAL;VALUE=DURATION:PT1H
X-Robots-Tag:noindex
X-PUBLISHED-TTL:PT1H
BEGIN:VTIMEZONE
TZID:America/Los_Angeles
BEGIN:DAYLIGHT
TZOFFSETFROM:-0800
TZOFFSETTO:-0700
TZNAME:PDT
DTSTART:20240310T100000
END:DAYLIGHT
BEGIN:STANDARD
TZOFFSETFROM:-0700
TZOFFSETTO:-0800
TZNAME:PST
DTSTART:20241103T090000
END:STANDARD
BEGIN:DAYLIGHT
TZOFFSETFROM:-0800
TZOFFSETTO:-0700
TZNAME:PDT
DTSTART:20250309T100000
END:DAYLIGHT
BEGIN:STANDARD
TZOFFSETFROM:-0700
TZOFFSETTO:-0800
TZNAME:PST
DTSTART:20251102T090000
END:STANDARD
BEGIN:DAYLIGHT
TZOFFSETFROM:-0800
TZOFFSETTO:-0700
TZNAME:PDT
DTSTART:20260308T100000
END:DAYLIGHT
BEGIN:STANDARD
TZOFFSETFROM:-0700
TZOFFSETTO:-0800
TZNAME:PST
DTSTART:20261101T090000
END:STANDARD
END:VTIMEZONE
BEGIN:VEVENT
DTSTART;TZID=America/Los_Angeles:20250513T100000
DTEND;TZID=America/Los_Angeles:20250513T120000
DTSTAMP:20260420T182843
CREATED:20250507T153533Z
LAST-MODIFIED:20250507T153556Z
UID:10003752-1747130400-1747137600@goldensierra.com
SUMMARY:Job Talk: Building & Construction Trades
DESCRIPTION:Job Talk is a great way to get information about current job openings with local employers. This in-person event is hosted by Sacramento County Department of Human Assistance and will include a presentation from Sacramento-Sierra’s Building and Construction Trades Council and Community Integrated Work Program. The participating employers are often ready to hire. We suggest you arrive early\, dress for an interview\, and bring copies of your resume. For additional information\, please contact the host: DHA-AE00-VJT@SACCOUNTY.GOV / 916-875-3323.
URL:https://goldensierra.com/event/job-talk-building-construction-trades
LOCATION:Sacramento County Department of Human Assistance\, 2450 Florin Road\, Sacramento\, CA\, 95822\, United States
CATEGORIES:Digest,Job Seeker,Workshop
GEO:38.4950405;-121.4811389
X-APPLE-STRUCTURED-LOCATION;VALUE=URI;X-ADDRESS=Sacramento County Department of Human Assistance 2450 Florin Road Sacramento CA 95822 United States;X-APPLE-RADIUS=500;X-TITLE=2450 Florin Road:geo:-121.4811389,38.4950405
END:VEVENT
BEGIN:VEVENT
DTSTART;TZID=America/Los_Angeles:20250513T160000
DTEND;TZID=America/Los_Angeles:20250513T170000
DTSTAMP:20260420T182843
CREATED:20241010T165348Z
LAST-MODIFIED:20241011T155612Z
UID:10003502-1747152000-1747155600@goldensierra.com
SUMMARY:Metrix: Tip Tuesday
DESCRIPTION:Metrix’s eLearning portal is designed to improve your job prospects. Request your free account from Golden Sierra and begin taking online courses right away. If you need help navigating the portal or troubleshooting technical issues\, join the Tip Tuesday webinar for expert advice. \nJoin Now via Teams
URL:https://goldensierra.com/event/metrix-learning-tip-tuesday/2025-05-13
LOCATION:CA
CATEGORIES:Job Seeker,Workshop
END:VEVENT
BEGIN:VEVENT
DTSTART;TZID=America/Los_Angeles:20250513T200000
DTEND;TZID=America/Los_Angeles:20250513T210000
DTSTAMP:20260420T182843
CREATED:20250401T205444Z
LAST-MODIFIED:20250401T205444Z
UID:10003735-1747166400-1747170000@goldensierra.com
SUMMARY:CVS Health: Online Application Workshop
DESCRIPTION:Attend this virtual workshop to learn more about CVS Health\, how to search for jobs\, how to apply for open positions\, and tips for passing the Virtual Job Tryout. \nRegister Now
URL:https://goldensierra.com/event/cvs-health-online-application-workshop-8
LOCATION:CA
CATEGORIES:Digest,Job Seeker,Workshop
END:VEVENT
END:VCALENDAR