BEGIN:VCALENDAR
VERSION:2.0
PRODID:-//Golden Sierra Job Training Agency - ECPv6.15.20//NONSGML v1.0//EN
CALSCALE:GREGORIAN
METHOD:PUBLISH
X-ORIGINAL-URL:https://goldensierra.com
X-WR-CALDESC:Events for Golden Sierra Job Training Agency
REFRESH-INTERVAL;VALUE=DURATION:PT1H
X-Robots-Tag:noindex
X-PUBLISHED-TTL:PT1H
BEGIN:VTIMEZONE
TZID:America/Los_Angeles
BEGIN:DAYLIGHT
TZOFFSETFROM:-0800
TZOFFSETTO:-0700
TZNAME:PDT
DTSTART:20240310T100000
END:DAYLIGHT
BEGIN:STANDARD
TZOFFSETFROM:-0700
TZOFFSETTO:-0800
TZNAME:PST
DTSTART:20241103T090000
END:STANDARD
BEGIN:DAYLIGHT
TZOFFSETFROM:-0800
TZOFFSETTO:-0700
TZNAME:PDT
DTSTART:20250309T100000
END:DAYLIGHT
BEGIN:STANDARD
TZOFFSETFROM:-0700
TZOFFSETTO:-0800
TZNAME:PST
DTSTART:20251102T090000
END:STANDARD
BEGIN:DAYLIGHT
TZOFFSETFROM:-0800
TZOFFSETTO:-0700
TZNAME:PDT
DTSTART:20260308T100000
END:DAYLIGHT
BEGIN:STANDARD
TZOFFSETFROM:-0700
TZOFFSETTO:-0800
TZNAME:PST
DTSTART:20261101T090000
END:STANDARD
END:VTIMEZONE
BEGIN:VEVENT
DTSTART;TZID=America/Los_Angeles:20250506T080000
DTEND;TZID=America/Los_Angeles:20250508T170000
DTSTAMP:20260420T183014
CREATED:20250422T223753Z
LAST-MODIFIED:20250422T223753Z
UID:10003747-1746518400-1746723600@goldensierra.com
SUMMARY:Placer Veterans Stand Down
DESCRIPTION:A modern Stand Down is modeled after the Stand Down concept that was used during the Vietnam War. Exhausted combat troops were provided a safe environment to rest\, recover\, receive meals\, and enjoy some much-needed\, friendly camaraderie. Similarly\, this event will offer all veterans medical care\, dental care\, vision care\, food\, legal services\, housing assistance\, employment assistance\, pet care\, clothing\, hair cuts\, camaraderie\, and more – all in a safe environment. All services are provided free of charge to veterans and their families. \nEvent Flyer \nPre-Register Online \n916-251-9249
URL:https://goldensierra.com/event/placer-veterans-stand-down
LOCATION:@the Grounds\, 700 Event Center Drive\, Roseville\, CA\, 95678\, United States
CATEGORIES:Community Event,Digest,Job Seeker
GEO:38.7566024;-121.2929054
X-APPLE-STRUCTURED-LOCATION;VALUE=URI;X-ADDRESS=@the Grounds 700 Event Center Drive Roseville CA 95678 United States;X-APPLE-RADIUS=500;X-TITLE=700 Event Center Drive:geo:-121.2929054,38.7566024
END:VEVENT
BEGIN:VEVENT
DTSTART;TZID=America/Los_Angeles:20250506T103000
DTEND;TZID=America/Los_Angeles:20250506T113000
DTSTAMP:20260420T183014
CREATED:20250410T190751Z
LAST-MODIFIED:20250410T190751Z
UID:10003738-1746527400-1746531000@goldensierra.com
SUMMARY:Job Talk: Raley's & Volt
DESCRIPTION:Job Talk is a great way to get information about current job openings with local employers. This in-person event is hosted by Sacramento County Department of Human Assistance and will include a presentation from Raley’s and Volt Workforce Solutions. The participating employers are often ready to hire. We suggest you arrive early\, dress for an interview\, and bring copies of your resume. For additional information\, please contact the host: DHA-AE00-VJT@SACCOUNTY.GOV / 916-875-3323. \n2450 Florin Road\, Sacramento\, CA 95822
URL:https://goldensierra.com/event/job-talk-raleys-volt
LOCATION:CA
CATEGORIES:Digest,Job Seeker,Workshop
END:VEVENT
BEGIN:VEVENT
DTSTART;TZID=America/Los_Angeles:20250506T160000
DTEND;TZID=America/Los_Angeles:20250506T170000
DTSTAMP:20260420T183014
CREATED:20241010T165348Z
LAST-MODIFIED:20241011T155612Z
UID:10003501-1746547200-1746550800@goldensierra.com
SUMMARY:Metrix: Tip Tuesday
DESCRIPTION:Metrix’s eLearning portal is designed to improve your job prospects. Request your free account from Golden Sierra and begin taking online courses right away. If you need help navigating the portal or troubleshooting technical issues\, join the Tip Tuesday webinar for expert advice. \nJoin Now via Teams
URL:https://goldensierra.com/event/metrix-learning-tip-tuesday/2025-05-06
LOCATION:CA
CATEGORIES:Job Seeker,Workshop
END:VEVENT
END:VCALENDAR