BEGIN:VCALENDAR
VERSION:2.0
PRODID:-//Golden Sierra Job Training Agency - ECPv6.15.20//NONSGML v1.0//EN
CALSCALE:GREGORIAN
METHOD:PUBLISH
X-WR-CALNAME:Golden Sierra Job Training Agency
X-ORIGINAL-URL:https://goldensierra.com
X-WR-CALDESC:Events for Golden Sierra Job Training Agency
REFRESH-INTERVAL;VALUE=DURATION:PT1H
X-Robots-Tag:noindex
X-PUBLISHED-TTL:PT1H
BEGIN:VTIMEZONE
TZID:America/Los_Angeles
BEGIN:DAYLIGHT
TZOFFSETFROM:-0800
TZOFFSETTO:-0700
TZNAME:PDT
DTSTART:20240310T100000
END:DAYLIGHT
BEGIN:STANDARD
TZOFFSETFROM:-0700
TZOFFSETTO:-0800
TZNAME:PST
DTSTART:20241103T090000
END:STANDARD
BEGIN:DAYLIGHT
TZOFFSETFROM:-0800
TZOFFSETTO:-0700
TZNAME:PDT
DTSTART:20250309T100000
END:DAYLIGHT
BEGIN:STANDARD
TZOFFSETFROM:-0700
TZOFFSETTO:-0800
TZNAME:PST
DTSTART:20251102T090000
END:STANDARD
BEGIN:DAYLIGHT
TZOFFSETFROM:-0800
TZOFFSETTO:-0700
TZNAME:PDT
DTSTART:20260308T100000
END:DAYLIGHT
BEGIN:STANDARD
TZOFFSETFROM:-0700
TZOFFSETTO:-0800
TZNAME:PST
DTSTART:20261101T090000
END:STANDARD
END:VTIMEZONE
BEGIN:VEVENT
DTSTART;TZID=America/Los_Angeles:20250417T110000
DTEND;TZID=America/Los_Angeles:20250417T120000
DTSTAMP:20260420T195458
CREATED:20241010T170233Z
LAST-MODIFIED:20241115T002953Z
UID:10003535-1744887600-1744891200@goldensierra.com
SUMMARY:Metrix: Tip Thursday
DESCRIPTION:Metrix’s eLearning portal is designed to improve your job prospects. Request your free account from Golden Sierra and begin taking online courses right away. If you need help navigating the portal or troubleshooting technical issues\, join the Tip Thursday webinar for expert advice. \nJoin Now via Teams
URL:https://goldensierra.com/event/metrix-learning-tip-thursday/2025-04-17
LOCATION:CA
CATEGORIES:Job Seeker,Workshop
END:VEVENT
BEGIN:VEVENT
DTSTART;TZID=America/Los_Angeles:20250417T110000
DTEND;TZID=America/Los_Angeles:20250417T130000
DTSTAMP:20260420T195458
CREATED:20250227T190506Z
LAST-MODIFIED:20250324T223929Z
UID:10003722-1744887600-1744894800@goldensierra.com
SUMMARY:Community Job Fair
DESCRIPTION:Join us at the TGI Job Fair\, a unique hiring event for everyone\, especially those benefiting from The Gathering Inn’s services! This is a great chance to connect with top employers in our community. Featured employers include Granite Wellness Centers\, FedEx\, AppleOne\, Express Employment Professionals\, Nevada County\, and @the Grounds. \nRegister Here
URL:https://goldensierra.com/event/job-fair-2
LOCATION:Polish American Community Hall\, 327 Main Street\, Roseville\, CA\, 95678\, United States
CATEGORIES:Digest,Hiring Event,Job Seeker
GEO:38.7517431;-121.2895086
X-APPLE-STRUCTURED-LOCATION;VALUE=URI;X-ADDRESS=Polish American Community Hall 327 Main Street Roseville CA 95678 United States;X-APPLE-RADIUS=500;X-TITLE=327 Main Street:geo:-121.2895086,38.7517431
END:VEVENT
END:VCALENDAR