BEGIN:VCALENDAR
VERSION:2.0
PRODID:-//Golden Sierra Job Training Agency - ECPv6.15.20//NONSGML v1.0//EN
CALSCALE:GREGORIAN
METHOD:PUBLISH
X-WR-CALNAME:Golden Sierra Job Training Agency
X-ORIGINAL-URL:https://goldensierra.com
X-WR-CALDESC:Events for Golden Sierra Job Training Agency
REFRESH-INTERVAL;VALUE=DURATION:PT1H
X-Robots-Tag:noindex
X-PUBLISHED-TTL:PT1H
BEGIN:VTIMEZONE
TZID:America/Los_Angeles
BEGIN:DAYLIGHT
TZOFFSETFROM:-0800
TZOFFSETTO:-0700
TZNAME:PDT
DTSTART:20240310T100000
END:DAYLIGHT
BEGIN:STANDARD
TZOFFSETFROM:-0700
TZOFFSETTO:-0800
TZNAME:PST
DTSTART:20241103T090000
END:STANDARD
BEGIN:DAYLIGHT
TZOFFSETFROM:-0800
TZOFFSETTO:-0700
TZNAME:PDT
DTSTART:20250309T100000
END:DAYLIGHT
BEGIN:STANDARD
TZOFFSETFROM:-0700
TZOFFSETTO:-0800
TZNAME:PST
DTSTART:20251102T090000
END:STANDARD
BEGIN:DAYLIGHT
TZOFFSETFROM:-0800
TZOFFSETTO:-0700
TZNAME:PDT
DTSTART:20260308T100000
END:DAYLIGHT
BEGIN:STANDARD
TZOFFSETFROM:-0700
TZOFFSETTO:-0800
TZNAME:PST
DTSTART:20261101T090000
END:STANDARD
END:VTIMEZONE
BEGIN:VEVENT
DTSTART;TZID=America/Los_Angeles:20250407T090000
DTEND;TZID=America/Los_Angeles:20250407T113000
DTSTAMP:20260420T195447
CREATED:20250131T145020Z
LAST-MODIFIED:20250131T145020Z
UID:10003697-1744016400-1744025400@goldensierra.com
SUMMARY:Job One: Networking
DESCRIPTION:The experienced coaches at Job One provide a rotating schedule of virtual job search workshops at no-cost. They cover topics such as self-marketing\, using LinkedIn\, networking\, resumes\, cover letters\, and more. Their goal is to help you conduct an effective job search and increase your confidence. One-on-one sessions are available for resume critiques and mock interviews. \nJob One meets on Mondays via Zoom (Meeting ID: 910-283-386) \nMore Information
URL:https://goldensierra.com/event/job-one-networking-2
LOCATION:CA
CATEGORIES:Job Seeker,Workshop
END:VEVENT
BEGIN:VEVENT
DTSTART;TZID=America/Los_Angeles:20250407T100000
DTEND;TZID=America/Los_Angeles:20250407T110000
DTSTAMP:20260420T195447
CREATED:20250312T003221Z
LAST-MODIFIED:20250324T223354Z
UID:10003726-1744020000-1744023600@goldensierra.com
SUMMARY:Job Talk: City of Sacramento & PeachTree Health
DESCRIPTION:Job Talk is a great way to get information about current job openings with local employers. This in-person event is hosted by Sacramento County Department of Human Assistance and will include a presentation from City of Sacramento and PeachTree Health. The participating employers are often ready to hire. We suggest you arrive early\, dress for an interview\, and bring copies of your resume. For additional information\, please contact the host: DHA-AE00-VJT@SACCOUNTY.GOV / 916-875-3323. \n3960 Research Drive\, Sacramento\, CA 95838
URL:https://goldensierra.com/event/job-talk
LOCATION:CA
CATEGORIES:Digest,Job Seeker,Workshop
END:VEVENT
BEGIN:VEVENT
DTSTART;TZID=America/Los_Angeles:20250407T100000
DTEND;TZID=America/Los_Angeles:20250407T110000
DTSTAMP:20260420T195447
CREATED:20250320T203320Z
LAST-MODIFIED:20250324T223516Z
UID:10003731-1744020000-1744023600@goldensierra.com
SUMMARY:Job Talk: CA Department of Water Resources
DESCRIPTION:Job Talk is a great way to get information about current job openings with local employers. This in-person event is hosted by Sacramento County Department of Human Assistance and will include a presentation from California Department of Water Resources. The participating employers are often ready to hire. We suggest you arrive early\, dress for an interview\, and bring copies of your resume. For additional information\, please contact the host: DHA-AE00-VJT@SACCOUNTY.GOV / 916-875-3323. \n2450 Florin Road\, Sacramento\, CA 95822
URL:https://goldensierra.com/event/job-talk-ca-department-of-water-resources
LOCATION:CA
CATEGORIES:Digest,Job Seeker,Workshop
END:VEVENT
BEGIN:VEVENT
DTSTART;TZID=America/Los_Angeles:20250407T150000
DTEND;TZID=America/Los_Angeles:20250407T160000
DTSTAMP:20260420T195447
CREATED:20250311T155434Z
LAST-MODIFIED:20250324T223622Z
UID:10003723-1744038000-1744041600@goldensierra.com
SUMMARY:CVS Health: Online Application Workshop
DESCRIPTION:Attend this virtual workshop to learn more about CVS Health\, how to search for jobs\, how to apply for open positions\, and tips for passing the Virtual Job Tryout. \nRegister Now
URL:https://goldensierra.com/event/cvs-health-online-application-workshop-6
LOCATION:CA
CATEGORIES:Digest,Job Seeker,Workshop
END:VEVENT
END:VCALENDAR