BEGIN:VCALENDAR
VERSION:2.0
PRODID:-//Golden Sierra Job Training Agency - ECPv6.15.20//NONSGML v1.0//EN
CALSCALE:GREGORIAN
METHOD:PUBLISH
X-ORIGINAL-URL:https://goldensierra.com
X-WR-CALDESC:Events for Golden Sierra Job Training Agency
REFRESH-INTERVAL;VALUE=DURATION:PT1H
X-Robots-Tag:noindex
X-PUBLISHED-TTL:PT1H
BEGIN:VTIMEZONE
TZID:America/Los_Angeles
BEGIN:DAYLIGHT
TZOFFSETFROM:-0800
TZOFFSETTO:-0700
TZNAME:PDT
DTSTART:20240310T100000
END:DAYLIGHT
BEGIN:STANDARD
TZOFFSETFROM:-0700
TZOFFSETTO:-0800
TZNAME:PST
DTSTART:20241103T090000
END:STANDARD
BEGIN:DAYLIGHT
TZOFFSETFROM:-0800
TZOFFSETTO:-0700
TZNAME:PDT
DTSTART:20250309T100000
END:DAYLIGHT
BEGIN:STANDARD
TZOFFSETFROM:-0700
TZOFFSETTO:-0800
TZNAME:PST
DTSTART:20251102T090000
END:STANDARD
BEGIN:DAYLIGHT
TZOFFSETFROM:-0800
TZOFFSETTO:-0700
TZNAME:PDT
DTSTART:20260308T100000
END:DAYLIGHT
BEGIN:STANDARD
TZOFFSETFROM:-0700
TZOFFSETTO:-0800
TZNAME:PST
DTSTART:20261101T090000
END:STANDARD
END:VTIMEZONE
BEGIN:VEVENT
DTSTART;TZID=America/Los_Angeles:20250311T100000
DTEND;TZID=America/Los_Angeles:20250311T110000
DTSTAMP:20260420T230519
CREATED:20250121T181046Z
LAST-MODIFIED:20250124T170655Z
UID:10003678-1741687200-1741690800@goldensierra.com
SUMMARY:Interview Coaching
DESCRIPTION:Join us for Part 2 of our Career Development Workshop Series. You’ll learn how to respond to frequently asked questions\, highlight your strengths\, and leave a lasting impression on potential employers. You’ll receive customized feedback and pointers to help you perform your best and increase your self-confidence. \nPlease email intern@goldensierra.com to register. Include your contact information and indicate which workshop (title/date) you wish to attend. \nFlyer
URL:https://goldensierra.com/event/interview-workshop/2025-03-11
LOCATION:America’s Job Center of California – Roseville\, 115 Ascot Drive Ste. 100\, Roseville\, CA\, 95661\, United States
CATEGORIES:Job Seeker,Workshop
GEO:38.742436;-121.26857
X-APPLE-STRUCTURED-LOCATION;VALUE=URI;X-ADDRESS=America’s Job Center of California – Roseville 115 Ascot Drive Ste. 100 Roseville CA 95661 United States;X-APPLE-RADIUS=500;X-TITLE=115 Ascot Drive Ste. 100:geo:-121.26857,38.742436
END:VEVENT
BEGIN:VEVENT
DTSTART;TZID=America/Los_Angeles:20250311T160000
DTEND;TZID=America/Los_Angeles:20250311T170000
DTSTAMP:20260420T230519
CREATED:20241010T165348Z
LAST-MODIFIED:20241011T155612Z
UID:10003493-1741708800-1741712400@goldensierra.com
SUMMARY:Metrix: Tip Tuesday
DESCRIPTION:Metrix’s eLearning portal is designed to improve your job prospects. Request your free account from Golden Sierra and begin taking online courses right away. If you need help navigating the portal or troubleshooting technical issues\, join the Tip Tuesday webinar for expert advice. \nJoin Now via Teams
URL:https://goldensierra.com/event/metrix-learning-tip-tuesday/2025-03-11
LOCATION:CA
CATEGORIES:Job Seeker,Workshop
END:VEVENT
END:VCALENDAR