BEGIN:VCALENDAR
VERSION:2.0
PRODID:-//Golden Sierra Job Training Agency - ECPv6.15.20//NONSGML v1.0//EN
CALSCALE:GREGORIAN
METHOD:PUBLISH
X-ORIGINAL-URL:https://goldensierra.com
X-WR-CALDESC:Events for Golden Sierra Job Training Agency
REFRESH-INTERVAL;VALUE=DURATION:PT1H
X-Robots-Tag:noindex
X-PUBLISHED-TTL:PT1H
BEGIN:VTIMEZONE
TZID:America/Los_Angeles
BEGIN:DAYLIGHT
TZOFFSETFROM:-0800
TZOFFSETTO:-0700
TZNAME:PDT
DTSTART:20240310T100000
END:DAYLIGHT
BEGIN:STANDARD
TZOFFSETFROM:-0700
TZOFFSETTO:-0800
TZNAME:PST
DTSTART:20241103T090000
END:STANDARD
BEGIN:DAYLIGHT
TZOFFSETFROM:-0800
TZOFFSETTO:-0700
TZNAME:PDT
DTSTART:20250309T100000
END:DAYLIGHT
BEGIN:STANDARD
TZOFFSETFROM:-0700
TZOFFSETTO:-0800
TZNAME:PST
DTSTART:20251102T090000
END:STANDARD
BEGIN:DAYLIGHT
TZOFFSETFROM:-0800
TZOFFSETTO:-0700
TZNAME:PDT
DTSTART:20260308T100000
END:DAYLIGHT
BEGIN:STANDARD
TZOFFSETFROM:-0700
TZOFFSETTO:-0800
TZNAME:PST
DTSTART:20261101T090000
END:STANDARD
END:VTIMEZONE
BEGIN:VEVENT
DTSTART;TZID=America/Los_Angeles:20250227T110000
DTEND;TZID=America/Los_Angeles:20250227T120000
DTSTAMP:20260421T040238
CREATED:20241010T170233Z
LAST-MODIFIED:20241115T002953Z
UID:10003528-1740654000-1740657600@goldensierra.com
SUMMARY:Metrix: Tip Thursday
DESCRIPTION:Metrix’s eLearning portal is designed to improve your job prospects. Request your free account from Golden Sierra and begin taking online courses right away. If you need help navigating the portal or troubleshooting technical issues\, join the Tip Thursday webinar for expert advice. \nJoin Now via Teams
URL:https://goldensierra.com/event/metrix-learning-tip-thursday/2025-02-27
LOCATION:CA
CATEGORIES:Job Seeker,Workshop
END:VEVENT
BEGIN:VEVENT
DTSTART;TZID=America/Los_Angeles:20250227T110000
DTEND;TZID=America/Los_Angeles:20250227T120000
DTSTAMP:20260421T040238
CREATED:20250204T205614Z
LAST-MODIFIED:20250204T205614Z
UID:10003705-1740654000-1740657600@goldensierra.com
SUMMARY:CVS Health: Online Application Workshop
DESCRIPTION:Attend this virtual workshop to learn more about CVS Health\, how to search for jobs\, how to apply for open positions\, and tips for passing the Virtual Job Tryout. \nRegister Now
URL:https://goldensierra.com/event/cvs-health-online-application-workshop-3
LOCATION:CA
CATEGORIES:Job Seeker,Workshop
END:VEVENT
BEGIN:VEVENT
DTSTART;TZID=America/Los_Angeles:20250227T110000
DTEND;TZID=America/Los_Angeles:20250227T150000
DTSTAMP:20260421T040238
CREATED:20250220T195346Z
LAST-MODIFIED:20250220T195346Z
UID:10003664-1740654000-1740668400@goldensierra.com
SUMMARY:SacJobs Career Fair
DESCRIPTION:Looking for a new career opportunity? SacJobs is hosting a free event at the Lions Gate Hotel in McClellan Park. Meet directly with hiring managers from a variety of public and private organizations. Check out the host’s website for instructions on how to register. \nSacJobs 2025 Career Fair Flyer \nVideo \nConfirmed employers include: \n\nSMUD\nPoint Quest\nCaltrans\nSacramento Regional Transit District\nCAL Fire\nCity of Richmond Police Department\nAtlas Disposal\nSacramento County Office of Education\nEl Dorado County Office of Education\nCA Department of Industrial Relations\nSac County\nEnriching Lives\nJohn Stewart Company\nCombined\, A Chubb Company\nAlameda County Sheriff’s Office\nStockton Police Department\nEdges Electrical Group\nCA Dept. of Finance\nCalifornia Public Utilities Commission\nAlta Cal Regional Center\nRichmond Police Dept\nPlacer Superior Court\nSan Francisco Police Department\nSacramento County Probation Department\nHighlands Community Charter & Technical Schools\nFolsom Cordova Unified School District\nPlacer County\nALS Association\nFEMA\nUS Army
URL:https://goldensierra.com/event/sacjobs-career-fair-2
LOCATION:CA
CATEGORIES:Hiring Event,Job Seeker
END:VEVENT
END:VCALENDAR