BEGIN:VCALENDAR
VERSION:2.0
PRODID:-//Golden Sierra Job Training Agency - ECPv6.15.20//NONSGML v1.0//EN
CALSCALE:GREGORIAN
METHOD:PUBLISH
X-ORIGINAL-URL:https://goldensierra.com
X-WR-CALDESC:Events for Golden Sierra Job Training Agency
REFRESH-INTERVAL;VALUE=DURATION:PT1H
X-Robots-Tag:noindex
X-PUBLISHED-TTL:PT1H
BEGIN:VTIMEZONE
TZID:America/Los_Angeles
BEGIN:DAYLIGHT
TZOFFSETFROM:-0800
TZOFFSETTO:-0700
TZNAME:PDT
DTSTART:20250309T100000
END:DAYLIGHT
BEGIN:STANDARD
TZOFFSETFROM:-0700
TZOFFSETTO:-0800
TZNAME:PST
DTSTART:20251102T090000
END:STANDARD
BEGIN:DAYLIGHT
TZOFFSETFROM:-0800
TZOFFSETTO:-0700
TZNAME:PDT
DTSTART:20260308T100000
END:DAYLIGHT
BEGIN:STANDARD
TZOFFSETFROM:-0700
TZOFFSETTO:-0800
TZNAME:PST
DTSTART:20261101T090000
END:STANDARD
BEGIN:DAYLIGHT
TZOFFSETFROM:-0800
TZOFFSETTO:-0700
TZNAME:PDT
DTSTART:20270314T100000
END:DAYLIGHT
BEGIN:STANDARD
TZOFFSETFROM:-0700
TZOFFSETTO:-0800
TZNAME:PST
DTSTART:20271107T090000
END:STANDARD
END:VTIMEZONE
BEGIN:VEVENT
DTSTART;TZID=America/Los_Angeles:20260407T100000
DTEND;TZID=America/Los_Angeles:20260407T160000
DTSTAMP:20260421T135324
CREATED:20260312T212908Z
LAST-MODIFIED:20260312T212908Z
UID:10004698-1775556000-1775577600@goldensierra.com
SUMMARY:Child and Family Resource Fair
DESCRIPTION:Come to the 2026 Child and Family Resource Fair presented by Child Abuse Prevention Council of Placer County. \nFree Dental exams\, Free Giveaways\, and Free Snacks and Drinks \n  \nQuestions:  Contact Shanita Jones at sjones@placercapc.org or 916-774-6802 ext 3010 \nFamily Resource Fair 2026 Flyer (English)
URL:https://goldensierra.com/event/child-and-family-resource-fair-2
LOCATION:Westfield Galleria at Roseville\, 1151 Galleria Blvd.\, Roseville\, CA\, 95678\, United States
CATEGORIES:Community Event,Job Seeker
GEO:38.7734303;-121.269432
X-APPLE-STRUCTURED-LOCATION;VALUE=URI;X-ADDRESS=Westfield Galleria at Roseville 1151 Galleria Blvd. Roseville CA 95678 United States;X-APPLE-RADIUS=500;X-TITLE=1151 Galleria Blvd.:geo:-121.269432,38.7734303
END:VEVENT
END:VCALENDAR