BEGIN:VCALENDAR
VERSION:2.0
PRODID:-//Golden Sierra Job Training Agency - ECPv6.15.20//NONSGML v1.0//EN
CALSCALE:GREGORIAN
METHOD:PUBLISH
X-ORIGINAL-URL:https://goldensierra.com
X-WR-CALDESC:Events for Golden Sierra Job Training Agency
REFRESH-INTERVAL;VALUE=DURATION:PT1H
X-Robots-Tag:noindex
X-PUBLISHED-TTL:PT1H
BEGIN:VTIMEZONE
TZID:America/Los_Angeles
BEGIN:DAYLIGHT
TZOFFSETFROM:-0800
TZOFFSETTO:-0700
TZNAME:PDT
DTSTART:20240310T100000
END:DAYLIGHT
BEGIN:STANDARD
TZOFFSETFROM:-0700
TZOFFSETTO:-0800
TZNAME:PST
DTSTART:20241103T090000
END:STANDARD
BEGIN:DAYLIGHT
TZOFFSETFROM:-0800
TZOFFSETTO:-0700
TZNAME:PDT
DTSTART:20250309T100000
END:DAYLIGHT
BEGIN:STANDARD
TZOFFSETFROM:-0700
TZOFFSETTO:-0800
TZNAME:PST
DTSTART:20251102T090000
END:STANDARD
BEGIN:DAYLIGHT
TZOFFSETFROM:-0800
TZOFFSETTO:-0700
TZNAME:PDT
DTSTART:20260308T100000
END:DAYLIGHT
BEGIN:STANDARD
TZOFFSETFROM:-0700
TZOFFSETTO:-0800
TZNAME:PST
DTSTART:20261101T090000
END:STANDARD
END:VTIMEZONE
BEGIN:VEVENT
DTSTART;TZID=America/Los_Angeles:20251028T090000
DTEND;TZID=America/Los_Angeles:20251028T120000
DTSTAMP:20260422T131328
CREATED:20251016T165124Z
LAST-MODIFIED:20251016T165124Z
UID:10004492-1761642000-1761652800@goldensierra.com
SUMMARY:SETA: JobLINK Fall Career Fair
DESCRIPTION:Join SETA and the Sacramento County Department of Human Assistance Employment Services for their Fall Career Fair! This is your opportunity to meet with employers from Sacramento County\, learn about career opportunities\, and find out how to apply. \n**Bonus Workshops** \n\nMock Interview\nResume Critique\n“30 Second Me” (Drop-In)\nHow to Get a State Job (Presented by Department of Industrial Relations)\nThe Pathway to County Services (Presented by Sacramento County)\n\nFor additional information\, contact EmployerServices@seta.net. \nRegister Here! \nSAC COUNTY_102825_Flyer \n  \n 
URL:https://goldensierra.com/event/seta-joblink-fall-career-fair
LOCATION:Lemon Hill Job Center\, 5451 Lemon Hill Ave\, Sacramento\, 95824\, United States
CATEGORIES:Community Event,Digest,Hiring Event,Job Seeker
GEO:38.5161;-121.4407358
X-APPLE-STRUCTURED-LOCATION;VALUE=URI;X-ADDRESS=Lemon Hill Job Center 5451 Lemon Hill Ave Sacramento 95824 United States;X-APPLE-RADIUS=500;X-TITLE=5451 Lemon Hill Ave:geo:-121.4407358,38.5161
END:VEVENT
END:VCALENDAR