BEGIN:VCALENDAR
VERSION:2.0
PRODID:-//Golden Sierra Job Training Agency - ECPv6.15.20//NONSGML v1.0//EN
CALSCALE:GREGORIAN
METHOD:PUBLISH
X-WR-CALNAME:Golden Sierra Job Training Agency
X-ORIGINAL-URL:https://goldensierra.com
X-WR-CALDESC:Events for Golden Sierra Job Training Agency
REFRESH-INTERVAL;VALUE=DURATION:PT1H
X-Robots-Tag:noindex
X-PUBLISHED-TTL:PT1H
BEGIN:VTIMEZONE
TZID:America/Los_Angeles
BEGIN:DAYLIGHT
TZOFFSETFROM:-0800
TZOFFSETTO:-0700
TZNAME:PDT
DTSTART:20230312T100000
END:DAYLIGHT
BEGIN:STANDARD
TZOFFSETFROM:-0700
TZOFFSETTO:-0800
TZNAME:PST
DTSTART:20231105T090000
END:STANDARD
BEGIN:DAYLIGHT
TZOFFSETFROM:-0800
TZOFFSETTO:-0700
TZNAME:PDT
DTSTART:20240310T100000
END:DAYLIGHT
BEGIN:STANDARD
TZOFFSETFROM:-0700
TZOFFSETTO:-0800
TZNAME:PST
DTSTART:20241103T090000
END:STANDARD
BEGIN:DAYLIGHT
TZOFFSETFROM:-0800
TZOFFSETTO:-0700
TZNAME:PDT
DTSTART:20250309T100000
END:DAYLIGHT
BEGIN:STANDARD
TZOFFSETFROM:-0700
TZOFFSETTO:-0800
TZNAME:PST
DTSTART:20251102T090000
END:STANDARD
END:VTIMEZONE
BEGIN:VEVENT
DTSTART;TZID=America/Los_Angeles:20241028T110000
DTEND;TZID=America/Los_Angeles:20241028T130000
DTSTAMP:20260424T002923
CREATED:20241010T220903Z
LAST-MODIFIED:20241010T220903Z
UID:10003571-1730113200-1730120400@goldensierra.com
SUMMARY:Recruiting Office Open House
DESCRIPTION:The U.S. Coast Guard invites community members to attend the grand opening celebration of the local recruiting office in Roseville. \n\nCareer Q&A\nGiveaways\nPhoto Ops\nRibbon Cutting Ceremony\nMeet & Greet\nLight Refreshments\n\nRSVP: Roaa.smf1@gmail.com / 301-526-7203
URL:https://goldensierra.com/event/recruiting-office-open-house
LOCATION:U.S. Coast Guard Recruiting Office\, Pleasant Grove Boulevard\, Roseville\, CA\, 95678\, United States
CATEGORIES:Community Event,Job Seeker
GEO:38.7794559;-121.2889537
X-APPLE-STRUCTURED-LOCATION;VALUE=URI;X-ADDRESS=U.S. Coast Guard Recruiting Office Pleasant Grove Boulevard Roseville CA 95678 United States;X-APPLE-RADIUS=500;X-TITLE=Pleasant Grove Boulevard:geo:-121.2889537,38.7794559
END:VEVENT
END:VCALENDAR