BEGIN:VCALENDAR
VERSION:2.0
PRODID:-//Golden Sierra Job Training Agency - ECPv6.15.20//NONSGML v1.0//EN
CALSCALE:GREGORIAN
METHOD:PUBLISH
X-ORIGINAL-URL:https://goldensierra.com
X-WR-CALDESC:Events for Golden Sierra Job Training Agency
REFRESH-INTERVAL;VALUE=DURATION:PT1H
X-Robots-Tag:noindex
X-PUBLISHED-TTL:PT1H
BEGIN:VTIMEZONE
TZID:America/Los_Angeles
BEGIN:DAYLIGHT
TZOFFSETFROM:-0800
TZOFFSETTO:-0700
TZNAME:PDT
DTSTART:20230312T100000
END:DAYLIGHT
BEGIN:STANDARD
TZOFFSETFROM:-0700
TZOFFSETTO:-0800
TZNAME:PST
DTSTART:20231105T090000
END:STANDARD
BEGIN:DAYLIGHT
TZOFFSETFROM:-0800
TZOFFSETTO:-0700
TZNAME:PDT
DTSTART:20240310T100000
END:DAYLIGHT
BEGIN:STANDARD
TZOFFSETFROM:-0700
TZOFFSETTO:-0800
TZNAME:PST
DTSTART:20241103T090000
END:STANDARD
BEGIN:DAYLIGHT
TZOFFSETFROM:-0800
TZOFFSETTO:-0700
TZNAME:PDT
DTSTART:20250309T100000
END:DAYLIGHT
BEGIN:STANDARD
TZOFFSETFROM:-0700
TZOFFSETTO:-0800
TZNAME:PST
DTSTART:20251102T090000
END:STANDARD
END:VTIMEZONE
BEGIN:VEVENT
DTSTART;TZID=America/Los_Angeles:20241022T120000
DTEND;TZID=America/Los_Angeles:20241022T130000
DTSTAMP:20260424T045839
CREATED:20241010T181422Z
LAST-MODIFIED:20241010T181422Z
UID:10003559-1729598400-1729602000@goldensierra.com
SUMMARY:NPower Open House
DESCRIPTION:You’re invited to attend the NPower California Virtual Open House! \nAbout: At NPower\, we believe in unlocking potential and creating pathways to success for veterans\, military spouses\, and young adults from underserved communities. Since 2015\, we have empowered over 1\,000 students in California through tuition-free\, cutting-edge technology training. Now\, we are inviting you to join us as we continue to drive positive change. \nWhat to Expect: During this interactive event\, you will learn how NPower’s comprehensive training model equips our graduates to launch fulfilling careers in the tech industry. We will also explore our placement pathways – including direct hires\, internships\, and both our national Department of Labor and California DAS registered apprenticeship programs – that set our students up for long-term success. After the general session introducing NPower\, we will dive deeper into localized breakout rooms covering specific programs in Los Angeles\, the Bay Area\, and Sacramento. \nRegister Here
URL:https://goldensierra.com/event/npower-open-house
CATEGORIES:Community Event,Job Seeker
END:VEVENT
END:VCALENDAR