BEGIN:VCALENDAR
VERSION:2.0
PRODID:-//Golden Sierra Job Training Agency - ECPv6.15.20//NONSGML v1.0//EN
CALSCALE:GREGORIAN
METHOD:PUBLISH
X-WR-CALNAME:Golden Sierra Job Training Agency
X-ORIGINAL-URL:https://goldensierra.com
X-WR-CALDESC:Events for Golden Sierra Job Training Agency
REFRESH-INTERVAL;VALUE=DURATION:PT1H
X-Robots-Tag:noindex
X-PUBLISHED-TTL:PT1H
BEGIN:VTIMEZONE
TZID:America/Los_Angeles
BEGIN:DAYLIGHT
TZOFFSETFROM:-0800
TZOFFSETTO:-0700
TZNAME:PDT
DTSTART:20240310T100000
END:DAYLIGHT
BEGIN:STANDARD
TZOFFSETFROM:-0700
TZOFFSETTO:-0800
TZNAME:PST
DTSTART:20241103T090000
END:STANDARD
BEGIN:DAYLIGHT
TZOFFSETFROM:-0800
TZOFFSETTO:-0700
TZNAME:PDT
DTSTART:20250309T100000
END:DAYLIGHT
BEGIN:STANDARD
TZOFFSETFROM:-0700
TZOFFSETTO:-0800
TZNAME:PST
DTSTART:20251102T090000
END:STANDARD
BEGIN:DAYLIGHT
TZOFFSETFROM:-0800
TZOFFSETTO:-0700
TZNAME:PDT
DTSTART:20260308T100000
END:DAYLIGHT
BEGIN:STANDARD
TZOFFSETFROM:-0700
TZOFFSETTO:-0800
TZNAME:PST
DTSTART:20261101T090000
END:STANDARD
END:VTIMEZONE
BEGIN:VEVENT
DTSTART;TZID=America/Los_Angeles:20250917T000000
DTEND;TZID=America/Los_Angeles:20250917T235959
DTSTAMP:20260422T174430
CREATED:20250909T194551Z
LAST-MODIFIED:20250909T194908Z
UID:10004197-1758067200-1758153599@goldensierra.com
SUMMARY:SETA: Job & Resource Fair
DESCRIPTION:Join SETA for their Job & Resource Fair! This is your opportunity to meet local employers\, discover training programs\, and access valuable community services. \nDon’t miss out on this chance to connect\, grow\, and explore what’s next. \nFall Job & Resource Fair 09172025 \n  \n 
URL:https://goldensierra.com/event/seta-job-resource-fair
LOCATION:Lemon Hill Job Center\, 5451 Lemon Hill Ave\, Sacramento\, 95824\, United States
CATEGORIES:Community Event,Digest,Hiring Event,Job Seeker
GEO:38.5161;-121.4407358
X-APPLE-STRUCTURED-LOCATION;VALUE=URI;X-ADDRESS=Lemon Hill Job Center 5451 Lemon Hill Ave Sacramento 95824 United States;X-APPLE-RADIUS=500;X-TITLE=5451 Lemon Hill Ave:geo:-121.4407358,38.5161
END:VEVENT
BEGIN:VEVENT
DTSTART;TZID=America/Los_Angeles:20250924T113000
DTEND;TZID=America/Los_Angeles:20250924T133000
DTSTAMP:20260422T174430
CREATED:20250826T180523Z
LAST-MODIFIED:20250826T181005Z
UID:10004190-1758713400-1758720600@goldensierra.com
SUMMARY:Building and Construction Career Exploration Expo
DESCRIPTION:Link: Building & Construction Career Exploration Expo Fall 2025 \nWednesday\, September 24th | 11:30 AM – 1:30 PM\nSierra College Cafeteria (J Building)\n5100 Sierra College Blvd\, Rocklin\, CA 95677 \nPlease join McCarthy Building Companies\, Inc.\, and Sierra College for the Building & Construction Career Exploration Expo! \nThis event will give Sierra students and the local community the opportunity to learn about career pathways in the construction industry. You will find connections with various industry vendors who are interested in hiring and training. Students will have an immersive experience with opportunities to network with trade partners\, trade unions\, workforce development organizations\, and local pre-apprenticeship training programs. See what sparks your interest\, all are welcome! \nQuestions/Concerns: Nancy Macias (916-660-7816) nmaciasosorio@sierracollege.edu \n2025 Building and Construction Career Expo Flyer
URL:https://goldensierra.com/event/building-and-construction-career-exploration-expo-2
LOCATION:Sierra College\, 5100 Sierra College Blvd.\, Rocklin\, CA\, 95677\, United States
CATEGORIES:Community Event,Hiring Event,Job Seeker
GEO:38.7914688;-121.2117693
X-APPLE-STRUCTURED-LOCATION;VALUE=URI;X-ADDRESS=Sierra College 5100 Sierra College Blvd. Rocklin CA 95677 United States;X-APPLE-RADIUS=500;X-TITLE=5100 Sierra College Blvd.:geo:-121.2117693,38.7914688
END:VEVENT
BEGIN:VEVENT
DTSTART;TZID=America/Los_Angeles:20250925T170000
DTEND;TZID=America/Los_Angeles:20250925T190000
DTSTAMP:20260422T174430
CREATED:20250909T214041Z
LAST-MODIFIED:20250909T214041Z
UID:10004198-1758819600-1758826800@goldensierra.com
SUMMARY:SVMA Advanced Manufacturing Career Forum
DESCRIPTION:Join the Sacramento Valley Manufacturers (SVMA) at Sierra College for an exciting event focused on exploring career opportunities in the advanced manufacturing industry. Whether you’re a student looking to kickstart your career or a professional seeking new challenges\, this forum is the perfect place to connect with industry experts and learn about the latest trends in manufacturing. \nRegister Here! \nSVMA 09252025 flyer
URL:https://goldensierra.com/event/svma-advanced-manufacturing-career-forum
LOCATION:Sierra College\, 5100 Sierra College Blvd.\, Rocklin\, CA\, 95677\, United States
CATEGORIES:Community Event,Digest,Job Seeker
GEO:38.7914688;-121.2117693
X-APPLE-STRUCTURED-LOCATION;VALUE=URI;X-ADDRESS=Sierra College 5100 Sierra College Blvd. Rocklin CA 95677 United States;X-APPLE-RADIUS=500;X-TITLE=5100 Sierra College Blvd.:geo:-121.2117693,38.7914688
END:VEVENT
END:VCALENDAR