BEGIN:VCALENDAR
VERSION:2.0
PRODID:-//Golden Sierra Job Training Agency - ECPv6.15.20//NONSGML v1.0//EN
CALSCALE:GREGORIAN
METHOD:PUBLISH
X-ORIGINAL-URL:https://goldensierra.com
X-WR-CALDESC:Events for Golden Sierra Job Training Agency
REFRESH-INTERVAL;VALUE=DURATION:PT1H
X-Robots-Tag:noindex
X-PUBLISHED-TTL:PT1H
BEGIN:VTIMEZONE
TZID:America/Los_Angeles
BEGIN:DAYLIGHT
TZOFFSETFROM:-0800
TZOFFSETTO:-0700
TZNAME:PDT
DTSTART:20240310T100000
END:DAYLIGHT
BEGIN:STANDARD
TZOFFSETFROM:-0700
TZOFFSETTO:-0800
TZNAME:PST
DTSTART:20241103T090000
END:STANDARD
BEGIN:DAYLIGHT
TZOFFSETFROM:-0800
TZOFFSETTO:-0700
TZNAME:PDT
DTSTART:20250309T100000
END:DAYLIGHT
BEGIN:STANDARD
TZOFFSETFROM:-0700
TZOFFSETTO:-0800
TZNAME:PST
DTSTART:20251102T090000
END:STANDARD
BEGIN:DAYLIGHT
TZOFFSETFROM:-0800
TZOFFSETTO:-0700
TZNAME:PDT
DTSTART:20260308T100000
END:DAYLIGHT
BEGIN:STANDARD
TZOFFSETFROM:-0700
TZOFFSETTO:-0800
TZNAME:PST
DTSTART:20261101T090000
END:STANDARD
END:VTIMEZONE
BEGIN:VEVENT
DTSTART;TZID=America/Los_Angeles:20250603T080000
DTEND;TZID=America/Los_Angeles:20250603T130000
DTSTAMP:20260423T013704
CREATED:20250509T155042Z
LAST-MODIFIED:20250509T155042Z
UID:10003754-1748937600-1748955600@goldensierra.com
SUMMARY:Sierra Workforce Summit
DESCRIPTION:We’re proud to support the 2025 Sierra Workforce Summit on June 3 at Sierra College’s Rocklin Campus. This half-day event will bring together regional leaders\, educators\, and industry partners to explore key workforce trends\, share success stories\, and discuss collaborative solutions. Spots are filling fast—reserve yours now. \nMore Information
URL:https://goldensierra.com/event/sierra-workforce-summit
LOCATION:Sierra College\, 5100 Sierra College Blvd.\, Rocklin\, CA\, 95677\, United States
CATEGORIES:Community Event,Digest,Employer,Job Seeker
GEO:38.7914688;-121.2117693
X-APPLE-STRUCTURED-LOCATION;VALUE=URI;X-ADDRESS=Sierra College 5100 Sierra College Blvd. Rocklin CA 95677 United States;X-APPLE-RADIUS=500;X-TITLE=5100 Sierra College Blvd.:geo:-121.2117693,38.7914688
END:VEVENT
END:VCALENDAR