BEGIN:VCALENDAR
VERSION:2.0
PRODID:-//Golden Sierra Job Training Agency - ECPv6.15.20//NONSGML v1.0//EN
CALSCALE:GREGORIAN
METHOD:PUBLISH
X-ORIGINAL-URL:https://goldensierra.com
X-WR-CALDESC:Events for Golden Sierra Job Training Agency
REFRESH-INTERVAL;VALUE=DURATION:PT1H
X-Robots-Tag:noindex
X-PUBLISHED-TTL:PT1H
BEGIN:VTIMEZONE
TZID:America/Los_Angeles
BEGIN:DAYLIGHT
TZOFFSETFROM:-0800
TZOFFSETTO:-0700
TZNAME:PDT
DTSTART:20230312T100000
END:DAYLIGHT
BEGIN:STANDARD
TZOFFSETFROM:-0700
TZOFFSETTO:-0800
TZNAME:PST
DTSTART:20231105T090000
END:STANDARD
BEGIN:DAYLIGHT
TZOFFSETFROM:-0800
TZOFFSETTO:-0700
TZNAME:PDT
DTSTART:20240310T100000
END:DAYLIGHT
BEGIN:STANDARD
TZOFFSETFROM:-0700
TZOFFSETTO:-0800
TZNAME:PST
DTSTART:20241103T090000
END:STANDARD
BEGIN:DAYLIGHT
TZOFFSETFROM:-0800
TZOFFSETTO:-0700
TZNAME:PDT
DTSTART:20250309T100000
END:DAYLIGHT
BEGIN:STANDARD
TZOFFSETFROM:-0700
TZOFFSETTO:-0800
TZNAME:PST
DTSTART:20251102T090000
END:STANDARD
END:VTIMEZONE
BEGIN:VEVENT
DTSTART;TZID=America/Los_Angeles:20241106T090000
DTEND;TZID=America/Los_Angeles:20241106T153000
DTSTAMP:20260423T231053
CREATED:20241011T154845Z
LAST-MODIFIED:20241011T155156Z
UID:10003573-1730883600-1730907000@goldensierra.com
SUMMARY:CalPERS In-Person Open House
DESCRIPTION:There’s a place for you at CalPERS.  Are you looking for a state service career that offers purpose-driven work? Across two days\, we’re sharing tips and strategies to connect you with a CalPERS career. As the nation’s largest pension fund\, we’re a global leader in retirement and health benefits and want you to join the team. Secure your spot today! \nIn-Person Open House \n• Gain actionable insights on how to navigate the hiring process.\n• Connect face-to-face with those that know CalPERS best.\n• Discover what makes CalPERS a destination employer including retirement options\, culture\, and career development opportunities.\n• Get your questions answered directly from the experts. \nRegister Here \nQuestions? Email HRSD_Career_Services@CalPERS.ca.gov \nCalPERS Career Center Event Flyer
URL:https://goldensierra.com/event/calpers-in-person-open-house
LOCATION:CalPERS\, Q Street\, Sacramento\, CA\, 95811\, United States
CATEGORIES:Community Event,Job Seeker
GEO:38.5745341;-121.505682
X-APPLE-STRUCTURED-LOCATION;VALUE=URI;X-ADDRESS=CalPERS Q Street Sacramento CA 95811 United States;X-APPLE-RADIUS=500;X-TITLE=Q Street:geo:-121.505682,38.5745341
END:VEVENT
BEGIN:VEVENT
DTSTART;TZID=America/Los_Angeles:20241107T100000
DTEND;TZID=America/Los_Angeles:20241107T130000
DTSTAMP:20260423T231053
CREATED:20241016T195813Z
LAST-MODIFIED:20241101T221626Z
UID:10003625-1730973600-1730984400@goldensierra.com
SUMMARY:Veterans Job & Resources Fair
DESCRIPTION:Veterans Job & Resources Fair  Presented by: EDD and SETA \nEveryone is Welcome!  For more information: WSBSacramentoFieldOffice@edd.ca.gov \nB.T. Collins Army Reserve Center\n6270 Midway Street\nSacramento\, CA 95828 \nAvailable Services & Resources:\n* Federal\, State\, County\, and Private Employers & Local Resources\n* State Job Workshops
URL:https://goldensierra.com/event/veterans-job-resources-fair
CATEGORIES:Community Event,Job Seeker
END:VEVENT
BEGIN:VEVENT
DTSTART;TZID=America/Los_Angeles:20241112T103000
DTEND;TZID=America/Los_Angeles:20241112T143000
DTSTAMP:20260423T231053
CREATED:20241002T151533Z
LAST-MODIFIED:20241028T175329Z
UID:10003469-1731407400-1731421800@goldensierra.com
SUMMARY:Talk to a Recruiter
DESCRIPTION:Get expert career advice from a corporate recruiter. Join us at 10:30am for a group discussion on how to revamp your resume and prepare for interviews. Complimentary drinks and snacks will be provided from 12:00pm – 2:30pm for the post-workshop activities. Golden Sierra and Adventist Health will be at the Capital One Café inside the Westfield Galleria at Roseville to provide one-on-one resume critiques and discuss open positions. Registration is not required. Walk-ins are welcome to join. \nFlyer
URL:https://goldensierra.com/event/job-search-assistance
LOCATION:Capital One Café (Westfield Galleria at Roseville)\, 1151 Galleria Boulevard\, Suite 145\, Roseville\, CA\, 95678\, United States
CATEGORIES:Community Event,Job Seeker
GEO:38.7729363;-121.2694768
X-APPLE-STRUCTURED-LOCATION;VALUE=URI;X-ADDRESS=Capital One Café (Westfield Galleria at Roseville) 1151 Galleria Boulevard Suite 145 Roseville CA 95678 United States;X-APPLE-RADIUS=500;X-TITLE=1151 Galleria Boulevard\, Suite 145:geo:-121.2694768,38.7729363
END:VEVENT
BEGIN:VEVENT
DTSTART;TZID=America/Los_Angeles:20241118T090000
DTEND;TZID=America/Los_Angeles:20241118T153000
DTSTAMP:20260423T231053
CREATED:20241017T191302Z
LAST-MODIFIED:20241028T175543Z
UID:10003630-1731920400-1731943800@goldensierra.com
SUMMARY:Intro to Green Careers
DESCRIPTION:California Mobility Center is offering a free workshop on Green Careers. This demonstration based class will teach you about the job opportunities in the clean energy field. It also includes a free OSHA-10 certification! \nwww.californiamobilitycenter.org
URL:https://goldensierra.com/event/intro-to-green-careers
CATEGORIES:Community Event,Job Seeker
END:VEVENT
BEGIN:VEVENT
DTSTART;TZID=America/Los_Angeles:20241123T090000
DTEND;TZID=America/Los_Angeles:20241123T170000
DTSTAMP:20260423T231053
CREATED:20241017T190824Z
LAST-MODIFIED:20241024T192958Z
UID:10003629-1732352400-1732381200@goldensierra.com
SUMMARY:Forklift Certification Training
DESCRIPTION:California Mobility Center’s – Free Training! \nFORKLIFT CERTIFICATION \nNovember 2\, November 8\, November 15\, November 23 (9am-5pm) \nLearn how to drive on our electric forklift and earn your certification card!  Must pass the two part written and physical driving exam with 100% accuracy. \nREGISTER HERE! \nwww.californiamobilitycenter.org
URL:https://goldensierra.com/event/forklift-certification-training-4
CATEGORIES:Community Event,Job Seeker
END:VEVENT
END:VCALENDAR