BEGIN:VCALENDAR
VERSION:2.0
PRODID:-//Golden Sierra Job Training Agency - ECPv6.15.20//NONSGML v1.0//EN
CALSCALE:GREGORIAN
METHOD:PUBLISH
X-ORIGINAL-URL:https://goldensierra.com
X-WR-CALDESC:Events for Golden Sierra Job Training Agency
REFRESH-INTERVAL;VALUE=DURATION:PT1H
X-Robots-Tag:noindex
X-PUBLISHED-TTL:PT1H
BEGIN:VTIMEZONE
TZID:America/Los_Angeles
BEGIN:DAYLIGHT
TZOFFSETFROM:-0800
TZOFFSETTO:-0700
TZNAME:PDT
DTSTART:20250309T100000
END:DAYLIGHT
BEGIN:STANDARD
TZOFFSETFROM:-0700
TZOFFSETTO:-0800
TZNAME:PST
DTSTART:20251102T090000
END:STANDARD
BEGIN:DAYLIGHT
TZOFFSETFROM:-0800
TZOFFSETTO:-0700
TZNAME:PDT
DTSTART:20260308T100000
END:DAYLIGHT
BEGIN:STANDARD
TZOFFSETFROM:-0700
TZOFFSETTO:-0800
TZNAME:PST
DTSTART:20261101T090000
END:STANDARD
BEGIN:DAYLIGHT
TZOFFSETFROM:-0800
TZOFFSETTO:-0700
TZNAME:PDT
DTSTART:20270314T100000
END:DAYLIGHT
BEGIN:STANDARD
TZOFFSETFROM:-0700
TZOFFSETTO:-0800
TZNAME:PST
DTSTART:20271107T090000
END:STANDARD
END:VTIMEZONE
BEGIN:VEVENT
DTSTART;TZID=America/Los_Angeles:20260101T000000
DTEND;TZID=America/Los_Angeles:20260101T235959
DTSTAMP:20260422T045126
CREATED:20251126T200753Z
LAST-MODIFIED:20251126T211932Z
UID:10004528-1767225600-1767311999@goldensierra.com
SUMMARY:New Year's Day
DESCRIPTION:Our offices will be closed in observance of the holiday.
URL:https://goldensierra.com/event/new-years-day-3
CATEGORIES:Holiday
END:VEVENT
BEGIN:VEVENT
DTSTART;TZID=America/Los_Angeles:20260119T000000
DTEND;TZID=America/Los_Angeles:20260119T235959
DTSTAMP:20260422T045126
CREATED:20251126T201017Z
LAST-MODIFIED:20251126T211839Z
UID:10004529-1768780800-1768867199@goldensierra.com
SUMMARY:Martin Luther King Jr. Day
DESCRIPTION:Our offices will be closed in observance of the holiday.
URL:https://goldensierra.com/event/martin-luther-king-jr-day-2
CATEGORIES:Holiday
END:VEVENT
END:VCALENDAR