BEGIN:VCALENDAR
VERSION:2.0
PRODID:-//Golden Sierra Job Training Agency - ECPv6.15.20//NONSGML v1.0//EN
CALSCALE:GREGORIAN
METHOD:PUBLISH
X-WR-CALNAME:Golden Sierra Job Training Agency
X-ORIGINAL-URL:https://goldensierra.com
X-WR-CALDESC:Events for Golden Sierra Job Training Agency
REFRESH-INTERVAL;VALUE=DURATION:PT1H
X-Robots-Tag:noindex
X-PUBLISHED-TTL:PT1H
BEGIN:VTIMEZONE
TZID:America/Los_Angeles
BEGIN:DAYLIGHT
TZOFFSETFROM:-0800
TZOFFSETTO:-0700
TZNAME:PDT
DTSTART:20240310T100000
END:DAYLIGHT
BEGIN:STANDARD
TZOFFSETFROM:-0700
TZOFFSETTO:-0800
TZNAME:PST
DTSTART:20241103T090000
END:STANDARD
BEGIN:DAYLIGHT
TZOFFSETFROM:-0800
TZOFFSETTO:-0700
TZNAME:PDT
DTSTART:20250309T100000
END:DAYLIGHT
BEGIN:STANDARD
TZOFFSETFROM:-0700
TZOFFSETTO:-0800
TZNAME:PST
DTSTART:20251102T090000
END:STANDARD
BEGIN:DAYLIGHT
TZOFFSETFROM:-0800
TZOFFSETTO:-0700
TZNAME:PDT
DTSTART:20260308T100000
END:DAYLIGHT
BEGIN:STANDARD
TZOFFSETFROM:-0700
TZOFFSETTO:-0800
TZNAME:PST
DTSTART:20261101T090000
END:STANDARD
END:VTIMEZONE
BEGIN:VEVENT
DTSTART;TZID=America/Los_Angeles:20251112T090000
DTEND;TZID=America/Los_Angeles:20251112T103000
DTSTAMP:20260423T024557
CREATED:20251002T164456Z
LAST-MODIFIED:20251002T164456Z
UID:10004208-1762938000-1762943400@goldensierra.com
SUMMARY:Strengthen Your Workforce
DESCRIPTION:We invite you to join us for a dynamic presentation that will help your business unlock the talent advantage of hiring candidates with disabilities. Discover the supports and services available to you. \nDuring this event\, you will: \n\nExplore resources that support a smooth\, accessible hiring process\nLearn practical strategies for recruiting and welcoming highly qualified individuals with disabilities\nHear real-world examples of how employees with disabilities contribute to strong engagement and retention rates\nGain insights into how your team will benefit from the dedication and performance that candidates with disabilities bring to the workforce\n\nPresenters: \nDot Lynch\nCareer Development Program Manager\nOdyssey Learning Center \nJessica Conant\nDisability Resource Coordinator\nGolden Sierra Job Training Agency \nRegister Here! \n 
URL:https://goldensierra.com/event/strengthen-your-workforce
LOCATION:Golden Sierra Job Training Agency\, 115 Ascot Drive\, Suite 100\, Roseville\, CA\, CA\, 95661\, United States
CATEGORIES:Digest,Employer
GEO:38.9296249;-121.0900168
X-APPLE-STRUCTURED-LOCATION;VALUE=URI;X-ADDRESS=Golden Sierra Job Training Agency 115 Ascot Drive Suite 100 Roseville CA CA 95661 United States;X-APPLE-RADIUS=500;X-TITLE=115 Ascot Drive\, Suite 100:geo:-121.0900168,38.9296249
END:VEVENT
BEGIN:VEVENT
DTSTART;TZID=America/Los_Angeles:20251112T130000
DTEND;TZID=America/Los_Angeles:20251112T160000
DTSTAMP:20260423T024557
CREATED:20250725T231157Z
LAST-MODIFIED:20251121T171016Z
UID:10004144-1762952400-1762963200@goldensierra.com
SUMMARY:Career Coaching
DESCRIPTION:One-on-one career coaching sessions are a great way to get personalized help with resume development\, interview preparation\, and job search assistance. Call the front desk or email info@goldensierra.com to request an appointment.
URL:https://goldensierra.com/event/career-coaching-2/2025-11-12
LOCATION:America’s Job Center of California – Roseville\, 115 Ascot Drive Ste. 100\, Roseville\, CA\, 95661\, United States
CATEGORIES:Job Seeker,Workshop
GEO:38.742436;-121.26857
X-APPLE-STRUCTURED-LOCATION;VALUE=URI;X-ADDRESS=America’s Job Center of California – Roseville 115 Ascot Drive Ste. 100 Roseville CA 95661 United States;X-APPLE-RADIUS=500;X-TITLE=115 Ascot Drive Ste. 100:geo:-121.26857,38.742436
END:VEVENT
END:VCALENDAR